BEGIN:VCALENDAR
VERSION:2.0
PRODID:-//Christ Presbyterian Church - ECPv6.15.20//NONSGML v1.0//EN
CALSCALE:GREGORIAN
METHOD:PUBLISH
X-ORIGINAL-URL:https://christpres.org
X-WR-CALDESC:Events for Christ Presbyterian Church
REFRESH-INTERVAL;VALUE=DURATION:PT1H
X-Robots-Tag:noindex
X-PUBLISHED-TTL:PT1H
BEGIN:VTIMEZONE
TZID:America/Chicago
BEGIN:DAYLIGHT
TZOFFSETFROM:-0600
TZOFFSETTO:-0500
TZNAME:CDT
DTSTART:20220313T080000
END:DAYLIGHT
BEGIN:STANDARD
TZOFFSETFROM:-0500
TZOFFSETTO:-0600
TZNAME:CST
DTSTART:20221106T070000
END:STANDARD
BEGIN:DAYLIGHT
TZOFFSETFROM:-0600
TZOFFSETTO:-0500
TZNAME:CDT
DTSTART:20230312T080000
END:DAYLIGHT
BEGIN:STANDARD
TZOFFSETFROM:-0500
TZOFFSETTO:-0600
TZNAME:CST
DTSTART:20231105T070000
END:STANDARD
BEGIN:DAYLIGHT
TZOFFSETFROM:-0600
TZOFFSETTO:-0500
TZNAME:CDT
DTSTART:20240310T080000
END:DAYLIGHT
BEGIN:STANDARD
TZOFFSETFROM:-0500
TZOFFSETTO:-0600
TZNAME:CST
DTSTART:20241103T070000
END:STANDARD
END:VTIMEZONE
BEGIN:VEVENT
DTSTART;VALUE=DATE:20230428
DTEND;VALUE=DATE:20230501
DTSTAMP:20260425T213043
CREATED:20230424T134736Z
LAST-MODIFIED:20230424T134736Z
UID:10001435-1682640000-1682899199@christpres.org
SUMMARY:Camp Dove – For Deaf Youth Ages 7-14
DESCRIPTION:April 28-30\, 2023\nDeer Run Camp Retreat Center \nEnjoy a weekend overnight camp for Deaf youth – full of games\, activities\, and opportunities to learn about Jesus! (ASL – American Sign Language) \nFor more information\, contact Judi Oliver or Tammy Bowman.\nEspanol? Informacion – Joy Harris. \nDiscover More & Register as a Participant or Volunteer Here.
URL:https://christpres.org/coolsprings/event/camp-dove-for-deaf-youth-ages-7-14/
LOCATION:Deer Run Retreat Center\, 3845 Perkins Rd\, Thompson's Station\, TN\, 37179\, United States
ATTACH;FMTTYPE=image/jpeg:https://christpres.org/wp-content/uploads/2023/01/DSC_0168-scaled.jpeg
ORGANIZER;CN="Paul Whitten":MAILTO:pwhitten@christpres.org
END:VEVENT
BEGIN:VEVENT
DTSTART;TZID=America/Chicago:20230429T123000
DTEND;TZID=America/Chicago:20230429T143000
DTSTAMP:20260425T213043
CREATED:20230314T220759Z
LAST-MODIFIED:20230419T171949Z
UID:10001331-1682771400-1682778600@christpres.org
SUMMARY:Student Ministry – Nashville SC Game
DESCRIPTION:It’s game time! Student Ministry (grades 6-12) at both our Cool Springs and Music Row campuses are heading to a Nashville SC Major League Soccer match at GEODIS Park! We’ll cheer on Nashville together as they host Atlanta FC. \nPlease RSVP below and let us know if you need transportation. \nRSVP Here.
URL:https://christpres.org/coolsprings/event/student-ministry-nashville-sc-game/
LOCATION:GEODIS Park\, 501 Benton Ave.\, Nashville\, TN\, 37203\, United States
ATTACH;FMTTYPE=image/jpeg:https://christpres.org/wp-content/uploads/2023/03/Nashville-SC-Game_Website.jpg
END:VEVENT
END:VCALENDAR