BEGIN:VCALENDAR
VERSION:2.0
PRODID:-//Christ Presbyterian Church - ECPv6.15.20//NONSGML v1.0//EN
CALSCALE:GREGORIAN
METHOD:PUBLISH
X-ORIGINAL-URL:https://christpres.org
X-WR-CALDESC:Events for Christ Presbyterian Church
REFRESH-INTERVAL;VALUE=DURATION:PT1H
X-Robots-Tag:noindex
X-PUBLISHED-TTL:PT1H
BEGIN:VTIMEZONE
TZID:America/Chicago
BEGIN:DAYLIGHT
TZOFFSETFROM:-0600
TZOFFSETTO:-0500
TZNAME:CDT
DTSTART:20220313T080000
END:DAYLIGHT
BEGIN:STANDARD
TZOFFSETFROM:-0500
TZOFFSETTO:-0600
TZNAME:CST
DTSTART:20221106T070000
END:STANDARD
BEGIN:DAYLIGHT
TZOFFSETFROM:-0600
TZOFFSETTO:-0500
TZNAME:CDT
DTSTART:20230312T080000
END:DAYLIGHT
BEGIN:STANDARD
TZOFFSETFROM:-0500
TZOFFSETTO:-0600
TZNAME:CST
DTSTART:20231105T070000
END:STANDARD
BEGIN:DAYLIGHT
TZOFFSETFROM:-0600
TZOFFSETTO:-0500
TZNAME:CDT
DTSTART:20240310T080000
END:DAYLIGHT
BEGIN:STANDARD
TZOFFSETFROM:-0500
TZOFFSETTO:-0600
TZNAME:CST
DTSTART:20241103T070000
END:STANDARD
END:VTIMEZONE
BEGIN:VEVENT
DTSTART;TZID=America/Chicago:20230520T170000
DTEND;TZID=America/Chicago:20230520T200000
DTSTAMP:20260425T185736
CREATED:20230504T145830Z
LAST-MODIFIED:20230504T145830Z
UID:10001456-1684602000-1684612800@christpres.org
SUMMARY:Student Pizza Night
DESCRIPTION:Hand-crafted\, wood-fired oven pizza created by the kindest couple this side of the Mississippi?! Yes please! Student Ministry is heading to Nate & CB Yoder’s to celebrate the end of the school year with a delicious meal together! To sign up to attend and get directions\, register here.
URL:https://christpres.org/coolsprings/event/student-pizza-night/
LOCATION:TN
ATTACH;FMTTYPE=image/jpeg:https://christpres.org/wp-content/uploads/2023/05/shourav-sheikh-a66sGfOnnqQ-unsplash-scaled.jpg
ORGANIZER;CN="Nate Evans":MAILTO:nevans@christpres.org
END:VEVENT
END:VCALENDAR