BEGIN:VCALENDAR
VERSION:2.0
PRODID:-//Christ Presbyterian Church - ECPv6.15.20//NONSGML v1.0//EN
CALSCALE:GREGORIAN
METHOD:PUBLISH
X-WR-CALNAME:Christ Presbyterian Church
X-ORIGINAL-URL:https://christpres.org
X-WR-CALDESC:Events for Christ Presbyterian Church
REFRESH-INTERVAL;VALUE=DURATION:PT1H
X-Robots-Tag:noindex
X-PUBLISHED-TTL:PT1H
BEGIN:VTIMEZONE
TZID:America/Chicago
BEGIN:DAYLIGHT
TZOFFSETFROM:-0600
TZOFFSETTO:-0500
TZNAME:CDT
DTSTART:20230312T080000
END:DAYLIGHT
BEGIN:STANDARD
TZOFFSETFROM:-0500
TZOFFSETTO:-0600
TZNAME:CST
DTSTART:20231105T070000
END:STANDARD
BEGIN:DAYLIGHT
TZOFFSETFROM:-0600
TZOFFSETTO:-0500
TZNAME:CDT
DTSTART:20240310T080000
END:DAYLIGHT
BEGIN:STANDARD
TZOFFSETFROM:-0500
TZOFFSETTO:-0600
TZNAME:CST
DTSTART:20241103T070000
END:STANDARD
BEGIN:DAYLIGHT
TZOFFSETFROM:-0600
TZOFFSETTO:-0500
TZNAME:CDT
DTSTART:20250309T080000
END:DAYLIGHT
BEGIN:STANDARD
TZOFFSETFROM:-0500
TZOFFSETTO:-0600
TZNAME:CST
DTSTART:20251102T070000
END:STANDARD
END:VTIMEZONE
BEGIN:VEVENT
DTSTART;TZID=America/Chicago:20240526T094500
DTEND;TZID=America/Chicago:20240526T102500
DTSTAMP:20260420T090503
CREATED:20230803T213252Z
LAST-MODIFIED:20230807T220913Z
UID:10002133-1716716700-1716719100@christpres.org
SUMMARY:Student Learning Group
DESCRIPTION:All 6th-12th graders are welcome to join us in Room 101 as we dig into God’s Word together on Sunday mornings at 9:45 a.m.\, between the worship services. We will begin going through the Gospel Project curriculum which will take us through all of Scripture in the course of a 3-year span!
URL:https://christpres.org/coolsprings/event/student-learning-group/2024-05-26/
LOCATION:Christ Presbyterian Church – Cool Springs\, 325 Seaboard Ln\, Suite 100\, Franklin\, TN\, 37067
ATTACH;FMTTYPE=image/jpeg:https://christpres.org/wp-content/uploads/2023/08/Student-Learning-Group_Website-09-scaled.jpg
ORGANIZER;CN="Nate Evans":MAILTO:nevans@christpres.org
END:VEVENT
END:VCALENDAR