BEGIN:VCALENDAR
VERSION:2.0
PRODID:-//Christ Presbyterian Church - ECPv6.15.20//NONSGML v1.0//EN
CALSCALE:GREGORIAN
METHOD:PUBLISH
X-ORIGINAL-URL:https://christpres.org
X-WR-CALDESC:Events for Christ Presbyterian Church
REFRESH-INTERVAL;VALUE=DURATION:PT1H
X-Robots-Tag:noindex
X-PUBLISHED-TTL:PT1H
BEGIN:VTIMEZONE
TZID:America/Chicago
BEGIN:DAYLIGHT
TZOFFSETFROM:-0600
TZOFFSETTO:-0500
TZNAME:CDT
DTSTART:20230312T080000
END:DAYLIGHT
BEGIN:STANDARD
TZOFFSETFROM:-0500
TZOFFSETTO:-0600
TZNAME:CST
DTSTART:20231105T070000
END:STANDARD
BEGIN:DAYLIGHT
TZOFFSETFROM:-0600
TZOFFSETTO:-0500
TZNAME:CDT
DTSTART:20240310T080000
END:DAYLIGHT
BEGIN:STANDARD
TZOFFSETFROM:-0500
TZOFFSETTO:-0600
TZNAME:CST
DTSTART:20241103T070000
END:STANDARD
BEGIN:DAYLIGHT
TZOFFSETFROM:-0600
TZOFFSETTO:-0500
TZNAME:CDT
DTSTART:20250309T080000
END:DAYLIGHT
BEGIN:STANDARD
TZOFFSETFROM:-0500
TZOFFSETTO:-0600
TZNAME:CST
DTSTART:20251102T070000
END:STANDARD
END:VTIMEZONE
BEGIN:VEVENT
DTSTART;TZID=America/Chicago:20240707T094500
DTEND;TZID=America/Chicago:20240707T103000
DTSTAMP:20260419T220013
CREATED:20240424T190934Z
LAST-MODIFIED:20240424T194225Z
UID:10004536-1720345500-1720348200@christpres.org
SUMMARY:Summer Student Learning Group
DESCRIPTION:All 6th-12th graders are welcome to join us in Room 101 as we dig into God’s Word together on Sunday mornings at 9:45 a.m.\, between the worship services. This summer\, we’ll be reading the book “Gentle and Lowly: The Heart of Christ for Sinners and Sufferers” by Dane Ortlund. If you need a copy of Gentle and Lowly\, reach out to Nate Evans at nevans@christpres.org. \nSchedule: \nMay 19: Intro \nMay 26: Memorial Day – Not Meeting \nJune 2: Ch. 1-2 \nJune 9:  Ch. 3-5 \nJune 16: Ch. 6-7 \nJune 23: Ch. 8-9 \nJune 30: Ch. 10-12 \nJuly 7: Ch. 13-14 \nJuly 14: Ch. 15-16 \nJuly 21: Ch. 17-18 \nJuly 28: Ch. 19-21 \nAugust 4: Ch. 22-23
URL:https://christpres.org/coolsprings/event/summer-student-learning-group/2024-07-07/
LOCATION:Christ Presbyterian Church – Cool Springs\, 325 Seaboard Ln\, Suite 100\, Franklin\, TN\, 37067
ATTACH;FMTTYPE=image/jpeg:https://christpres.org/wp-content/uploads/2024/04/Student-Learning-Group_Website-09-2048x1152-1.jpg
ORGANIZER;CN="Nate Evans":MAILTO:nevans@christpres.org
END:VEVENT
BEGIN:VEVENT
DTSTART;VALUE=DATE:20240708
DTEND;VALUE=DATE:20240714
DTSTAMP:20260419T220013
CREATED:20240215T213426Z
LAST-MODIFIED:20240215T213426Z
UID:10004121-1720396800-1720915199@christpres.org
SUMMARY:High School Summer Camp
DESCRIPTION:Mark your calendars! High School Camp is coming July 8-13. \nMore details coming soon…
URL:https://christpres.org/event/high-school-summer-camp/
LOCATION:TN
ATTACH;FMTTYPE=image/jpeg:https://christpres.org/wp-content/uploads/2024/02/Student-Summer-Camps-2024_Slide-scaled.jpg
END:VEVENT
BEGIN:VEVENT
DTSTART;TZID=America/Chicago:20240714T094500
DTEND;TZID=America/Chicago:20240714T103000
DTSTAMP:20260419T220013
CREATED:20240424T190934Z
LAST-MODIFIED:20240424T194225Z
UID:10004537-1720950300-1720953000@christpres.org
SUMMARY:Summer Student Learning Group
DESCRIPTION:All 6th-12th graders are welcome to join us in Room 101 as we dig into God’s Word together on Sunday mornings at 9:45 a.m.\, between the worship services. This summer\, we’ll be reading the book “Gentle and Lowly: The Heart of Christ for Sinners and Sufferers” by Dane Ortlund. If you need a copy of Gentle and Lowly\, reach out to Nate Evans at nevans@christpres.org. \nSchedule: \nMay 19: Intro \nMay 26: Memorial Day – Not Meeting \nJune 2: Ch. 1-2 \nJune 9:  Ch. 3-5 \nJune 16: Ch. 6-7 \nJune 23: Ch. 8-9 \nJune 30: Ch. 10-12 \nJuly 7: Ch. 13-14 \nJuly 14: Ch. 15-16 \nJuly 21: Ch. 17-18 \nJuly 28: Ch. 19-21 \nAugust 4: Ch. 22-23
URL:https://christpres.org/coolsprings/event/summer-student-learning-group/2024-07-14/
LOCATION:Christ Presbyterian Church – Cool Springs\, 325 Seaboard Ln\, Suite 100\, Franklin\, TN\, 37067
ATTACH;FMTTYPE=image/jpeg:https://christpres.org/wp-content/uploads/2024/04/Student-Learning-Group_Website-09-2048x1152-1.jpg
ORGANIZER;CN="Nate Evans":MAILTO:nevans@christpres.org
END:VEVENT
BEGIN:VEVENT
DTSTART;TZID=America/Chicago:20240719T090000
DTEND;TZID=America/Chicago:20240719T130000
DTSTAMP:20260419T220013
CREATED:20240619T154401Z
LAST-MODIFIED:20240619T154413Z
UID:10004630-1721379600-1721394000@christpres.org
SUMMARY:Student Lake Day (Middle School)
DESCRIPTION:Come join us at Percy Priest Lake for a fun day out on the water together! We will hang out near the water\, have lunch together\, and take smaller groups of students out on the boat(s). Friends are welcome. \nParents are welcome to stay and hang around with us. If you are interested in helping pick up food day-of\, note that in the sign up form. \n**Note: There is a $5 Parking Fee\, so carpooling is encouraged. \nSign Up Here.
URL:https://christpres.org/coolsprings/event/student-lake-days-middle-school/
LOCATION:TN
ATTACH;FMTTYPE=image/png:https://christpres.org/wp-content/uploads/2024/06/StudentLakeDays.png
ORGANIZER;CN="Nate Evans":MAILTO:nevans@christpres.org
END:VEVENT
BEGIN:VEVENT
DTSTART;TZID=America/Chicago:20240721T094500
DTEND;TZID=America/Chicago:20240721T103000
DTSTAMP:20260419T220013
CREATED:20240424T190934Z
LAST-MODIFIED:20240424T194225Z
UID:10004538-1721555100-1721557800@christpres.org
SUMMARY:Summer Student Learning Group
DESCRIPTION:All 6th-12th graders are welcome to join us in Room 101 as we dig into God’s Word together on Sunday mornings at 9:45 a.m.\, between the worship services. This summer\, we’ll be reading the book “Gentle and Lowly: The Heart of Christ for Sinners and Sufferers” by Dane Ortlund. If you need a copy of Gentle and Lowly\, reach out to Nate Evans at nevans@christpres.org. \nSchedule: \nMay 19: Intro \nMay 26: Memorial Day – Not Meeting \nJune 2: Ch. 1-2 \nJune 9:  Ch. 3-5 \nJune 16: Ch. 6-7 \nJune 23: Ch. 8-9 \nJune 30: Ch. 10-12 \nJuly 7: Ch. 13-14 \nJuly 14: Ch. 15-16 \nJuly 21: Ch. 17-18 \nJuly 28: Ch. 19-21 \nAugust 4: Ch. 22-23
URL:https://christpres.org/coolsprings/event/summer-student-learning-group/2024-07-21/
LOCATION:Christ Presbyterian Church – Cool Springs\, 325 Seaboard Ln\, Suite 100\, Franklin\, TN\, 37067
ATTACH;FMTTYPE=image/jpeg:https://christpres.org/wp-content/uploads/2024/04/Student-Learning-Group_Website-09-2048x1152-1.jpg
ORGANIZER;CN="Nate Evans":MAILTO:nevans@christpres.org
END:VEVENT
BEGIN:VEVENT
DTSTART;TZID=America/Chicago:20240728T094500
DTEND;TZID=America/Chicago:20240728T103000
DTSTAMP:20260419T220013
CREATED:20240424T190934Z
LAST-MODIFIED:20240424T194225Z
UID:10004539-1722159900-1722162600@christpres.org
SUMMARY:Summer Student Learning Group
DESCRIPTION:All 6th-12th graders are welcome to join us in Room 101 as we dig into God’s Word together on Sunday mornings at 9:45 a.m.\, between the worship services. This summer\, we’ll be reading the book “Gentle and Lowly: The Heart of Christ for Sinners and Sufferers” by Dane Ortlund. If you need a copy of Gentle and Lowly\, reach out to Nate Evans at nevans@christpres.org. \nSchedule: \nMay 19: Intro \nMay 26: Memorial Day – Not Meeting \nJune 2: Ch. 1-2 \nJune 9:  Ch. 3-5 \nJune 16: Ch. 6-7 \nJune 23: Ch. 8-9 \nJune 30: Ch. 10-12 \nJuly 7: Ch. 13-14 \nJuly 14: Ch. 15-16 \nJuly 21: Ch. 17-18 \nJuly 28: Ch. 19-21 \nAugust 4: Ch. 22-23
URL:https://christpres.org/coolsprings/event/summer-student-learning-group/2024-07-28/
LOCATION:Christ Presbyterian Church – Cool Springs\, 325 Seaboard Ln\, Suite 100\, Franklin\, TN\, 37067
ATTACH;FMTTYPE=image/jpeg:https://christpres.org/wp-content/uploads/2024/04/Student-Learning-Group_Website-09-2048x1152-1.jpg
ORGANIZER;CN="Nate Evans":MAILTO:nevans@christpres.org
END:VEVENT
END:VCALENDAR