BEGIN:VCALENDAR
VERSION:2.0
PRODID:-//Christ Presbyterian Church - ECPv6.15.20//NONSGML v1.0//EN
CALSCALE:GREGORIAN
METHOD:PUBLISH
X-ORIGINAL-URL:https://christpres.org
X-WR-CALDESC:Events for Christ Presbyterian Church
REFRESH-INTERVAL;VALUE=DURATION:PT1H
X-Robots-Tag:noindex
X-PUBLISHED-TTL:PT1H
BEGIN:VTIMEZONE
TZID:America/New_York
BEGIN:DAYLIGHT
TZOFFSETFROM:-0500
TZOFFSETTO:-0400
TZNAME:EDT
DTSTART:20210314T070000
END:DAYLIGHT
BEGIN:STANDARD
TZOFFSETFROM:-0400
TZOFFSETTO:-0500
TZNAME:EST
DTSTART:20211107T060000
END:STANDARD
BEGIN:DAYLIGHT
TZOFFSETFROM:-0500
TZOFFSETTO:-0400
TZNAME:EDT
DTSTART:20220313T070000
END:DAYLIGHT
BEGIN:STANDARD
TZOFFSETFROM:-0400
TZOFFSETTO:-0500
TZNAME:EST
DTSTART:20221106T060000
END:STANDARD
BEGIN:DAYLIGHT
TZOFFSETFROM:-0500
TZOFFSETTO:-0400
TZNAME:EDT
DTSTART:20230312T070000
END:DAYLIGHT
BEGIN:STANDARD
TZOFFSETFROM:-0400
TZOFFSETTO:-0500
TZNAME:EST
DTSTART:20231105T060000
END:STANDARD
END:VTIMEZONE
BEGIN:VEVENT
DTSTART;TZID=America/New_York:20220712T183000
DTEND;TZID=America/New_York:20220712T200000
DTSTAMP:20260425T081805
CREATED:20220628T161331Z
LAST-MODIFIED:20230419T160742Z
UID:10000239-1657650600-1657656000@christpres.org
SUMMARY:Women's Summer Book Club Wrap-Up
DESCRIPTION:Did you miss the Summer Book Club Kick-Off but would still like an easy way to connect with other women this summer that also provides a space to share real life and real hope? \nIf so\, read Hope Heals by Katherine and Jay Wolf and plan to attend the July 12 Wrap-Up to discuss the book in small group settings. \nRead the book: You can either read independently or ask a friend or two to read/discuss along with you. Books can be purchased at Logos Bookstore in Green Hills or on Amazon. \nWrap-Up: July 12 @ 6:30 P.M. – We’ll gather on the Breezeway for light refreshments and to share in small group settings what we learned during our individual readings of Hope Heals. If you read the book with a group\, have them sign up to attend\, too! \nSign up by Thursday\, July 7 \nBook Club Sign Up
URL:https://christpres.org/ohb/event/womens-summer-book-club-wrap-up/
LOCATION:Christ Presbyterian Church – Old Hickory Blvd\, 2323 Old Hickory Boulevard\, Nashville\, TN\, 37215\, United States
ATTACH;FMTTYPE=image/png:https://christpres.org/wp-content/uploads/2022/06/Frame-175.png
END:VEVENT
END:VCALENDAR