BEGIN:VCALENDAR
VERSION:2.0
PRODID:-//Christ Presbyterian Church - ECPv6.15.20//NONSGML v1.0//EN
CALSCALE:GREGORIAN
METHOD:PUBLISH
X-WR-CALNAME:Christ Presbyterian Church
X-ORIGINAL-URL:https://christpres.org
X-WR-CALDESC:Events for Christ Presbyterian Church
REFRESH-INTERVAL;VALUE=DURATION:PT1H
X-Robots-Tag:noindex
X-PUBLISHED-TTL:PT1H
BEGIN:VTIMEZONE
TZID:America/Chicago
BEGIN:DAYLIGHT
TZOFFSETFROM:-0600
TZOFFSETTO:-0500
TZNAME:CDT
DTSTART:20210314T080000
END:DAYLIGHT
BEGIN:STANDARD
TZOFFSETFROM:-0500
TZOFFSETTO:-0600
TZNAME:CST
DTSTART:20211107T070000
END:STANDARD
BEGIN:DAYLIGHT
TZOFFSETFROM:-0600
TZOFFSETTO:-0500
TZNAME:CDT
DTSTART:20220313T080000
END:DAYLIGHT
BEGIN:STANDARD
TZOFFSETFROM:-0500
TZOFFSETTO:-0600
TZNAME:CST
DTSTART:20221106T070000
END:STANDARD
BEGIN:DAYLIGHT
TZOFFSETFROM:-0600
TZOFFSETTO:-0500
TZNAME:CDT
DTSTART:20230312T080000
END:DAYLIGHT
BEGIN:STANDARD
TZOFFSETFROM:-0500
TZOFFSETTO:-0600
TZNAME:CST
DTSTART:20231105T070000
END:STANDARD
END:VTIMEZONE
BEGIN:VEVENT
DTSTART;VALUE=DATE:20220814
DTEND;VALUE=DATE:20220912
DTSTAMP:20260420T022011
CREATED:20220809T153354Z
LAST-MODIFIED:20220809T192456Z
UID:10000270-1660435200-1662940799@christpres.org
SUMMARY:Connect Group Signup
DESCRIPTION:You can participate in a Fall Connect Group through either gender-specific groups or coed groups. You might even want to do both! Connect groups are generally composed of 6 to 12 people who agree to meet for 8 weeks at various times and places to connect\, encourage\, and pray for one another as they study a passage of scripture together. \nRegister for a Women’s group\nRegister for a Men’s group\nRegister for a Coed group
URL:https://christpres.org/ohb/event/connect-group-signup/
LOCATION:TN
ATTACH;FMTTYPE=image/png:https://christpres.org/wp-content/uploads/2022/08/Fall-Connect-Groups-01.png
END:VEVENT
BEGIN:VEVENT
DTSTART;TZID=America/Chicago:20220907T063000
DTEND;TZID=America/Chicago:20220907T074500
DTSTAMP:20260420T022011
CREATED:20220817T212421Z
LAST-MODIFIED:20220818T183402Z
UID:10000166-1662532200-1662536700@christpres.org
SUMMARY:Men's Bible Study
DESCRIPTION:Beginning on Wednesday\, August 24th\, we are starting our CPC Music Row Men’s Bible study. We will meet from 6:30-7:45 am at the office of Barry Simmons in Marathon Village (1200 Clinton Street #233 Nashville\, TN 37203). Matt Walker and I will be co-leading through the Gospel of Mark this fall. We will meet weekly\, and our fall study will run from August 24th to October 5th and then from October 19th through November.
URL:https://christpres.org/musicrow/event/mens-bible-study/2022-09-07/
LOCATION:TN
ATTACH;FMTTYPE=image/png:https://christpres.org/wp-content/uploads/2022/08/Add-a-heading.png
END:VEVENT
BEGIN:VEVENT
DTSTART;TZID=America/Chicago:20220907T190000
DTEND;TZID=America/Chicago:20220907T203000
DTSTAMP:20260420T022011
CREATED:20220810T201442Z
LAST-MODIFIED:20220810T215126Z
UID:10000272-1662577200-1662582600@christpres.org
SUMMARY:Young Professionals
DESCRIPTION:Nashville is a transitory city for many young professionals. We desire Christ Presbyterian Church at Music Row to be a home and landing spot for you to worship\, connect\, and serve. \n\n\n\n\n\nYoung Professionals is a three-month program\, beginning September 7\,  designed to help you integrate into the church and launch you into the city as a follower of Christ. \n\nClick here for more details and to register.
URL:https://christpres.org/musicrow/event/young-professionals/
LOCATION:Martin’s BBQ\, 2400 ELLISTON PL\, NASHVILLE\, TN\, 37203
ATTACH;FMTTYPE=image/png:https://christpres.org/wp-content/uploads/2022/08/Nashville-Skyline.png
END:VEVENT
END:VCALENDAR