BEGIN:VCALENDAR
VERSION:2.0
PRODID:-//Christ Presbyterian Church - ECPv6.15.20//NONSGML v1.0//EN
CALSCALE:GREGORIAN
METHOD:PUBLISH
X-ORIGINAL-URL:https://christpres.org
X-WR-CALDESC:Events for Christ Presbyterian Church
REFRESH-INTERVAL;VALUE=DURATION:PT1H
X-Robots-Tag:noindex
X-PUBLISHED-TTL:PT1H
BEGIN:VTIMEZONE
TZID:America/Chicago
BEGIN:DAYLIGHT
TZOFFSETFROM:-0600
TZOFFSETTO:-0500
TZNAME:CDT
DTSTART:20210314T080000
END:DAYLIGHT
BEGIN:STANDARD
TZOFFSETFROM:-0500
TZOFFSETTO:-0600
TZNAME:CST
DTSTART:20211107T070000
END:STANDARD
BEGIN:DAYLIGHT
TZOFFSETFROM:-0600
TZOFFSETTO:-0500
TZNAME:CDT
DTSTART:20220313T080000
END:DAYLIGHT
BEGIN:STANDARD
TZOFFSETFROM:-0500
TZOFFSETTO:-0600
TZNAME:CST
DTSTART:20221106T070000
END:STANDARD
BEGIN:DAYLIGHT
TZOFFSETFROM:-0600
TZOFFSETTO:-0500
TZNAME:CDT
DTSTART:20230312T080000
END:DAYLIGHT
BEGIN:STANDARD
TZOFFSETFROM:-0500
TZOFFSETTO:-0600
TZNAME:CST
DTSTART:20231105T070000
END:STANDARD
END:VTIMEZONE
BEGIN:VEVENT
DTSTART;VALUE=DATE:20220814
DTEND;VALUE=DATE:20220912
DTSTAMP:20260422T031732
CREATED:20220809T153354Z
LAST-MODIFIED:20220809T192456Z
UID:10000270-1660435200-1662940799@christpres.org
SUMMARY:Connect Group Signup
DESCRIPTION:You can participate in a Fall Connect Group through either gender-specific groups or coed groups. You might even want to do both! Connect groups are generally composed of 6 to 12 people who agree to meet for 8 weeks at various times and places to connect\, encourage\, and pray for one another as they study a passage of scripture together. \nRegister for a Women’s group\nRegister for a Men’s group\nRegister for a Coed group
URL:https://christpres.org/ohb/event/connect-group-signup/
LOCATION:TN
ATTACH;FMTTYPE=image/png:https://christpres.org/wp-content/uploads/2022/08/Fall-Connect-Groups-01.png
END:VEVENT
BEGIN:VEVENT
DTSTART;TZID=America/Chicago:20220911T113000
DTEND;TZID=America/Chicago:20220911T113000
DTSTAMP:20260422T031732
CREATED:20220901T230754Z
LAST-MODIFIED:20220901T230754Z
UID:10000185-1662895800-1662895800@christpres.org
SUMMARY:Fall Kickoff: Worship\, Connect\, Serve Sunday
DESCRIPTION:This week we’ll have a special service focused on ways you can worship\, connect\, and serve at CPC Cool Springs this fall. Join us to hear more about our discipleship pathway at Christ Presbyterian and ways the whole family can grow together in Christ and in community this fall. We’ll have sign ups for fall Bible studies\, serving opportunities\, and more!
URL:https://christpres.org/coolsprings/event/fall-kickoff-worship-connect-serve-sunday/
LOCATION:Christ Presbyterian Church – Cool Springs\, 325 Seaboard Ln\, Suite 100\, Franklin\, TN\, 37067
ATTACH;FMTTYPE=image/png:https://christpres.org/wp-content/uploads/2022/09/Fall-Kickoff.png
END:VEVENT
BEGIN:VEVENT
DTSTART;TZID=America/Chicago:20220911T113000
DTEND;TZID=America/Chicago:20220911T130000
DTSTAMP:20260422T031732
CREATED:20220817T162507Z
LAST-MODIFIED:20220906T150455Z
UID:10000162-1662895800-1662901200@christpres.org
SUMMARY:Fall Kickoff & Formation Hour
DESCRIPTION:There are two opportunities to connect and kick off the fall at Music Row! Connect Group Leaders will be available after the service to tell you more about their groups\, and you can sign up for a CG in your neighborhood. Formation Hour is an hour of additional teaching and connection for adults and kids after the service. You won’t want to miss this special Sunday!
URL:https://christpres.org/musicrow/event/fall-kickoff-formation-hour/
LOCATION:Scarritt Bennett Center\, 1110 19th Ave S\, Nashville\, TN\, 37209\, United States
ATTACH;FMTTYPE=image/png:https://christpres.org/wp-content/uploads/2022/09/Add-a-heading-1.png
END:VEVENT
BEGIN:VEVENT
DTSTART;TZID=America/Chicago:20220911T173000
DTEND;TZID=America/Chicago:20220911T190000
DTSTAMP:20260422T031732
CREATED:20220831T060041Z
LAST-MODIFIED:20220907T182615Z
UID:10000283-1662917400-1662922800@christpres.org
SUMMARY:The Ascent
DESCRIPTION:The Ascent is a group that meets twice a month with a time of fellowship\, amazing worship\, a fun activity\, and a message geared toward adults with special needs. \nVOLUNTEERS NEEDED\nYou can serve by helping provide the meal\, or coming to spend time getting to know the friends! \n\n\n\n\nParticipants and volunteers\, sign up here.\n\n\n  \nMark your calendars for the remaining Ascent events for this school year:\nSeptember 25\nOctober 9\nOctober 23\nNovember 13\nDecember 11\nJanuary 8\, 2023\nJanuary 22\, 2023\nFebruary 12\, 2023\nFebruary 26\, 2023\nMarch 12\, 2023\nMarch 26\, 2023\nApril 23\, 2023\nMay 7\, 2023
URL:https://christpres.org/ohb/event/the-ascent-5/
LOCATION:Christ Presbyterian Church – Old Hickory Blvd\, 2323 Old Hickory Boulevard\, Nashville\, TN\, 37215\, United States
ATTACH;FMTTYPE=image/jpeg:https://christpres.org/wp-content/uploads/2022/06/TheAscent_FB.jpeg
END:VEVENT
END:VCALENDAR