BEGIN:VCALENDAR
VERSION:2.0
PRODID:-//Christ Presbyterian Church - ECPv6.15.20//NONSGML v1.0//EN
CALSCALE:GREGORIAN
METHOD:PUBLISH
X-WR-CALNAME:Christ Presbyterian Church
X-ORIGINAL-URL:https://christpres.org
X-WR-CALDESC:Events for Christ Presbyterian Church
REFRESH-INTERVAL;VALUE=DURATION:PT1H
X-Robots-Tag:noindex
X-PUBLISHED-TTL:PT1H
BEGIN:VTIMEZONE
TZID:America/Chicago
BEGIN:DAYLIGHT
TZOFFSETFROM:-0600
TZOFFSETTO:-0500
TZNAME:CDT
DTSTART:20210314T080000
END:DAYLIGHT
BEGIN:STANDARD
TZOFFSETFROM:-0500
TZOFFSETTO:-0600
TZNAME:CST
DTSTART:20211107T070000
END:STANDARD
BEGIN:DAYLIGHT
TZOFFSETFROM:-0600
TZOFFSETTO:-0500
TZNAME:CDT
DTSTART:20220313T080000
END:DAYLIGHT
BEGIN:STANDARD
TZOFFSETFROM:-0500
TZOFFSETTO:-0600
TZNAME:CST
DTSTART:20221106T070000
END:STANDARD
BEGIN:DAYLIGHT
TZOFFSETFROM:-0600
TZOFFSETTO:-0500
TZNAME:CDT
DTSTART:20230312T080000
END:DAYLIGHT
BEGIN:STANDARD
TZOFFSETFROM:-0500
TZOFFSETTO:-0600
TZNAME:CST
DTSTART:20231105T070000
END:STANDARD
END:VTIMEZONE
BEGIN:VTIMEZONE
TZID:America/New_York
BEGIN:DAYLIGHT
TZOFFSETFROM:-0500
TZOFFSETTO:-0400
TZNAME:EDT
DTSTART:20210314T070000
END:DAYLIGHT
BEGIN:STANDARD
TZOFFSETFROM:-0400
TZOFFSETTO:-0500
TZNAME:EST
DTSTART:20211107T060000
END:STANDARD
BEGIN:DAYLIGHT
TZOFFSETFROM:-0500
TZOFFSETTO:-0400
TZNAME:EDT
DTSTART:20220313T070000
END:DAYLIGHT
BEGIN:STANDARD
TZOFFSETFROM:-0400
TZOFFSETTO:-0500
TZNAME:EST
DTSTART:20221106T060000
END:STANDARD
BEGIN:DAYLIGHT
TZOFFSETFROM:-0500
TZOFFSETTO:-0400
TZNAME:EDT
DTSTART:20230312T070000
END:DAYLIGHT
BEGIN:STANDARD
TZOFFSETFROM:-0400
TZOFFSETTO:-0500
TZNAME:EST
DTSTART:20231105T060000
END:STANDARD
END:VTIMEZONE
BEGIN:VEVENT
DTSTART;TZID=America/Chicago:20220925T084500
DTEND;TZID=America/Chicago:20220925T084500
DTSTAMP:20260420T010723
CREATED:20220901T232715Z
LAST-MODIFIED:20220901T232715Z
UID:10000201-1664095500-1664095500@christpres.org
SUMMARY:Student Bible Study
DESCRIPTION:Students in grades 6–12 will begin their new fall study on Sunday September 18 at 8:45 a.m.. Join us for our study on the Miracles of Jesus. We will meet in Room 108. Sign up for the study here.
URL:https://christpres.org/coolsprings/event/student-bible-study/2022-09-25/
LOCATION:TN
ATTACH;FMTTYPE=image/png:https://christpres.org/wp-content/uploads/2022/08/StudentsBibleStudy.png
END:VEVENT
BEGIN:VEVENT
DTSTART;TZID=America/Chicago:20220925T100000
DTEND;TZID=America/Chicago:20220925T100000
DTSTAMP:20260420T010723
CREATED:20220901T225846Z
LAST-MODIFIED:20220901T230845Z
UID:10000307-1664100000-1664100000@christpres.org
SUMMARY:Baptism + Joining Sundays
DESCRIPTION:We will have baptisms during the worship service. If you are a member of Christ Presbyterian Church and are interested in having your child baptized on this day\, please reach out to Cool Springs Administrative Assistant Elizabeth McCrina.
URL:https://christpres.org/coolsprings/event/baptism-joining-sundays/2022-09-25/
LOCATION:Christ Presbyterian Church – Cool Springs\, 325 Seaboard Ln\, Suite 100\, Franklin\, TN\, 37067
ATTACH;FMTTYPE=image/png:https://christpres.org/wp-content/uploads/2022/09/Baptism.png
END:VEVENT
BEGIN:VEVENT
DTSTART;TZID=America/Chicago:20220925T100000
DTEND;TZID=America/Chicago:20220925T105000
DTSTAMP:20260420T010723
CREATED:20220906T184652Z
LAST-MODIFIED:20220906T185748Z
UID:10000207-1664100000-1664103000@christpres.org
SUMMARY:First Grade Milestone: What’s So Special About the Bible
DESCRIPTION:Milestones are designed to provide a way to meet and build community with other families in your child’s grade while hearing an age appropriate teaching that also helps equip you in raising your children. So each year\, we will celebrate a special spiritual lesson at each Milestone. We hope these speak to both parents and children and provide an opportunity for families to talk about their faith.
URL:https://christpres.org/ohb/event/first-grade-milestone/
LOCATION:Soli Deo Center – Christ Presbyterian Academy\, 2323 Old Hickory Blvd\, Nashville\, TN\, 37215
ATTACH;FMTTYPE=image/jpeg:https://christpres.org/wp-content/uploads/2022/07/Milestones_First-Grade-scaled.jpg
END:VEVENT
BEGIN:VEVENT
DTSTART;TZID=America/Chicago:20220925T113000
DTEND;TZID=America/Chicago:20220925T133000
DTSTAMP:20260420T010723
CREATED:20220818T171054Z
LAST-MODIFIED:20220822T181424Z
UID:10000179-1664105400-1664112600@christpres.org
SUMMARY:CPC101
DESCRIPTION:Are you interested in learning more about Christ Presbyterian Church and what it means to be a member? CPC101 is a class on our mission\, values\, and core beliefs. Membership is not required once you complete CPC101\, but for those wishing to become members\, participation in CPC101 is a prerequisite. We’ll be hosting CPC101 after the 10 a.m. worship service on Sunday\, September 25. The class lasts two hours\, and lunch and childcare are provided. \n  \nPlease register for CPC101 here. If you have any questions\, please reach out to Erin McCabe. \n  \n 
URL:https://christpres.org/musicrow/event/cpc101/
LOCATION:Scarritt Bennett Center\, 1110 19th Ave S\, Nashville\, TN\, 37209\, United States
ATTACH;FMTTYPE=image/png:https://christpres.org/wp-content/uploads/2022/07/CPC101_Slide-1.png
END:VEVENT
BEGIN:VEVENT
DTSTART;TZID=America/Chicago:20220925T123000
DTEND;TZID=America/Chicago:20220925T140000
DTSTAMP:20260420T010723
CREATED:20220727T171423Z
LAST-MODIFIED:20220920T164248Z
UID:10000246-1664109000-1664114400@christpres.org
SUMMARY:Special Needs Caregiver Picnic
DESCRIPTION:The Special Needs Caregiver Support Group is a group of Christ Presbyterian moms\, dads\, grandparents\, caregivers who share in the joys and challenges of serving our children and adults with learning differences and special needs. \nRegister here.
URL:https://christpres.org/ohb/event/extreme-moms-support-group-picnic/
LOCATION:Christ Presbyterian Church – Old Hickory Blvd\, 2323 Old Hickory Boulevard\, Nashville\, TN\, 37215\, United States
ATTACH;FMTTYPE=image/jpeg:https://christpres.org/wp-content/uploads/2022/09/caregiver-picnic-e1663692133956.jpeg
END:VEVENT
BEGIN:VEVENT
DTSTART;TZID=America/New_York:20220925T173000
DTEND;TZID=America/New_York:20220925T190000
DTSTAMP:20260420T010723
CREATED:20220831T150014Z
LAST-MODIFIED:20220901T133011Z
UID:10000286-1664127000-1664132400@christpres.org
SUMMARY:The Ascent
DESCRIPTION:The Ascent is a group that meets twice a month with a time of fellowship\, amazing worship\, a fun activity\, and a message geared toward adults with special needs. \nVOLUNTEERS NEEDED\nYou can serve by helping provide the meal\, or coming to spend time getting to know the friends! \n\n\n\n\nParticipants and volunteers\, sign up here.\n\n\n  \nMark your calendars for the remaining Ascent events for this school year:\nOctober 9\nOctober 23\nNovember 13\nDecember 11\nJanuary 8\, 2023\nJanuary 22\, 2023\nFebruary 12\, 2023\nFebruary 26\, 2023\nMarch 12\, 2023\nMarch 26\, 2023\nApril 23\, 2023\nMay 7\, 2023
URL:https://christpres.org/ohb/event/the-ascent-2/
LOCATION:Christ Presbyterian Church – Old Hickory Blvd\, 2323 Old Hickory Boulevard\, Nashville\, TN\, 37215\, United States
ATTACH;FMTTYPE=image/jpeg:https://christpres.org/wp-content/uploads/2022/06/TheAscent_FB.jpeg
END:VEVENT
END:VCALENDAR