BEGIN:VCALENDAR
VERSION:2.0
PRODID:-//Christ Presbyterian Church - ECPv6.15.20//NONSGML v1.0//EN
CALSCALE:GREGORIAN
METHOD:PUBLISH
X-WR-CALNAME:Christ Presbyterian Church
X-ORIGINAL-URL:https://christpres.org
X-WR-CALDESC:Events for Christ Presbyterian Church
REFRESH-INTERVAL;VALUE=DURATION:PT1H
X-Robots-Tag:noindex
X-PUBLISHED-TTL:PT1H
BEGIN:VTIMEZONE
TZID:America/Chicago
BEGIN:DAYLIGHT
TZOFFSETFROM:-0600
TZOFFSETTO:-0500
TZNAME:CDT
DTSTART:20210314T080000
END:DAYLIGHT
BEGIN:STANDARD
TZOFFSETFROM:-0500
TZOFFSETTO:-0600
TZNAME:CST
DTSTART:20211107T070000
END:STANDARD
BEGIN:DAYLIGHT
TZOFFSETFROM:-0600
TZOFFSETTO:-0500
TZNAME:CDT
DTSTART:20220313T080000
END:DAYLIGHT
BEGIN:STANDARD
TZOFFSETFROM:-0500
TZOFFSETTO:-0600
TZNAME:CST
DTSTART:20221106T070000
END:STANDARD
BEGIN:DAYLIGHT
TZOFFSETFROM:-0600
TZOFFSETTO:-0500
TZNAME:CDT
DTSTART:20230312T080000
END:DAYLIGHT
BEGIN:STANDARD
TZOFFSETFROM:-0500
TZOFFSETTO:-0600
TZNAME:CST
DTSTART:20231105T070000
END:STANDARD
END:VTIMEZONE
BEGIN:VEVENT
DTSTART;TZID=America/Chicago:20221005T063000
DTEND;TZID=America/Chicago:20221005T074500
DTSTAMP:20260420T022011
CREATED:20220817T212421Z
LAST-MODIFIED:20220818T183402Z
UID:10000170-1664951400-1664955900@christpres.org
SUMMARY:Men's Bible Study
DESCRIPTION:Beginning on Wednesday\, August 24th\, we are starting our CPC Music Row Men’s Bible study. We will meet from 6:30-7:45 am at the office of Barry Simmons in Marathon Village (1200 Clinton Street #233 Nashville\, TN 37203). Matt Walker and I will be co-leading through the Gospel of Mark this fall. We will meet weekly\, and our fall study will run from August 24th to October 5th and then from October 19th through November.
URL:https://christpres.org/musicrow/event/mens-bible-study/2022-10-05/
LOCATION:TN
ATTACH;FMTTYPE=image/png:https://christpres.org/wp-content/uploads/2022/08/Add-a-heading.png
END:VEVENT
BEGIN:VEVENT
DTSTART;TZID=America/Chicago:20221005T180000
DTEND;TZID=America/Chicago:20221005T193000
DTSTAMP:20260420T022011
CREATED:20220901T231012Z
LAST-MODIFIED:20221005T151941Z
UID:10000187-1664992800-1664998200@christpres.org
SUMMARY:Student Hang at The Gilders’
DESCRIPTION:Students grades 6-12 are invited to come hang out every 2nd + 4th Wednesday at Joe & Pam Gilder’s house in Cottonwood. There will be pizza and games\, and a standing challenge for anyone to beat Joe in four-square. Email Joe Gilder for more information.
URL:https://christpres.org/coolsprings/event/student-hang-at-the-gilders/2022-10-05/
LOCATION:TN
ATTACH;FMTTYPE=image/jpeg:https://christpres.org/wp-content/uploads/2022/07/My-project-8-e1684935293945.jpg
END:VEVENT
BEGIN:VEVENT
DTSTART;TZID=America/Chicago:20221005T190000
DTEND;TZID=America/Chicago:20221005T203000
DTSTAMP:20260420T022011
CREATED:20220817T160628Z
LAST-MODIFIED:20220817T160637Z
UID:10000277-1664996400-1665001800@christpres.org
SUMMARY:Young Professionals
DESCRIPTION:Nashville is a transitory city for many young professionals. We desire Christ Presbyterian Church at Music Row to be a home and landing spot for you to worship\, connect\, and serve. \n\n\n\n\n\nYoung Professionals is a three-month program\, beginning September 7\,  designed to help you integrate into the church and launch you into the city as a follower of Christ. \n\nClick here for more details and to register.
URL:https://christpres.org/musicrow/event/young-professionals-5/
LOCATION:TN
ATTACH;FMTTYPE=image/png:https://christpres.org/wp-content/uploads/2022/08/Nashville-Skyline.png
END:VEVENT
END:VCALENDAR