BEGIN:VCALENDAR
VERSION:2.0
PRODID:-//Christ Presbyterian Church - ECPv6.15.20//NONSGML v1.0//EN
CALSCALE:GREGORIAN
METHOD:PUBLISH
X-ORIGINAL-URL:https://christpres.org
X-WR-CALDESC:Events for Christ Presbyterian Church
REFRESH-INTERVAL;VALUE=DURATION:PT1H
X-Robots-Tag:noindex
X-PUBLISHED-TTL:PT1H
BEGIN:VTIMEZONE
TZID:America/Chicago
BEGIN:DAYLIGHT
TZOFFSETFROM:-0600
TZOFFSETTO:-0500
TZNAME:CDT
DTSTART:20210314T080000
END:DAYLIGHT
BEGIN:STANDARD
TZOFFSETFROM:-0500
TZOFFSETTO:-0600
TZNAME:CST
DTSTART:20211107T070000
END:STANDARD
BEGIN:DAYLIGHT
TZOFFSETFROM:-0600
TZOFFSETTO:-0500
TZNAME:CDT
DTSTART:20220313T080000
END:DAYLIGHT
BEGIN:STANDARD
TZOFFSETFROM:-0500
TZOFFSETTO:-0600
TZNAME:CST
DTSTART:20221106T070000
END:STANDARD
BEGIN:DAYLIGHT
TZOFFSETFROM:-0600
TZOFFSETTO:-0500
TZNAME:CDT
DTSTART:20230312T080000
END:DAYLIGHT
BEGIN:STANDARD
TZOFFSETFROM:-0500
TZOFFSETTO:-0600
TZNAME:CST
DTSTART:20231105T070000
END:STANDARD
END:VTIMEZONE
BEGIN:VEVENT
DTSTART;TZID=America/Chicago:20221102T063000
DTEND;TZID=America/Chicago:20221102T074500
DTSTAMP:20260419T194331
CREATED:20220817T212421Z
LAST-MODIFIED:20220818T183402Z
UID:10000174-1667370600-1667375100@christpres.org
SUMMARY:Men's Bible Study
DESCRIPTION:Beginning on Wednesday\, August 24th\, we are starting our CPC Music Row Men’s Bible study. We will meet from 6:30-7:45 am at the office of Barry Simmons in Marathon Village (1200 Clinton Street #233 Nashville\, TN 37203). Matt Walker and I will be co-leading through the Gospel of Mark this fall. We will meet weekly\, and our fall study will run from August 24th to October 5th and then from October 19th through November.
URL:https://christpres.org/musicrow/event/mens-bible-study/2022-11-02/
LOCATION:TN
ATTACH;FMTTYPE=image/png:https://christpres.org/wp-content/uploads/2022/08/Add-a-heading.png
END:VEVENT
BEGIN:VEVENT
DTSTART;TZID=America/Chicago:20221102T080000
DTEND;TZID=America/Chicago:20221102T170000
DTSTAMP:20260419T194331
CREATED:20220928T182044Z
LAST-MODIFIED:20230911T210303Z
UID:10003387-1667376000-1667408400@christpres.org
SUMMARY:Missional Spotlight
DESCRIPTION:Our Missional Partners are getting a spotlight! Beginning on October 12th at 6:30pm in the Gathering Room (OHB)\, we will highlight Missional Living at Christ Presbyterian Church. \n\nOctober 12: “What Is Missional Living?” Dr. Elijah Layfield\, Director of Evangelism & Mission\nOctober 19: “Why Africa?” Emily Blackledge\, President of  African Leadership\nNovember 2: “Why Japan?” Debbie Pixley\,  Mission to the World missionary to Japan\nNovember 9: “Why London?” PM and NM\,  Serge missionaries to England\n\nCome and meet our gospel partners! For more information and to reserve your spot\, contact Elijah at elayfield@christpres.org.
URL:https://christpres.org/coolsprings/event/missional-spotlight/2022-11-02/
LOCATION:Christ Presbyterian Church – Old Hickory Blvd\, 2323 Old Hickory Boulevard\, Nashville\, TN\, 37215\, United States
ATTACH;FMTTYPE=image/png:https://christpres.org/wp-content/uploads/2022/09/Missional-Spotlight.png
END:VEVENT
BEGIN:VEVENT
DTSTART;TZID=America/Chicago:20221102T190000
DTEND;TZID=America/Chicago:20221102T203000
DTSTAMP:20260419T194331
CREATED:20220817T160958Z
LAST-MODIFIED:20220817T161008Z
UID:10000280-1667415600-1667421000@christpres.org
SUMMARY:Young Professionals
DESCRIPTION:Nashville is a transitory city for many young professionals. We desire Christ Presbyterian Church at Music Row to be a home and landing spot for you to worship\, connect\, and serve. \n\n\n\n\n\nYoung Professionals is a three-month program\, beginning September 7\,  designed to help you integrate into the church and launch you into the city as a follower of Christ. \n\nClick here for more details and to register.
URL:https://christpres.org/musicrow/event/young-professionals-8/
LOCATION:TN
ATTACH;FMTTYPE=image/png:https://christpres.org/wp-content/uploads/2022/08/Nashville-Skyline.png
END:VEVENT
END:VCALENDAR