BEGIN:VCALENDAR
VERSION:2.0
PRODID:-//Christ Presbyterian Church - ECPv6.15.20//NONSGML v1.0//EN
CALSCALE:GREGORIAN
METHOD:PUBLISH
X-WR-CALNAME:Christ Presbyterian Church
X-ORIGINAL-URL:https://christpres.org
X-WR-CALDESC:Events for Christ Presbyterian Church
REFRESH-INTERVAL;VALUE=DURATION:PT1H
X-Robots-Tag:noindex
X-PUBLISHED-TTL:PT1H
BEGIN:VTIMEZONE
TZID:America/Chicago
BEGIN:DAYLIGHT
TZOFFSETFROM:-0600
TZOFFSETTO:-0500
TZNAME:CDT
DTSTART:20210314T080000
END:DAYLIGHT
BEGIN:STANDARD
TZOFFSETFROM:-0500
TZOFFSETTO:-0600
TZNAME:CST
DTSTART:20211107T070000
END:STANDARD
BEGIN:DAYLIGHT
TZOFFSETFROM:-0600
TZOFFSETTO:-0500
TZNAME:CDT
DTSTART:20220313T080000
END:DAYLIGHT
BEGIN:STANDARD
TZOFFSETFROM:-0500
TZOFFSETTO:-0600
TZNAME:CST
DTSTART:20221106T070000
END:STANDARD
BEGIN:DAYLIGHT
TZOFFSETFROM:-0600
TZOFFSETTO:-0500
TZNAME:CDT
DTSTART:20230312T080000
END:DAYLIGHT
BEGIN:STANDARD
TZOFFSETFROM:-0500
TZOFFSETTO:-0600
TZNAME:CST
DTSTART:20231105T070000
END:STANDARD
END:VTIMEZONE
BEGIN:VEVENT
DTSTART;TZID=America/Chicago:20221204T100000
DTEND;TZID=America/Chicago:20221204T104500
DTSTAMP:20260419T173625
CREATED:20220817T171827Z
LAST-MODIFIED:20221031T193035Z
UID:10000163-1670148000-1670150700@christpres.org
SUMMARY:Newcomer's Coffee
DESCRIPTION:If you are new to Christ Presbyterian Church join us at the Newcomer’s Coffee to meet our Senior Pastor and Ministry Director find out more about the church and how to connect. \nRegister here.
URL:https://christpres.org/ohb/event/newcomers-coffee/
LOCATION:Christ Presbyterian Church – Old Hickory Blvd\, 2323 Old Hickory Boulevard\, Nashville\, TN\, 37215\, United States
ATTACH;FMTTYPE=image/png:https://christpres.org/wp-content/uploads/2022/08/Newcomers-Coffee_Website.png
END:VEVENT
BEGIN:VEVENT
DTSTART;TZID=America/Chicago:20221204T103000
DTEND;TZID=America/Chicago:20221204T103000
DTSTAMP:20260419T173625
CREATED:20220901T225846Z
LAST-MODIFIED:20220901T230845Z
UID:10000308-1670149800-1670149800@christpres.org
SUMMARY:Baptism + Joining Sundays
DESCRIPTION:We will have baptisms during the worship service. If you are a member of Christ Presbyterian Church and are interested in having your child baptized on this day\, please reach out to Cool Springs Administrative Assistant Elizabeth McCrina.
URL:https://christpres.org/coolsprings/event/baptism-joining-sundays/2022-12-04/
LOCATION:Christ Presbyterian Church – Cool Springs\, 325 Seaboard Ln\, Suite 100\, Franklin\, TN\, 37067
ATTACH;FMTTYPE=image/png:https://christpres.org/wp-content/uploads/2022/09/Baptism.png
END:VEVENT
END:VCALENDAR