BEGIN:VCALENDAR
VERSION:2.0
PRODID:-//Christ Presbyterian Church - ECPv6.15.20//NONSGML v1.0//EN
CALSCALE:GREGORIAN
METHOD:PUBLISH
X-ORIGINAL-URL:https://christpres.org
X-WR-CALDESC:Events for Christ Presbyterian Church
REFRESH-INTERVAL;VALUE=DURATION:PT1H
X-Robots-Tag:noindex
X-PUBLISHED-TTL:PT1H
BEGIN:VTIMEZONE
TZID:America/Chicago
BEGIN:DAYLIGHT
TZOFFSETFROM:-0600
TZOFFSETTO:-0500
TZNAME:CDT
DTSTART:20210314T080000
END:DAYLIGHT
BEGIN:STANDARD
TZOFFSETFROM:-0500
TZOFFSETTO:-0600
TZNAME:CST
DTSTART:20211107T070000
END:STANDARD
BEGIN:DAYLIGHT
TZOFFSETFROM:-0600
TZOFFSETTO:-0500
TZNAME:CDT
DTSTART:20220313T080000
END:DAYLIGHT
BEGIN:STANDARD
TZOFFSETFROM:-0500
TZOFFSETTO:-0600
TZNAME:CST
DTSTART:20221106T070000
END:STANDARD
BEGIN:DAYLIGHT
TZOFFSETFROM:-0600
TZOFFSETTO:-0500
TZNAME:CDT
DTSTART:20230312T080000
END:DAYLIGHT
BEGIN:STANDARD
TZOFFSETFROM:-0500
TZOFFSETTO:-0600
TZNAME:CST
DTSTART:20231105T070000
END:STANDARD
END:VTIMEZONE
BEGIN:VEVENT
DTSTART;TZID=America/Chicago:20221210T090000
DTEND;TZID=America/Chicago:20221210T110000
DTSTAMP:20260419T174204
CREATED:20221122T160015Z
LAST-MODIFIED:20221129T222030Z
UID:10000234-1670662800-1670670000@christpres.org
SUMMARY:Special Saturday
DESCRIPTION:Kids & Adults with special needs and their siblings are invited to enjoy an uplifting time of Bible stories\, music and crafts.\nREGISTER PARTICIPANTS \n\n\n\n\nVOLUNTEERS NEEDED\nOne amazing way to love families with children and adults with special needs is by serving at a Special Saturday.\nSIGN UP \n\nMark your calendars for the remaining Special Saturday events for this school year:\nJanuary 14\, 2023\nFebruary 11\, 2023\nMarch 4\, 2023\nApril 15\, 2023
URL:https://christpres.org/ohb/event/special-saturday-4/
LOCATION:Christ Presbyterian Church – Old Hickory Blvd\, 2323 Old Hickory Boulevard\, Nashville\, TN\, 37215\, United States
ATTACH;FMTTYPE=image/jpeg:https://christpres.org/wp-content/uploads/2022/07/My-project-12.jpg
END:VEVENT
BEGIN:VEVENT
DTSTART;TZID=America/Chicago:20221210T183000
DTEND;TZID=America/Chicago:20221210T183000
DTSTAMP:20260419T174204
CREATED:20221110T160859Z
LAST-MODIFIED:20221110T161235Z
UID:10000319-1670697000-1670697000@christpres.org
SUMMARY:Community Christmas
DESCRIPTION:Christ Presbyterian Church and Christ Presbyterian Academy invite you to our Community Christmas Event featuring Johnny Reid and Friends.  This will be an evening of joyful Christmas celebration with a Cookie and Cocoa reception following.  Space is limited and we expect a packed house so please register here today.
URL:https://christpres.org/ohb/event/community-christmas/
LOCATION:Christ Presbyterian Church – Old Hickory Blvd\, 2323 Old Hickory Boulevard\, Nashville\, TN\, 37215\, United States
ATTACH;FMTTYPE=image/png:https://christpres.org/wp-content/uploads/2022/11/Community-Christmas_Website_Website.png
END:VEVENT
END:VCALENDAR