BEGIN:VCALENDAR
VERSION:2.0
PRODID:-//Christ Presbyterian Church - ECPv6.15.20//NONSGML v1.0//EN
CALSCALE:GREGORIAN
METHOD:PUBLISH
X-ORIGINAL-URL:https://christpres.org
X-WR-CALDESC:Events for Christ Presbyterian Church
REFRESH-INTERVAL;VALUE=DURATION:PT1H
X-Robots-Tag:noindex
X-PUBLISHED-TTL:PT1H
BEGIN:VTIMEZONE
TZID:America/Chicago
BEGIN:DAYLIGHT
TZOFFSETFROM:-0600
TZOFFSETTO:-0500
TZNAME:CDT
DTSTART:20210314T080000
END:DAYLIGHT
BEGIN:STANDARD
TZOFFSETFROM:-0500
TZOFFSETTO:-0600
TZNAME:CST
DTSTART:20211107T070000
END:STANDARD
BEGIN:DAYLIGHT
TZOFFSETFROM:-0600
TZOFFSETTO:-0500
TZNAME:CDT
DTSTART:20220313T080000
END:DAYLIGHT
BEGIN:STANDARD
TZOFFSETFROM:-0500
TZOFFSETTO:-0600
TZNAME:CST
DTSTART:20221106T070000
END:STANDARD
BEGIN:DAYLIGHT
TZOFFSETFROM:-0600
TZOFFSETTO:-0500
TZNAME:CDT
DTSTART:20230312T080000
END:DAYLIGHT
BEGIN:STANDARD
TZOFFSETFROM:-0500
TZOFFSETTO:-0600
TZNAME:CST
DTSTART:20231105T070000
END:STANDARD
END:VTIMEZONE
BEGIN:VEVENT
DTSTART;TZID=America/Chicago:20221211T180000
DTEND;TZID=America/Chicago:20221214T210000
DTSTAMP:20260419T174159
CREATED:20221120T210250Z
LAST-MODIFIED:20221120T210250Z
UID:10000328-1670781600-1671051600@christpres.org
SUMMARY:Women's Parish Wrap Parties
DESCRIPTION:Bring your Christmas gifts\, some gift-wrapping supplies\, and a gift to share with one of our City Groups for a night of fellowship and gift-wrapping with other women in your parish! \nEast Parish (East Nash\, Donelson\, The Gulch) – Wednesday\, December 14\, from 7-9 p.m.\nSouth & University Parishes (12 South\, Crieve Hall\, Green Hills\, Woodbine) – Monday\, December 12 at 7:30 p.m.\nWest Parish (Germantown\, Sylvan Park\, The Nations) – Sunday\, December 11\, from 6-8 p.m. \nPlease RSVP here for the address and more details. Questions? Please contact Erin McCabe.
URL:https://christpres.org/musicrow/event/womens-parish-wrap-parties/
LOCATION:TN
ATTACH;FMTTYPE=image/png:https://christpres.org/wp-content/uploads/2022/11/PARISH-WRAP-PARTIES-WEBSITE.png
END:VEVENT
END:VCALENDAR