BEGIN:VCALENDAR
VERSION:2.0
PRODID:-//Christ Presbyterian Church - ECPv6.15.20//NONSGML v1.0//EN
CALSCALE:GREGORIAN
METHOD:PUBLISH
X-WR-CALNAME:Christ Presbyterian Church
X-ORIGINAL-URL:https://christpres.org
X-WR-CALDESC:Events for Christ Presbyterian Church
REFRESH-INTERVAL;VALUE=DURATION:PT1H
X-Robots-Tag:noindex
X-PUBLISHED-TTL:PT1H
BEGIN:VTIMEZONE
TZID:America/Chicago
BEGIN:DAYLIGHT
TZOFFSETFROM:-0600
TZOFFSETTO:-0500
TZNAME:CDT
DTSTART:20220313T080000
END:DAYLIGHT
BEGIN:STANDARD
TZOFFSETFROM:-0500
TZOFFSETTO:-0600
TZNAME:CST
DTSTART:20221106T070000
END:STANDARD
BEGIN:DAYLIGHT
TZOFFSETFROM:-0600
TZOFFSETTO:-0500
TZNAME:CDT
DTSTART:20230312T080000
END:DAYLIGHT
BEGIN:STANDARD
TZOFFSETFROM:-0500
TZOFFSETTO:-0600
TZNAME:CST
DTSTART:20231105T070000
END:STANDARD
BEGIN:DAYLIGHT
TZOFFSETFROM:-0600
TZOFFSETTO:-0500
TZNAME:CDT
DTSTART:20240310T080000
END:DAYLIGHT
BEGIN:STANDARD
TZOFFSETFROM:-0500
TZOFFSETTO:-0600
TZNAME:CST
DTSTART:20241103T070000
END:STANDARD
END:VTIMEZONE
BEGIN:VEVENT
DTSTART;TZID=America/Chicago:20230101T100000
DTEND;TZID=America/Chicago:20230101T100000
DTSTAMP:20260419T192710
CREATED:20221115T200054Z
LAST-MODIFIED:20221115T200054Z
UID:10000327-1672567200-1672567200@christpres.org
SUMMARY:New Year's Day Service
DESCRIPTION:We hope you join us to ring in the New Year together in an intimate service at 10 AM for your entire family.  There will be no additional programming.  The Window Room will be a Wiggles and Giggles area for those who would like to utilize it.
URL:https://christpres.org/ohb/event/new-years-day-service/
LOCATION:Christ Presbyterian Church – Old Hickory Blvd\, 2323 Old Hickory Boulevard\, Nashville\, TN\, 37215\, United States
ATTACH;FMTTYPE=image/png:https://christpres.org/wp-content/uploads/2022/11/Christmas-Day-NYD-12.png
END:VEVENT
END:VCALENDAR