BEGIN:VCALENDAR
VERSION:2.0
PRODID:-//Christ Presbyterian Church - ECPv6.15.20//NONSGML v1.0//EN
CALSCALE:GREGORIAN
METHOD:PUBLISH
X-ORIGINAL-URL:https://christpres.org
X-WR-CALDESC:Events for Christ Presbyterian Church
REFRESH-INTERVAL;VALUE=DURATION:PT1H
X-Robots-Tag:noindex
X-PUBLISHED-TTL:PT1H
BEGIN:VTIMEZONE
TZID:America/Chicago
BEGIN:DAYLIGHT
TZOFFSETFROM:-0600
TZOFFSETTO:-0500
TZNAME:CDT
DTSTART:20220313T080000
END:DAYLIGHT
BEGIN:STANDARD
TZOFFSETFROM:-0500
TZOFFSETTO:-0600
TZNAME:CST
DTSTART:20221106T070000
END:STANDARD
BEGIN:DAYLIGHT
TZOFFSETFROM:-0600
TZOFFSETTO:-0500
TZNAME:CDT
DTSTART:20230312T080000
END:DAYLIGHT
BEGIN:STANDARD
TZOFFSETFROM:-0500
TZOFFSETTO:-0600
TZNAME:CST
DTSTART:20231105T070000
END:STANDARD
BEGIN:DAYLIGHT
TZOFFSETFROM:-0600
TZOFFSETTO:-0500
TZNAME:CDT
DTSTART:20240310T080000
END:DAYLIGHT
BEGIN:STANDARD
TZOFFSETFROM:-0500
TZOFFSETTO:-0600
TZNAME:CST
DTSTART:20241103T070000
END:STANDARD
END:VTIMEZONE
BEGIN:VEVENT
DTSTART;VALUE=DATE:20230226
DTEND;VALUE=DATE:20230305
DTSTAMP:20260419T084144
CREATED:20230212T020139Z
LAST-MODIFIED:20230212T020222Z
UID:10001248-1677369600-1677974399@christpres.org
SUMMARY:Women's Winter Soups
DESCRIPTION:Get to know other women from church over soup this winter! \nPlease sign up for one soup night here. The host of your soup night will be in touch with the address\, parking details\, and what you can bring with you. \nIf you have any questions\, feel free to reach out to Erin McCabe.
URL:https://christpres.org/musicrow/event/womens-winter-soups/
LOCATION:TN
ATTACH;FMTTYPE=image/png:https://christpres.org/wp-content/uploads/2023/02/WINTER-SOUPS.png
END:VEVENT
BEGIN:VEVENT
DTSTART;TZID=America/Chicago:20230226T094500
DTEND;TZID=America/Chicago:20230226T094500
DTSTAMP:20260419T084144
CREATED:20230119T013422Z
LAST-MODIFIED:20230119T013422Z
UID:10000980-1677404700-1677404700@christpres.org
SUMMARY:55+ Sunday School Class
DESCRIPTION:Every Sunday at 9:45 a.m.\nEmail Melanie Rainer (mrainer@christpres.org) for more information.
URL:https://christpres.org/coolsprings/event/55-sunday-school-class/2023-02-26/
LOCATION:Christ Presbyterian Church – Cool Springs\, 325 Seaboard Ln\, Suite 100\, Franklin\, TN\, 37067
ATTACH;FMTTYPE=image/png:https://christpres.org/wp-content/uploads/2023/01/Website-Event_55-Sunday-School.png
END:VEVENT
BEGIN:VEVENT
DTSTART;TZID=America/Chicago:20230226T173000
DTEND;TZID=America/Chicago:20230226T190000
DTSTAMP:20260419T084144
CREATED:20230213T160045Z
LAST-MODIFIED:20230215T135343Z
UID:10000227-1677432600-1677438000@christpres.org
SUMMARY:The Ascent
DESCRIPTION:The Ascent is a group that meets twice a month with a time of fellowship\, amazing worship\, a fun activity\, and a message geared toward adults with special needs. \nVOLUNTEERS NEEDED\nYou can serve by helping provide the meal\, or coming to spend time getting to know the friends! \n\n\n\n\nParticipants and volunteers\, sign up here.\n\n\n  \nMark your calendars for the remaining Ascent events for this school year:\nMarch 12\, 2023\nMarch 26\, 2023\nApril 23\, 2023\nMay 7\, 2023
URL:https://christpres.org/ohb/event/the-ascent-feb-26/
LOCATION:Christ Presbyterian Church – Old Hickory Blvd\, 2323 Old Hickory Boulevard\, Nashville\, TN\, 37215\, United States
ATTACH;FMTTYPE=image/jpeg:https://christpres.org/wp-content/uploads/2022/06/TheAscent_FB.jpeg
END:VEVENT
END:VCALENDAR