BEGIN:VCALENDAR
VERSION:2.0
PRODID:-//Christ Presbyterian Church - ECPv6.15.20//NONSGML v1.0//EN
CALSCALE:GREGORIAN
METHOD:PUBLISH
X-WR-CALNAME:Christ Presbyterian Church
X-ORIGINAL-URL:https://christpres.org
X-WR-CALDESC:Events for Christ Presbyterian Church
REFRESH-INTERVAL;VALUE=DURATION:PT1H
X-Robots-Tag:noindex
X-PUBLISHED-TTL:PT1H
BEGIN:VTIMEZONE
TZID:America/Chicago
BEGIN:DAYLIGHT
TZOFFSETFROM:-0600
TZOFFSETTO:-0500
TZNAME:CDT
DTSTART:20220313T080000
END:DAYLIGHT
BEGIN:STANDARD
TZOFFSETFROM:-0500
TZOFFSETTO:-0600
TZNAME:CST
DTSTART:20221106T070000
END:STANDARD
BEGIN:DAYLIGHT
TZOFFSETFROM:-0600
TZOFFSETTO:-0500
TZNAME:CDT
DTSTART:20230312T080000
END:DAYLIGHT
BEGIN:STANDARD
TZOFFSETFROM:-0500
TZOFFSETTO:-0600
TZNAME:CST
DTSTART:20231105T070000
END:STANDARD
BEGIN:DAYLIGHT
TZOFFSETFROM:-0600
TZOFFSETTO:-0500
TZNAME:CDT
DTSTART:20240310T080000
END:DAYLIGHT
BEGIN:STANDARD
TZOFFSETFROM:-0500
TZOFFSETTO:-0600
TZNAME:CST
DTSTART:20241103T070000
END:STANDARD
END:VTIMEZONE
BEGIN:VEVENT
DTSTART;VALUE=DATE:20230710
DTEND;VALUE=DATE:20230716
DTSTAMP:20260420T020546
CREATED:20230302T231622Z
LAST-MODIFIED:20230309T064231Z
UID:10001285-1688947200-1689465599@christpres.org
SUMMARY:High School Summer Camp
DESCRIPTION:High School Summer Camp: Rising 9th – Graduated Seniors \nJuly 10-15  | Laguna Beach Retreat Center\, Panama City Beach\, FL \nREGISTER HERE. \nA sample schedule can be found here. Cost | $775 (Partial payment option available.) \nRegistration closes on March 30 and the initial deposit is due on that day. We have limited spots available. \nPlease do not let finances be a barrier to your student attending camp this summer. We understand paying for camp can be burdensome\, especially if you have multiple students attending. If this is the case\, please email mpurdy@christpres.org and he will be glad to help you. \nIf you need a scholarship for camp please email mpurdy@christpres.org before you complete this form.
URL:https://christpres.org/coolsprings/event/high-school-summer-camp/
LOCATION:TN
ATTACH;FMTTYPE=image/png:https://christpres.org/wp-content/uploads/2023/03/Student-Summer-Camps-2023_High_Website.png
END:VEVENT
BEGIN:VEVENT
DTSTART;TZID=America/Chicago:20230712T063000
DTEND;TZID=America/Chicago:20230712T063000
DTSTAMP:20260420T020546
CREATED:20230111T171936Z
LAST-MODIFIED:20230810T190644Z
UID:10000718-1689143400-1689143400@christpres.org
SUMMARY:Biscuits & Bibles
DESCRIPTION:Throughout the year\, the Men’s “Biscuits and Bibles” study meets weekly on Wednesdays at 6:30 a.m. in the OHB Choir Room. No registration is required – just drop in\, enjoy a sausage biscuit\, prepare for a time of prayer and Bible study\, and feel free to invite a friend along.
URL:https://christpres.org/ohb/event/biscuits-bibles-2/2023-07-12/
LOCATION:Christ Presbyterian Church – Old Hickory Blvd\, 2323 Old Hickory Boulevard\, Nashville\, TN\, 37215\, United States
ATTACH;FMTTYPE=image/png:https://christpres.org/wp-content/uploads/2022/08/Biscuits-Bibles.png
END:VEVENT
BEGIN:VEVENT
DTSTART;TZID=America/Chicago:20230712T183000
DTEND;TZID=America/Chicago:20230712T200000
DTSTAMP:20260420T020546
CREATED:20230601T212232Z
LAST-MODIFIED:20230601T212853Z
UID:10001758-1689186600-1689192000@christpres.org
SUMMARY:Student Summer House Hangs
DESCRIPTION:Mark your calendars for 6:30-8:00 p.m. on Wednesday nights in June and July! Middle school will meet at the Neffs’ house most weeks and high school will meet at the Wheelers’ house for opportunities to connect\, eat\, and dive into God’s Word. Come and invite friends along! Email Leah at lmoser@christpres.org for more information and directions. \nSCHEDULE\nJune 7: MS at the Neffs & HS at the Wheelers\nJune 14: MS at Neffs & HS at the Wheelers\nJune 21: MS at the Hope House & HS at the Wheelers\nJune 28: No MS & HS at the Wheelers\nJuly 5: MS at the Neffs & HS at the Wheelers\nJuly 12: MS at the Neffs & No HS\nJuly 19: No MS & No HS\nJuly 26: MS at the Hope House & HS at the Wheelers
URL:https://christpres.org/ohb/event/student-summer-house-hangs/2023-07-12/
LOCATION:TN
ATTACH;FMTTYPE=image/jpeg:https://christpres.org/wp-content/uploads/2023/06/Summer-House-Hangs_Website-scaled.jpg
ORGANIZER;CN="Leah Moser":MAILTO:lmoser@christpres.org
END:VEVENT
END:VCALENDAR