BEGIN:VCALENDAR
VERSION:2.0
PRODID:-//Christ Presbyterian Church - ECPv6.15.20//NONSGML v1.0//EN
CALSCALE:GREGORIAN
METHOD:PUBLISH
X-WR-CALNAME:Christ Presbyterian Church
X-ORIGINAL-URL:https://christpres.org
X-WR-CALDESC:Events for Christ Presbyterian Church
REFRESH-INTERVAL;VALUE=DURATION:PT1H
X-Robots-Tag:noindex
X-PUBLISHED-TTL:PT1H
BEGIN:VTIMEZONE
TZID:America/Chicago
BEGIN:DAYLIGHT
TZOFFSETFROM:-0600
TZOFFSETTO:-0500
TZNAME:CDT
DTSTART:20220313T080000
END:DAYLIGHT
BEGIN:STANDARD
TZOFFSETFROM:-0500
TZOFFSETTO:-0600
TZNAME:CST
DTSTART:20221106T070000
END:STANDARD
BEGIN:DAYLIGHT
TZOFFSETFROM:-0600
TZOFFSETTO:-0500
TZNAME:CDT
DTSTART:20230312T080000
END:DAYLIGHT
BEGIN:STANDARD
TZOFFSETFROM:-0500
TZOFFSETTO:-0600
TZNAME:CST
DTSTART:20231105T070000
END:STANDARD
BEGIN:DAYLIGHT
TZOFFSETFROM:-0600
TZOFFSETTO:-0500
TZNAME:CDT
DTSTART:20240310T080000
END:DAYLIGHT
BEGIN:STANDARD
TZOFFSETFROM:-0500
TZOFFSETTO:-0600
TZNAME:CST
DTSTART:20241103T070000
END:STANDARD
END:VTIMEZONE
BEGIN:VEVENT
DTSTART;TZID=America/Chicago:20230719T063000
DTEND;TZID=America/Chicago:20230719T063000
DTSTAMP:20260419T120857
CREATED:20230111T171936Z
LAST-MODIFIED:20230810T190644Z
UID:10000719-1689748200-1689748200@christpres.org
SUMMARY:Biscuits & Bibles
DESCRIPTION:Throughout the year\, the Men’s “Biscuits and Bibles” study meets weekly on Wednesdays at 6:30 a.m. in the OHB Choir Room. No registration is required – just drop in\, enjoy a sausage biscuit\, prepare for a time of prayer and Bible study\, and feel free to invite a friend along.
URL:https://christpres.org/ohb/event/biscuits-bibles-2/2023-07-19/
LOCATION:Christ Presbyterian Church – Old Hickory Blvd\, 2323 Old Hickory Boulevard\, Nashville\, TN\, 37215\, United States
ATTACH;FMTTYPE=image/png:https://christpres.org/wp-content/uploads/2022/08/Biscuits-Bibles.png
END:VEVENT
BEGIN:VEVENT
DTSTART;TZID=America/Chicago:20230719T173000
DTEND;TZID=America/Chicago:20230719T193000
DTSTAMP:20260419T120857
CREATED:20230407T174716Z
LAST-MODIFIED:20230510T174142Z
UID:10001454-1689787800-1689795000@christpres.org
SUMMARY:Vacation Bible School (VBS) at Old Hickory Blvd
DESCRIPTION:Spin the spinner\, beat the clock\, skip ahead\, level up\, and play to win! You’ll need to bring your A-game for this VBS. Twists & Turns is a fantastical celebration of games of all kinds. From classic tabletop games to video games and more\, kids will play their way through VBS while learning that Jesus guides them through all the twists and turns of their lives. They’ll find that even when they mess up it’s never “game over.” \nLearn more and register soon at christpres.org/vbs
URL:https://christpres.org/ohb/event/vacation-bible-school-vbs-at-old-hickory-blvd/2023-07-19/
LOCATION:Christ Presbyterian Church – Old Hickory Blvd\, 2323 Old Hickory Boulevard\, Nashville\, TN\, 37215\, United States
ATTACH;FMTTYPE=image/jpeg:https://christpres.org/wp-content/uploads/2023/04/TandT.jpeg
ORGANIZER;CN="Melanie Beasley":MAILTO:mbeasley@christpres.org
END:VEVENT
BEGIN:VEVENT
DTSTART;TZID=America/Chicago:20230719T180000
DTEND;TZID=America/Chicago:20230719T203000
DTSTAMP:20260419T120857
CREATED:20230628T043430Z
LAST-MODIFIED:20230717T162109Z
UID:10001797-1689789600-1689798600@christpres.org
SUMMARY:Women's Happy Hour
DESCRIPTION:All women are invited to join us for happy hour at Streetcar Taps & Garden in West Nashville on Wednesday\, July 19 at 6 p.m. We hope you will join us! There is no need to RSVP. Email Erin McCabe with any questions. \n 
URL:https://christpres.org/musicrow/event/womens-happy-hour/
LOCATION:Streetcar Taps & Garden\, 4916 Charlotte Pike\, Nashville\, TN\, 37209\, United States
ATTACH;FMTTYPE=image/jpeg:https://christpres.org/wp-content/uploads/2023/07/MR-Womens-Happy-Hour_Website-scaled.jpg
ORGANIZER;CN="Erin McCabe":MAILTO:emccabe@christpres.org
END:VEVENT
BEGIN:VEVENT
DTSTART;TZID=America/Chicago:20230719T183000
DTEND;TZID=America/Chicago:20230719T200000
DTSTAMP:20260419T120857
CREATED:20230601T212232Z
LAST-MODIFIED:20230601T212853Z
UID:10001759-1689791400-1689796800@christpres.org
SUMMARY:Student Summer House Hangs
DESCRIPTION:Mark your calendars for 6:30-8:00 p.m. on Wednesday nights in June and July! Middle school will meet at the Neffs’ house most weeks and high school will meet at the Wheelers’ house for opportunities to connect\, eat\, and dive into God’s Word. Come and invite friends along! Email Leah at lmoser@christpres.org for more information and directions. \nSCHEDULE\nJune 7: MS at the Neffs & HS at the Wheelers\nJune 14: MS at Neffs & HS at the Wheelers\nJune 21: MS at the Hope House & HS at the Wheelers\nJune 28: No MS & HS at the Wheelers\nJuly 5: MS at the Neffs & HS at the Wheelers\nJuly 12: MS at the Neffs & No HS\nJuly 19: No MS & No HS\nJuly 26: MS at the Hope House & HS at the Wheelers
URL:https://christpres.org/ohb/event/student-summer-house-hangs/2023-07-19/
LOCATION:TN
ATTACH;FMTTYPE=image/jpeg:https://christpres.org/wp-content/uploads/2023/06/Summer-House-Hangs_Website-scaled.jpg
ORGANIZER;CN="Leah Moser":MAILTO:lmoser@christpres.org
END:VEVENT
END:VCALENDAR