BEGIN:VCALENDAR
VERSION:2.0
PRODID:-//Christ Presbyterian Church - ECPv6.15.20//NONSGML v1.0//EN
CALSCALE:GREGORIAN
METHOD:PUBLISH
X-WR-CALNAME:Christ Presbyterian Church
X-ORIGINAL-URL:https://christpres.org
X-WR-CALDESC:Events for Christ Presbyterian Church
REFRESH-INTERVAL;VALUE=DURATION:PT1H
X-Robots-Tag:noindex
X-PUBLISHED-TTL:PT1H
BEGIN:VTIMEZONE
TZID:America/Chicago
BEGIN:DAYLIGHT
TZOFFSETFROM:-0600
TZOFFSETTO:-0500
TZNAME:CDT
DTSTART:20220313T080000
END:DAYLIGHT
BEGIN:STANDARD
TZOFFSETFROM:-0500
TZOFFSETTO:-0600
TZNAME:CST
DTSTART:20221106T070000
END:STANDARD
BEGIN:DAYLIGHT
TZOFFSETFROM:-0600
TZOFFSETTO:-0500
TZNAME:CDT
DTSTART:20230312T080000
END:DAYLIGHT
BEGIN:STANDARD
TZOFFSETFROM:-0500
TZOFFSETTO:-0600
TZNAME:CST
DTSTART:20231105T070000
END:STANDARD
BEGIN:DAYLIGHT
TZOFFSETFROM:-0600
TZOFFSETTO:-0500
TZNAME:CDT
DTSTART:20240310T080000
END:DAYLIGHT
BEGIN:STANDARD
TZOFFSETFROM:-0500
TZOFFSETTO:-0600
TZNAME:CST
DTSTART:20241103T070000
END:STANDARD
END:VTIMEZONE
BEGIN:VEVENT
DTSTART;TZID=America/Chicago:20230804T180000
DTEND;TZID=America/Chicago:20230804T200000
DTSTAMP:20260419T095514
CREATED:20230710T030347Z
LAST-MODIFIED:20230803T214301Z
UID:10001802-1691172000-1691179200@christpres.org
SUMMARY:Movie on the Lawn
DESCRIPTION:Kids and their families are invited for our annual Movie on the Lawn (in the CPA Veritas Hall Event Center) on Friday\, August 4 at 6 p.m. \nBring lawn chairs and blankets\, but know that bleacher seating will also be available as we’ve moved indoors to the CPA Lower School Veritas Hall Event Center (gym). No RSVP necessary. \nEnjoy complimentary popcorn\, drinks\, and candy! This is a great opportunity to connect with other families\, invite friends\, and reconnect with VBS pals! \nWant a hint at what we’re showing?! This year’s VBS theme was all about “Twists & Turns” featuring both games and video games. 😉
URL:https://christpres.org/ohb/event/movie-on-the-lawn-2/
LOCATION:Christ Presbyterian Church – Old Hickory Blvd\, 2323 Old Hickory Boulevard\, Nashville\, TN\, 37215\, United States
ATTACH;FMTTYPE=image/png:https://christpres.org/wp-content/uploads/2023/07/Screen-Shot-2023-07-09-at-10.00.58-PM.png
ORGANIZER;CN="Melanie Beasley":MAILTO:mbeasley@christpres.org
END:VEVENT
END:VCALENDAR