BEGIN:VCALENDAR
VERSION:2.0
PRODID:-//Christ Presbyterian Church - ECPv6.15.20//NONSGML v1.0//EN
CALSCALE:GREGORIAN
METHOD:PUBLISH
X-ORIGINAL-URL:https://christpres.org
X-WR-CALDESC:Events for Christ Presbyterian Church
REFRESH-INTERVAL;VALUE=DURATION:PT1H
X-Robots-Tag:noindex
X-PUBLISHED-TTL:PT1H
BEGIN:VTIMEZONE
TZID:America/Chicago
BEGIN:DAYLIGHT
TZOFFSETFROM:-0600
TZOFFSETTO:-0500
TZNAME:CDT
DTSTART:20220313T080000
END:DAYLIGHT
BEGIN:STANDARD
TZOFFSETFROM:-0500
TZOFFSETTO:-0600
TZNAME:CST
DTSTART:20221106T070000
END:STANDARD
BEGIN:DAYLIGHT
TZOFFSETFROM:-0600
TZOFFSETTO:-0500
TZNAME:CDT
DTSTART:20230312T080000
END:DAYLIGHT
BEGIN:STANDARD
TZOFFSETFROM:-0500
TZOFFSETTO:-0600
TZNAME:CST
DTSTART:20231105T070000
END:STANDARD
BEGIN:DAYLIGHT
TZOFFSETFROM:-0600
TZOFFSETTO:-0500
TZNAME:CDT
DTSTART:20240310T080000
END:DAYLIGHT
BEGIN:STANDARD
TZOFFSETFROM:-0500
TZOFFSETTO:-0600
TZNAME:CST
DTSTART:20241103T070000
END:STANDARD
END:VTIMEZONE
BEGIN:VEVENT
DTSTART;TZID=America/Chicago:20230806T094500
DTEND;TZID=America/Chicago:20230806T094500
DTSTAMP:20260419T164057
CREATED:20230119T013422Z
LAST-MODIFIED:20230119T013422Z
UID:10001003-1691315100-1691315100@christpres.org
SUMMARY:55+ Sunday School Class
DESCRIPTION:Every Sunday at 9:45 a.m.\nEmail Melanie Rainer (mrainer@christpres.org) for more information.
URL:https://christpres.org/coolsprings/event/55-sunday-school-class/2023-08-06/
LOCATION:Christ Presbyterian Church – Cool Springs\, 325 Seaboard Ln\, Suite 100\, Franklin\, TN\, 37067
ATTACH;FMTTYPE=image/png:https://christpres.org/wp-content/uploads/2023/01/Website-Event_55-Sunday-School.png
END:VEVENT
BEGIN:VEVENT
DTSTART;TZID=America/Chicago:20230806T094500
DTEND;TZID=America/Chicago:20230806T101500
DTSTAMP:20260419T164057
CREATED:20230517T210031Z
LAST-MODIFIED:20230804T133528Z
UID:10001467-1691315100-1691316900@christpres.org
SUMMARY:Student Ministry Summer Sundays
DESCRIPTION:Are you a student in 6th – 12th grade? Do you have questions about God\, the Bible\, theology\, culture\, etc? Join us in Room 101 between services from 9:45-10:15 a.m. for a brief time of fellowship and learning as we contemplate and explore what the Bible has to say about a variety of topics. All students are welcome!\n\nHave a question or Bible verse you’d like to discuss? Submit your questions HERE.
URL:https://christpres.org/coolsprings/event/student-summer-sundays/2023-08-06/
LOCATION:TN
ATTACH;FMTTYPE=image/jpeg:https://christpres.org/wp-content/uploads/2023/05/Student-Summer-Sunday_Website-scaled.jpg
END:VEVENT
BEGIN:VEVENT
DTSTART;TZID=America/Chicago:20230806T095000
DTEND;TZID=America/Chicago:20230806T102000
DTSTAMP:20260419T164057
CREATED:20230707T141155Z
LAST-MODIFIED:20230714T213347Z
UID:10001798-1691315400-1691317200@christpres.org
SUMMARY:Women's Study: Made to Flourish
DESCRIPTION:Sundays\, August 6\, 13\, 20\, and 27 \n9:50-10:20 a.m. \nHarambee Auditorium in Fondren Hall \nFrom household errands to boardroom presentations all women work. As Christians\, our work is not only an act of worship\, but a way we reflect our love of the Lord and serve those around us. But what is the purpose of work? How do we know what work God is calling us to do? And\, how do we find joy and satisfaction in even the most mundane tasks? Join us as we spend four weeks looking at some day-to-day wisdom found throughout the Bible\, which helps us navigate our calling\, cultivate a deeper love for the Lord\, and discern how to live well in the world he so beautifully created.
URL:https://christpres.org/musicrow/event/womens-study-made-to-flourish/2023-08-06/
LOCATION:Scarritt Bennett Center\, 1110 19th Ave S\, Nashville\, TN\, 37209\, United States
ATTACH;FMTTYPE=image/jpeg:https://christpres.org/wp-content/uploads/2023/07/Made-to-Flourish_Website-scaled.jpg
ORGANIZER;CN="Erin McCabe":MAILTO:emccabe@christpres.org
END:VEVENT
BEGIN:VEVENT
DTSTART;TZID=America/Chicago:20230806T113000
DTEND;TZID=America/Chicago:20230806T120000
DTSTAMP:20260419T164057
CREATED:20230606T165056Z
LAST-MODIFIED:20230607T205109Z
UID:10001767-1691321400-1691323200@christpres.org
SUMMARY:Newcomer Coffee (August)
DESCRIPTION:If you are new to Christ Presbyterian Church or perhaps visited multiple times\, we invite you to join us at the Newcomer Coffee to meet several of our church staff and elders\, and find out more about the church and how to connect. We’ll gather in the church office suite. Visit the Welcome Center for more information. \nRegister here.
URL:https://christpres.org/ohb/event/newcomer-coffee-august/
LOCATION:Christ Presbyterian Church – Old Hickory Blvd\, 2323 Old Hickory Boulevard\, Nashville\, TN\, 37215\, United States
ATTACH;FMTTYPE=image/jpeg:https://christpres.org/wp-content/uploads/2023/06/Newcomer-Coffee-Aug-scaled.jpg
ORGANIZER;CN="Jennifer Winge":MAILTO:jwinge@christpres.org
END:VEVENT
BEGIN:VEVENT
DTSTART;TZID=America/Chicago:20230806T123000
DTEND;TZID=America/Chicago:20230806T140000
DTSTAMP:20260419T164057
CREATED:20230414T163733Z
LAST-MODIFIED:20230718T143343Z
UID:10001366-1691325000-1691330400@christpres.org
SUMMARY:Young Adult Monthly Lunch (Aug.)
DESCRIPTION:Young Adult Monthly Lunch (OHB) | Sunday\, August 6 at 11:30 a.m. | Clark’s Home in Brentwood \nAll young adults are invited to our next upcoming Young Adult Lunch! This will be a time of community connection and a complimentary meal\, catered by the church. Grab a friend and come join us for an informal time of fun and fellowship. \nRSVP Here and receive access to the Clark’s home address.
URL:https://christpres.org/ohb/event/young-adult-monthly-lunch-6/
LOCATION:TN
ATTACH;FMTTYPE=image/jpeg:https://christpres.org/wp-content/uploads/2023/03/Young-Adults-Lunch_Website.jpg
ORGANIZER;CN="Lindsay Blaire Beeman":MAILTO:lbeeman@christpres.org
END:VEVENT
END:VCALENDAR