BEGIN:VCALENDAR
VERSION:2.0
PRODID:-//Christ Presbyterian Church - ECPv6.15.20//NONSGML v1.0//EN
CALSCALE:GREGORIAN
METHOD:PUBLISH
X-WR-CALNAME:Christ Presbyterian Church
X-ORIGINAL-URL:https://christpres.org
X-WR-CALDESC:Events for Christ Presbyterian Church
REFRESH-INTERVAL;VALUE=DURATION:PT1H
X-Robots-Tag:noindex
X-PUBLISHED-TTL:PT1H
BEGIN:VTIMEZONE
TZID:America/Chicago
BEGIN:DAYLIGHT
TZOFFSETFROM:-0600
TZOFFSETTO:-0500
TZNAME:CDT
DTSTART:20220313T080000
END:DAYLIGHT
BEGIN:STANDARD
TZOFFSETFROM:-0500
TZOFFSETTO:-0600
TZNAME:CST
DTSTART:20221106T070000
END:STANDARD
BEGIN:DAYLIGHT
TZOFFSETFROM:-0600
TZOFFSETTO:-0500
TZNAME:CDT
DTSTART:20230312T080000
END:DAYLIGHT
BEGIN:STANDARD
TZOFFSETFROM:-0500
TZOFFSETTO:-0600
TZNAME:CST
DTSTART:20231105T070000
END:STANDARD
BEGIN:DAYLIGHT
TZOFFSETFROM:-0600
TZOFFSETTO:-0500
TZNAME:CDT
DTSTART:20240310T080000
END:DAYLIGHT
BEGIN:STANDARD
TZOFFSETFROM:-0500
TZOFFSETTO:-0600
TZNAME:CST
DTSTART:20241103T070000
END:STANDARD
END:VTIMEZONE
BEGIN:VEVENT
DTSTART;TZID=America/Chicago:20230812T090000
DTEND;TZID=America/Chicago:20230812T113000
DTSTAMP:20260420T022005
CREATED:20230620T211048Z
LAST-MODIFIED:20230807T155713Z
UID:10001786-1691830800-1691839800@christpres.org
SUMMARY:Special Saturday (August 2023) – Music & More for Kids/Adults with Special Needs
DESCRIPTION:Kids & adults with special needs (and their siblings) are invited each month to enjoy an uplifting time of Bible stories\, music\, and crafts. \nRegistration is Full. To add your name to our Wait List\, Click Here. \nTo learn more\, contact specialneeds@christpres.org. \n\n\n\n\nVolunteers Needed:\nOne amazing way to love families with children and adults with special needs is by serving at a Special Saturday.\nSign Up to Serve. \n\n\n\n\n\nMark your calendar for all our upcoming Special Saturdays during this school year: \n\nAugust 12\nSeptember 9\nOctober 7\nNovember 11\nDecember 9\nJanuary 13\nFebruary 10\nMarch 2\nApril 13
URL:https://christpres.org/ohb/event/special-saturday-music-more-for-kids-adults-with-special-needs/
LOCATION:Christ Presbyterian Church – Old Hickory Blvd\, 2323 Old Hickory Boulevard\, Nashville\, TN\, 37215\, United States
ATTACH;FMTTYPE=image/jpeg:https://christpres.org/wp-content/uploads/2022/07/My-project-12.jpg
ORGANIZER;CN="Gigi Sanders":MAILTO:gsanders@christpres.org
END:VEVENT
END:VCALENDAR