BEGIN:VCALENDAR
VERSION:2.0
PRODID:-//Christ Presbyterian Church - ECPv6.15.20//NONSGML v1.0//EN
CALSCALE:GREGORIAN
METHOD:PUBLISH
X-ORIGINAL-URL:https://christpres.org
X-WR-CALDESC:Events for Christ Presbyterian Church
REFRESH-INTERVAL;VALUE=DURATION:PT1H
X-Robots-Tag:noindex
X-PUBLISHED-TTL:PT1H
BEGIN:VTIMEZONE
TZID:America/Chicago
BEGIN:DAYLIGHT
TZOFFSETFROM:-0600
TZOFFSETTO:-0500
TZNAME:CDT
DTSTART:20220313T080000
END:DAYLIGHT
BEGIN:STANDARD
TZOFFSETFROM:-0500
TZOFFSETTO:-0600
TZNAME:CST
DTSTART:20221106T070000
END:STANDARD
BEGIN:DAYLIGHT
TZOFFSETFROM:-0600
TZOFFSETTO:-0500
TZNAME:CDT
DTSTART:20230312T080000
END:DAYLIGHT
BEGIN:STANDARD
TZOFFSETFROM:-0500
TZOFFSETTO:-0600
TZNAME:CST
DTSTART:20231105T070000
END:STANDARD
BEGIN:DAYLIGHT
TZOFFSETFROM:-0600
TZOFFSETTO:-0500
TZNAME:CDT
DTSTART:20240310T080000
END:DAYLIGHT
BEGIN:STANDARD
TZOFFSETFROM:-0500
TZOFFSETTO:-0600
TZNAME:CST
DTSTART:20241103T070000
END:STANDARD
END:VTIMEZONE
BEGIN:VEVENT
DTSTART;TZID=America/Chicago:20230813T094500
DTEND;TZID=America/Chicago:20230813T094500
DTSTAMP:20260425T093254
CREATED:20230119T013422Z
LAST-MODIFIED:20230119T013422Z
UID:10001004-1691919900-1691919900@christpres.org
SUMMARY:55+ Sunday School Class
DESCRIPTION:Every Sunday at 9:45 a.m.\nEmail Melanie Rainer (mrainer@christpres.org) for more information.
URL:https://christpres.org/coolsprings/event/55-sunday-school-class/2023-08-13/
LOCATION:Christ Presbyterian Church – Cool Springs\, 325 Seaboard Ln\, Suite 100\, Franklin\, TN\, 37067
ATTACH;FMTTYPE=image/png:https://christpres.org/wp-content/uploads/2023/01/Website-Event_55-Sunday-School.png
END:VEVENT
BEGIN:VEVENT
DTSTART;TZID=America/Chicago:20230813T094500
DTEND;TZID=America/Chicago:20230813T101500
DTSTAMP:20260425T093254
CREATED:20230517T210031Z
LAST-MODIFIED:20230804T133528Z
UID:10001468-1691919900-1691921700@christpres.org
SUMMARY:Student Ministry Summer Sundays
DESCRIPTION:Are you a student in 6th – 12th grade? Do you have questions about God\, the Bible\, theology\, culture\, etc? Join us in Room 101 between services from 9:45-10:15 a.m. for a brief time of fellowship and learning as we contemplate and explore what the Bible has to say about a variety of topics. All students are welcome!\n\nHave a question or Bible verse you’d like to discuss? Submit your questions HERE.
URL:https://christpres.org/coolsprings/event/student-summer-sundays/2023-08-13/
LOCATION:TN
ATTACH;FMTTYPE=image/jpeg:https://christpres.org/wp-content/uploads/2023/05/Student-Summer-Sunday_Website-scaled.jpg
END:VEVENT
BEGIN:VEVENT
DTSTART;TZID=America/Chicago:20230813T095000
DTEND;TZID=America/Chicago:20230813T102000
DTSTAMP:20260425T093254
CREATED:20230707T141155Z
LAST-MODIFIED:20230714T213347Z
UID:10001799-1691920200-1691922000@christpres.org
SUMMARY:Women's Study: Made to Flourish
DESCRIPTION:Sundays\, August 6\, 13\, 20\, and 27 \n9:50-10:20 a.m. \nHarambee Auditorium in Fondren Hall \nFrom household errands to boardroom presentations all women work. As Christians\, our work is not only an act of worship\, but a way we reflect our love of the Lord and serve those around us. But what is the purpose of work? How do we know what work God is calling us to do? And\, how do we find joy and satisfaction in even the most mundane tasks? Join us as we spend four weeks looking at some day-to-day wisdom found throughout the Bible\, which helps us navigate our calling\, cultivate a deeper love for the Lord\, and discern how to live well in the world he so beautifully created.
URL:https://christpres.org/musicrow/event/womens-study-made-to-flourish/2023-08-13/
LOCATION:Scarritt Bennett Center\, 1110 19th Ave S\, Nashville\, TN\, 37209\, United States
ATTACH;FMTTYPE=image/jpeg:https://christpres.org/wp-content/uploads/2023/07/Made-to-Flourish_Website-scaled.jpg
ORGANIZER;CN="Erin McCabe":MAILTO:emccabe@christpres.org
END:VEVENT
BEGIN:VEVENT
DTSTART;TZID=America/Chicago:20230813T114500
DTEND;TZID=America/Chicago:20230813T123000
DTSTAMP:20260425T093254
CREATED:20230731T170807Z
LAST-MODIFIED:20230731T171045Z
UID:10001806-1691927100-1691929800@christpres.org
SUMMARY:Newcomer Brunch (August 2023)
DESCRIPTION:All guests are invited to join us for brunch after the 10:30 a.m. worship service! Meet Pastor Stacey Croft\, our staff\, and other newcomers while we tell you a little about our church and answer any questions you might have. \nPlease RSVP here. \nPlease contact Erin McCabe at emccabe@christpres.org with any questions.
URL:https://christpres.org/musicrow/event/newcomer-brunch-4/
LOCATION:Scarritt Bennett Center\, 1110 19th Ave S\, Nashville\, TN\, 37209\, United States
ATTACH;FMTTYPE=image/png:https://christpres.org/wp-content/uploads/2022/10/NEWCOMER-BRUNCH-WEBSITE.png
ORGANIZER;CN="Erin McCabe":MAILTO:emccabe@christpres.org
END:VEVENT
BEGIN:VEVENT
DTSTART;TZID=America/Chicago:20230813T160000
DTEND;TZID=America/Chicago:20230813T170000
DTSTAMP:20260425T093254
CREATED:20230808T171221Z
LAST-MODIFIED:20230808T205619Z
UID:10002381-1691942400-1691946000@christpres.org
SUMMARY:Ordination Service for Lee Eric Fesko
DESCRIPTION:On Sunday\, August 13 at 4:00 p.m.\, the Session of Christ Presbyterian Church cordially invites you to attend a worship service and the ordination ceremony for Lee Eric Fesko\, whom the Nashville Presbytery will install as Teaching Elder and Assistant Pastor of Christ Presbyterian Church of Nashville\, TN. Reception with light refreshments to follow. Nursery available for children ages 0-3.
URL:https://christpres.org/event/ordination-service-for-lee-eric-fesko/
LOCATION:Christ Presbyterian Church – Old Hickory Blvd\, 2323 Old Hickory Boulevard\, Nashville\, TN\, 37215\, United States
ATTACH;FMTTYPE=image/jpeg:https://christpres.org/wp-content/uploads/2023/08/Ordination-Service-for-LEF_Slide-1-scaled.jpg
ORGANIZER;CN="Paul Whitten":MAILTO:pwhitten@christpres.org
END:VEVENT
END:VCALENDAR