BEGIN:VCALENDAR
VERSION:2.0
PRODID:-//Christ Presbyterian Church - ECPv6.15.20//NONSGML v1.0//EN
CALSCALE:GREGORIAN
METHOD:PUBLISH
X-ORIGINAL-URL:https://christpres.org
X-WR-CALDESC:Events for Christ Presbyterian Church
REFRESH-INTERVAL;VALUE=DURATION:PT1H
X-Robots-Tag:noindex
X-PUBLISHED-TTL:PT1H
BEGIN:VTIMEZONE
TZID:America/Chicago
BEGIN:DAYLIGHT
TZOFFSETFROM:-0600
TZOFFSETTO:-0500
TZNAME:CDT
DTSTART:20220313T080000
END:DAYLIGHT
BEGIN:STANDARD
TZOFFSETFROM:-0500
TZOFFSETTO:-0600
TZNAME:CST
DTSTART:20221106T070000
END:STANDARD
BEGIN:DAYLIGHT
TZOFFSETFROM:-0600
TZOFFSETTO:-0500
TZNAME:CDT
DTSTART:20230312T080000
END:DAYLIGHT
BEGIN:STANDARD
TZOFFSETFROM:-0500
TZOFFSETTO:-0600
TZNAME:CST
DTSTART:20231105T070000
END:STANDARD
BEGIN:DAYLIGHT
TZOFFSETFROM:-0600
TZOFFSETTO:-0500
TZNAME:CDT
DTSTART:20240310T080000
END:DAYLIGHT
BEGIN:STANDARD
TZOFFSETFROM:-0500
TZOFFSETTO:-0600
TZNAME:CST
DTSTART:20241103T070000
END:STANDARD
END:VTIMEZONE
BEGIN:VEVENT
DTSTART;TZID=America/Chicago:20230819T090000
DTEND;TZID=America/Chicago:20230819T123000
DTSTAMP:20260422T030834
CREATED:20230511T211557Z
LAST-MODIFIED:20230613T204504Z
UID:10001457-1692435600-1692448200@christpres.org
SUMMARY:CPC101 – Old Hickory Blvd
DESCRIPTION:CPC101 for Old Hickory Blvd is an informative and interactive session that walks you through our church mission/vision/values\, the Presbyterian faith\, and is the first step in our membership process. Our facilitators lead adults through lessons supported by our CPC101 workbook\, which you’ll receive a copy of upon arrival. Membership is not required once you complete CPC101\, but for those wishing to become members\, participation in CPC101 is a prerequisite. Information on our membership process and baptism can be found here. \nRegister Here
URL:https://christpres.org/ohb/event/cpc101-old-hickory-blvd/
LOCATION:Christ Presbyterian Church – Old Hickory Blvd\, 2323 Old Hickory Boulevard\, Nashville\, TN\, 37215\, United States
ATTACH;FMTTYPE=image/png:https://christpres.org/wp-content/uploads/2022/07/CPC101_Slide-1.png
ORGANIZER;CN="Jamie Harris":MAILTO:jharris@christpres.org
END:VEVENT
END:VCALENDAR