BEGIN:VCALENDAR
VERSION:2.0
PRODID:-//Christ Presbyterian Church - ECPv6.15.20//NONSGML v1.0//EN
CALSCALE:GREGORIAN
METHOD:PUBLISH
X-ORIGINAL-URL:https://christpres.org
X-WR-CALDESC:Events for Christ Presbyterian Church
REFRESH-INTERVAL;VALUE=DURATION:PT1H
X-Robots-Tag:noindex
X-PUBLISHED-TTL:PT1H
BEGIN:VTIMEZONE
TZID:America/Chicago
BEGIN:DAYLIGHT
TZOFFSETFROM:-0600
TZOFFSETTO:-0500
TZNAME:CDT
DTSTART:20220313T080000
END:DAYLIGHT
BEGIN:STANDARD
TZOFFSETFROM:-0500
TZOFFSETTO:-0600
TZNAME:CST
DTSTART:20221106T070000
END:STANDARD
BEGIN:DAYLIGHT
TZOFFSETFROM:-0600
TZOFFSETTO:-0500
TZNAME:CDT
DTSTART:20230312T080000
END:DAYLIGHT
BEGIN:STANDARD
TZOFFSETFROM:-0500
TZOFFSETTO:-0600
TZNAME:CST
DTSTART:20231105T070000
END:STANDARD
BEGIN:DAYLIGHT
TZOFFSETFROM:-0600
TZOFFSETTO:-0500
TZNAME:CDT
DTSTART:20240310T080000
END:DAYLIGHT
BEGIN:STANDARD
TZOFFSETFROM:-0500
TZOFFSETTO:-0600
TZNAME:CST
DTSTART:20241103T070000
END:STANDARD
END:VTIMEZONE
BEGIN:VEVENT
DTSTART;TZID=America/Chicago:20230919T093000
DTEND;TZID=America/Chicago:20230919T110000
DTSTAMP:20260419T220825
CREATED:20230804T025511Z
LAST-MODIFIED:20230804T025611Z
UID:10002362-1695115800-1695121200@christpres.org
SUMMARY:Women's Group (Tuesday AM)
DESCRIPTION:We’ll be studying The Holy Spirit: A 10-Week Study on the Third Person of the Trinity. Each week begins with large group teaching and then breaks into smaller groups for discussion\, encouragement\, and prayer. Childcare is provided.  \nRegister Here.
URL:https://christpres.org/ohb/event/womens-group-tuesday-am/2023-09-19/
LOCATION:Christ Presbyterian Church – Old Hickory Blvd\, 2323 Old Hickory Boulevard\, Nashville\, TN\, 37215\, United States
ATTACH;FMTTYPE=image/jpeg:https://christpres.org/wp-content/uploads/2023/05/PMwomen.jpeg
ORGANIZER;CN="Suzanne Simmons":MAILTO:ssimmons@christpres.org
END:VEVENT
BEGIN:VEVENT
DTSTART;TZID=America/Chicago:20230919T183000
DTEND;TZID=America/Chicago:20230919T200000
DTSTAMP:20260419T220825
CREATED:20230804T025800Z
LAST-MODIFIED:20230912T035129Z
UID:10002372-1695148200-1695153600@christpres.org
SUMMARY:Women's Group (Tuesday PM)
DESCRIPTION:We’ll be studying The Holy Spirit: A 10-Week Study on the Third Person of the Trinity. Each week begins with large group teaching and then breaks into smaller groups for discussion\, encouragement\, and prayer. Childcare is not provided.  \nRegister Here.
URL:https://christpres.org/ohb/event/womens-group-tuesday-pm/2023-09-19/
LOCATION:Christ Presbyterian Church – Old Hickory Blvd\, 2323 Old Hickory Boulevard\, Nashville\, TN\, 37215\, United States
ATTACH;FMTTYPE=image/jpeg:https://christpres.org/wp-content/uploads/2022/08/IMG_3355-scaled-e1694490681363.jpg
END:VEVENT
BEGIN:VEVENT
DTSTART;TZID=America/Chicago:20230919T183000
DTEND;TZID=America/Chicago:20230919T200000
DTSTAMP:20260419T220825
CREATED:20230830T143208Z
LAST-MODIFIED:20230908T191444Z
UID:10003360-1695148200-1695153600@christpres.org
SUMMARY:Men's 1st Annual Chicken Wing Fling
DESCRIPTION:All men are invited to the first annual Men’s Ministry Chicken Wing Fling! Bring yourself\, bring a friend\, and bring your favorite hot sauce to share for a time of food\, fun\, connecting\, and a little bit of learning\, too! Find us on the outdoor Breezeway behind the church. Though not required\, we do have a $10 suggested donation to help cover food. \nRegister/Pay Here
URL:https://christpres.org/ohb/event/mens-1st-annual-chicken-wing-fling/
LOCATION:Christ Presbyterian Church – Old Hickory Blvd\, 2323 Old Hickory Boulevard\, Nashville\, TN\, 37215\, United States
ATTACH;FMTTYPE=image/jpeg:https://christpres.org/wp-content/uploads/2023/09/Chicken-Wing-Fling_Website-scaled.jpg
ORGANIZER;CN="Lee Eric Fesko":MAILTO:lfesko@christpres.org
END:VEVENT
END:VCALENDAR