BEGIN:VCALENDAR
VERSION:2.0
PRODID:-//Christ Presbyterian Church - ECPv6.15.20//NONSGML v1.0//EN
CALSCALE:GREGORIAN
METHOD:PUBLISH
X-WR-CALNAME:Christ Presbyterian Church
X-ORIGINAL-URL:https://christpres.org
X-WR-CALDESC:Events for Christ Presbyterian Church
REFRESH-INTERVAL;VALUE=DURATION:PT1H
X-Robots-Tag:noindex
X-PUBLISHED-TTL:PT1H
BEGIN:VTIMEZONE
TZID:America/Chicago
BEGIN:DAYLIGHT
TZOFFSETFROM:-0600
TZOFFSETTO:-0500
TZNAME:CDT
DTSTART:20240310T080000
END:DAYLIGHT
BEGIN:STANDARD
TZOFFSETFROM:-0500
TZOFFSETTO:-0600
TZNAME:CST
DTSTART:20241103T070000
END:STANDARD
BEGIN:DAYLIGHT
TZOFFSETFROM:-0600
TZOFFSETTO:-0500
TZNAME:CDT
DTSTART:20250309T080000
END:DAYLIGHT
BEGIN:STANDARD
TZOFFSETFROM:-0500
TZOFFSETTO:-0600
TZNAME:CST
DTSTART:20251102T070000
END:STANDARD
BEGIN:DAYLIGHT
TZOFFSETFROM:-0600
TZOFFSETTO:-0500
TZNAME:CDT
DTSTART:20260308T080000
END:DAYLIGHT
BEGIN:STANDARD
TZOFFSETFROM:-0500
TZOFFSETTO:-0600
TZNAME:CST
DTSTART:20261101T070000
END:STANDARD
END:VTIMEZONE
BEGIN:VEVENT
DTSTART;TZID=America/Chicago:20250420T100000
DTEND;TZID=America/Chicago:20250420T120000
DTSTAMP:20260419T094445
CREATED:20250304T233218Z
LAST-MODIFIED:20250304T233218Z
UID:10005072-1745143200-1745150400@christpres.org
SUMMARY:Easter Sunday Worship - Music Row
DESCRIPTION:Join us for our outdoor Easter Sunday Worship on the Back Lawn! Bring blankets and chairs to sit on. Celebration treats and coffee will be provided after the service! \nIn case of inclement weather\, indoor services will be at 8:30 and 10:30 a.m. in Wightman Chapel. 
URL:https://christpres.org/musicrow/event/easter-sunday-worship-music-row-2025/
LOCATION:Scarritt Bennett Center\, 1110 19th Ave S\, Nashville\, TN\, 37209\, United States
ATTACH;FMTTYPE=image/png:https://christpres.org/wp-content/uploads/2025/03/Screenshot-2025-03-02-at-10.32.47 PM-1.png
ORGANIZER;CN="Emily McCraw":MAILTO:emccraw@christpres.org
END:VEVENT
BEGIN:VEVENT
DTSTART;TZID=America/Chicago:20250420T113000
DTEND;TZID=America/Chicago:20250420T130000
DTSTAMP:20260419T094445
CREATED:20250304T185341Z
LAST-MODIFIED:20250304T185457Z
UID:10005065-1745148600-1745154000@christpres.org
SUMMARY:Easter Egg Hunt (Music Row)
DESCRIPTION:After service on Easter Sunday\, join us for an Egg Hunt! \nMore details and registration coming soon. 
URL:https://christpres.org/musicrow/event/easter-egg-hunt-music-row/
LOCATION:Scarritt Bennett Center\, 1110 19th Ave S\, Nashville\, TN\, 37209\, United States
ATTACH;FMTTYPE=image/jpeg:https://christpres.org/wp-content/uploads/2025/03/MR-Egg-Hunt-2025_Website.jpg
ORGANIZER;CN="Jenny Camp":MAILTO:jcamp@christpres.org
END:VEVENT
END:VCALENDAR