BEGIN:VCALENDAR
VERSION:2.0
PRODID:-//Christ Presbyterian Church - ECPv6.15.20//NONSGML v1.0//EN
CALSCALE:GREGORIAN
METHOD:PUBLISH
X-WR-CALNAME:Christ Presbyterian Church
X-ORIGINAL-URL:https://christpres.org
X-WR-CALDESC:Events for Christ Presbyterian Church
REFRESH-INTERVAL;VALUE=DURATION:PT1H
X-Robots-Tag:noindex
X-PUBLISHED-TTL:PT1H
BEGIN:VTIMEZONE
TZID:America/Chicago
BEGIN:DAYLIGHT
TZOFFSETFROM:-0600
TZOFFSETTO:-0500
TZNAME:CDT
DTSTART:20250309T080000
END:DAYLIGHT
BEGIN:STANDARD
TZOFFSETFROM:-0500
TZOFFSETTO:-0600
TZNAME:CST
DTSTART:20251102T070000
END:STANDARD
BEGIN:DAYLIGHT
TZOFFSETFROM:-0600
TZOFFSETTO:-0500
TZNAME:CDT
DTSTART:20260308T080000
END:DAYLIGHT
BEGIN:STANDARD
TZOFFSETFROM:-0500
TZOFFSETTO:-0600
TZNAME:CST
DTSTART:20261101T070000
END:STANDARD
BEGIN:DAYLIGHT
TZOFFSETFROM:-0600
TZOFFSETTO:-0500
TZNAME:CDT
DTSTART:20270314T080000
END:DAYLIGHT
BEGIN:STANDARD
TZOFFSETFROM:-0500
TZOFFSETTO:-0600
TZNAME:CST
DTSTART:20271107T070000
END:STANDARD
END:VTIMEZONE
BEGIN:VEVENT
DTSTART;TZID=America/Chicago:20260613T090000
DTEND;TZID=America/Chicago:20260613T110000
DTSTAMP:20260422T193634
CREATED:20260422T154458Z
LAST-MODIFIED:20260422T154458Z
UID:10005787-1781341200-1781348400@christpres.org
SUMMARY:Popsicle Playdate (Music Row)
DESCRIPTION:Bring your little ones and friends for a playdate on the second Saturday of the month at Dragon Park (2400 Blakemore Ave) at 9:00 a.m.! Popsicles will be provided! See all upcoming dates below. \nMay 9\nJune 16\nJuly 11\nAugust 8\nSeptember 12 \nRSVP here
URL:https://christpres.org/musicrow/event/popsicle-playdate-music-row-2026/2026-06-13/
LOCATION:Dragon Park\, 2400 Blakemore Ave\, Nashville\, TN\, 37212\, United States
ATTACH;FMTTYPE=image/jpeg:https://christpres.org/wp-content/uploads/2025/05/Popsicle-Playdate_Website-04-scaled.jpg
ORGANIZER;CN="Catherine Richardson":MAILTO:crichardson@christpres.org
END:VEVENT
END:VCALENDAR