BEGIN:VCALENDAR
VERSION:2.0
PRODID:-//Christ Presbyterian Church - ECPv6.15.20//NONSGML v1.0//EN
CALSCALE:GREGORIAN
METHOD:PUBLISH
X-WR-CALNAME:Christ Presbyterian Church
X-ORIGINAL-URL:https://christpres.org
X-WR-CALDESC:Events for Christ Presbyterian Church
REFRESH-INTERVAL;VALUE=DURATION:PT1H
X-Robots-Tag:noindex
X-PUBLISHED-TTL:PT1H
BEGIN:VTIMEZONE
TZID:America/Chicago
BEGIN:DAYLIGHT
TZOFFSETFROM:-0600
TZOFFSETTO:-0500
TZNAME:CDT
DTSTART:20250309T080000
END:DAYLIGHT
BEGIN:STANDARD
TZOFFSETFROM:-0500
TZOFFSETTO:-0600
TZNAME:CST
DTSTART:20251102T070000
END:STANDARD
BEGIN:DAYLIGHT
TZOFFSETFROM:-0600
TZOFFSETTO:-0500
TZNAME:CDT
DTSTART:20260308T080000
END:DAYLIGHT
BEGIN:STANDARD
TZOFFSETFROM:-0500
TZOFFSETTO:-0600
TZNAME:CST
DTSTART:20261101T070000
END:STANDARD
BEGIN:DAYLIGHT
TZOFFSETFROM:-0600
TZOFFSETTO:-0500
TZNAME:CDT
DTSTART:20270314T080000
END:DAYLIGHT
BEGIN:STANDARD
TZOFFSETFROM:-0500
TZOFFSETTO:-0600
TZNAME:CST
DTSTART:20271107T070000
END:STANDARD
END:VTIMEZONE
BEGIN:VEVENT
DTSTART;TZID=America/Chicago:20260720T090000
DTEND;TZID=America/Chicago:20260720T120000
DTSTAMP:20260419T192650
CREATED:20260415T203727Z
LAST-MODIFIED:20260415T203748Z
UID:10005764-1784538000-1784548800@christpres.org
SUMMARY:Kids Choir Camp (3-Day)
DESCRIPTION:Camp will be July 20-22\, 2025 from 9:00 a.m. until 12:00 p.m. \nKids choir camp is BACK! Sign up your singer today! \nChrist Presbyterian Church is hosting a kids choir camp for students who are rising Kindergarten through 5th grade! We will learn music that we will be sharing in worship in the Fall\, as well as getting a jump start on a Winter musical. There will be games\, ear training\, learning to read music\, lots of laughs\, and making connections with one another\, and with our Savior through music! Snacks will be provided. No prior music training is required – just bring a heart for Christ and your voice. Parents and older teens\, if you would like to volunteer to help\, please let us know. Join us one day or all three\, we’d love to have you sing with us. \nKids Choir Leaders: Lori Casteel and Grace McGaha \nREGISTER HERE. \nIf you have any questions\, please contact Tracy Fesko. We look forward to seeing your camper in July!
URL:https://christpres.org/ohb/event/kids-choir-camp-2026/
LOCATION:Christ Presbyterian Church – Old Hickory Blvd\, 2323 Old Hickory Boulevard\, Nashville\, TN\, 37215\, United States
ATTACH;FMTTYPE=image/jpeg:https://christpres.org/wp-content/uploads/2024/06/Kids-Choir-Camp_Website-scaled.jpg
ORGANIZER;CN="Tracy Fesko":MAILTO:ohbchoir@christpres.org
END:VEVENT
END:VCALENDAR