BEGIN:VCALENDAR
VERSION:2.0
PRODID:-//Christ Presbyterian Church - ECPv6.15.20//NONSGML v1.0//EN
CALSCALE:GREGORIAN
METHOD:PUBLISH
X-ORIGINAL-URL:https://christpres.org
X-WR-CALDESC:Events for Christ Presbyterian Church
REFRESH-INTERVAL;VALUE=DURATION:PT1H
X-Robots-Tag:noindex
X-PUBLISHED-TTL:PT1H
BEGIN:VTIMEZONE
TZID:America/Chicago
BEGIN:DAYLIGHT
TZOFFSETFROM:-0600
TZOFFSETTO:-0500
TZNAME:CDT
DTSTART:20210314T080000
END:DAYLIGHT
BEGIN:STANDARD
TZOFFSETFROM:-0500
TZOFFSETTO:-0600
TZNAME:CST
DTSTART:20211107T070000
END:STANDARD
BEGIN:DAYLIGHT
TZOFFSETFROM:-0600
TZOFFSETTO:-0500
TZNAME:CDT
DTSTART:20220313T080000
END:DAYLIGHT
BEGIN:STANDARD
TZOFFSETFROM:-0500
TZOFFSETTO:-0600
TZNAME:CST
DTSTART:20221106T070000
END:STANDARD
BEGIN:DAYLIGHT
TZOFFSETFROM:-0600
TZOFFSETTO:-0500
TZNAME:CDT
DTSTART:20230312T080000
END:DAYLIGHT
BEGIN:STANDARD
TZOFFSETFROM:-0500
TZOFFSETTO:-0600
TZNAME:CST
DTSTART:20231105T070000
END:STANDARD
BEGIN:DAYLIGHT
TZOFFSETFROM:-0600
TZOFFSETTO:-0500
TZNAME:CDT
DTSTART:20240310T080000
END:DAYLIGHT
BEGIN:STANDARD
TZOFFSETFROM:-0500
TZOFFSETTO:-0600
TZNAME:CST
DTSTART:20241103T070000
END:STANDARD
END:VTIMEZONE
BEGIN:VEVENT
DTSTART;TZID=America/Chicago:20221129T063000
DTEND;TZID=America/Chicago:20221129T073000
DTSTAMP:20260420T001225
CREATED:20220831T202447Z
LAST-MODIFIED:20220901T232520Z
UID:10000302-1669703400-1669707000@christpres.org
SUMMARY:Men's Biscuits and Bibles
DESCRIPTION:Men from Cool Springs gather every Tuesday morning at 6:30 a.m. to study Scripture together. This study meets every week. All men are invited!
URL:https://christpres.org/coolsprings/event/mens-biscuits-and-bibles/2022-11-29/
LOCATION:Christ Presbyterian Church – Cool Springs\, 325 Seaboard Ln\, Suite 100\, Franklin\, TN\, 37067
ATTACH;FMTTYPE=image/png:https://christpres.org/wp-content/uploads/2022/08/Biscuits-Bibles.png
END:VEVENT
BEGIN:VEVENT
DTSTART;TZID=America/Chicago:20221130T063000
DTEND;TZID=America/Chicago:20221130T074500
DTSTAMP:20260420T001225
CREATED:20220817T212421Z
LAST-MODIFIED:20220818T183402Z
UID:10000178-1669789800-1669794300@christpres.org
SUMMARY:Men's Bible Study
DESCRIPTION:Beginning on Wednesday\, August 24th\, we are starting our CPC Music Row Men’s Bible study. We will meet from 6:30-7:45 am at the office of Barry Simmons in Marathon Village (1200 Clinton Street #233 Nashville\, TN 37203). Matt Walker and I will be co-leading through the Gospel of Mark this fall. We will meet weekly\, and our fall study will run from August 24th to October 5th and then from October 19th through November.
URL:https://christpres.org/musicrow/event/mens-bible-study/2022-11-30/
LOCATION:TN
ATTACH;FMTTYPE=image/png:https://christpres.org/wp-content/uploads/2022/08/Add-a-heading.png
END:VEVENT
BEGIN:VEVENT
DTSTART;TZID=America/Chicago:20221204T100000
DTEND;TZID=America/Chicago:20221204T104500
DTSTAMP:20260420T001225
CREATED:20220817T171827Z
LAST-MODIFIED:20221031T193035Z
UID:10000163-1670148000-1670150700@christpres.org
SUMMARY:Newcomer's Coffee
DESCRIPTION:If you are new to Christ Presbyterian Church join us at the Newcomer’s Coffee to meet our Senior Pastor and Ministry Director find out more about the church and how to connect. \nRegister here.
URL:https://christpres.org/ohb/event/newcomers-coffee/
LOCATION:Christ Presbyterian Church – Old Hickory Blvd\, 2323 Old Hickory Boulevard\, Nashville\, TN\, 37215\, United States
ATTACH;FMTTYPE=image/png:https://christpres.org/wp-content/uploads/2022/08/Newcomers-Coffee_Website.png
END:VEVENT
BEGIN:VEVENT
DTSTART;TZID=America/Chicago:20221204T103000
DTEND;TZID=America/Chicago:20221204T103000
DTSTAMP:20260420T001225
CREATED:20220901T225846Z
LAST-MODIFIED:20220901T230845Z
UID:10000308-1670149800-1670149800@christpres.org
SUMMARY:Baptism + Joining Sundays
DESCRIPTION:We will have baptisms during the worship service. If you are a member of Christ Presbyterian Church and are interested in having your child baptized on this day\, please reach out to Cool Springs Administrative Assistant Elizabeth McCrina.
URL:https://christpres.org/coolsprings/event/baptism-joining-sundays/2022-12-04/
LOCATION:Christ Presbyterian Church – Cool Springs\, 325 Seaboard Ln\, Suite 100\, Franklin\, TN\, 37067
ATTACH;FMTTYPE=image/png:https://christpres.org/wp-content/uploads/2022/09/Baptism.png
END:VEVENT
BEGIN:VEVENT
DTSTART;TZID=America/Chicago:20221206T063000
DTEND;TZID=America/Chicago:20221206T073000
DTSTAMP:20260420T001225
CREATED:20220831T202447Z
LAST-MODIFIED:20220901T232520Z
UID:10000303-1670308200-1670311800@christpres.org
SUMMARY:Men's Biscuits and Bibles
DESCRIPTION:Men from Cool Springs gather every Tuesday morning at 6:30 a.m. to study Scripture together. This study meets every week. All men are invited!
URL:https://christpres.org/coolsprings/event/mens-biscuits-and-bibles/2022-12-06/
LOCATION:Christ Presbyterian Church – Cool Springs\, 325 Seaboard Ln\, Suite 100\, Franklin\, TN\, 37067
ATTACH;FMTTYPE=image/png:https://christpres.org/wp-content/uploads/2022/08/Biscuits-Bibles.png
END:VEVENT
BEGIN:VEVENT
DTSTART;TZID=America/Chicago:20221207T190000
DTEND;TZID=America/Chicago:20221207T203000
DTSTAMP:20260420T001225
CREATED:20220817T161207Z
LAST-MODIFIED:20220817T161239Z
UID:10000161-1670439600-1670445000@christpres.org
SUMMARY:Young Professionals
DESCRIPTION:Nashville is a transitory city for many young professionals. We desire Christ Presbyterian Church at Music Row to be a home and landing spot for you to worship\, connect\, and serve. \n\n\n\n\n\nYoung Professionals is a three-month program\, beginning September 7\,  designed to help you integrate into the church and launch you into the city as a follower of Christ. \n\nClick here for more details and to register.
URL:https://christpres.org/musicrow/event/young-professionals-11/
LOCATION:TN
ATTACH;FMTTYPE=image/png:https://christpres.org/wp-content/uploads/2022/08/Nashville-Skyline.png
END:VEVENT
BEGIN:VEVENT
DTSTART;TZID=America/Chicago:20221210T090000
DTEND;TZID=America/Chicago:20221210T110000
DTSTAMP:20260420T001225
CREATED:20221122T160015Z
LAST-MODIFIED:20221129T222030Z
UID:10000234-1670662800-1670670000@christpres.org
SUMMARY:Special Saturday
DESCRIPTION:Kids & Adults with special needs and their siblings are invited to enjoy an uplifting time of Bible stories\, music and crafts.\nREGISTER PARTICIPANTS \n\n\n\n\nVOLUNTEERS NEEDED\nOne amazing way to love families with children and adults with special needs is by serving at a Special Saturday.\nSIGN UP \n\nMark your calendars for the remaining Special Saturday events for this school year:\nJanuary 14\, 2023\nFebruary 11\, 2023\nMarch 4\, 2023\nApril 15\, 2023
URL:https://christpres.org/ohb/event/special-saturday-4/
LOCATION:Christ Presbyterian Church – Old Hickory Blvd\, 2323 Old Hickory Boulevard\, Nashville\, TN\, 37215\, United States
ATTACH;FMTTYPE=image/jpeg:https://christpres.org/wp-content/uploads/2022/07/My-project-12.jpg
END:VEVENT
BEGIN:VEVENT
DTSTART;TZID=America/Chicago:20221210T183000
DTEND;TZID=America/Chicago:20221210T183000
DTSTAMP:20260420T001225
CREATED:20221110T160859Z
LAST-MODIFIED:20221110T161235Z
UID:10000319-1670697000-1670697000@christpres.org
SUMMARY:Community Christmas
DESCRIPTION:Christ Presbyterian Church and Christ Presbyterian Academy invite you to our Community Christmas Event featuring Johnny Reid and Friends.  This will be an evening of joyful Christmas celebration with a Cookie and Cocoa reception following.  Space is limited and we expect a packed house so please register here today.
URL:https://christpres.org/ohb/event/community-christmas/
LOCATION:Christ Presbyterian Church – Old Hickory Blvd\, 2323 Old Hickory Boulevard\, Nashville\, TN\, 37215\, United States
ATTACH;FMTTYPE=image/png:https://christpres.org/wp-content/uploads/2022/11/Community-Christmas_Website_Website.png
END:VEVENT
BEGIN:VEVENT
DTSTART;TZID=America/Chicago:20221211T173000
DTEND;TZID=America/Chicago:20221211T190000
DTSTAMP:20260420T001225
CREATED:20221101T150056Z
LAST-MODIFIED:20221122T171556Z
UID:10000235-1670779800-1670785200@christpres.org
SUMMARY:The Ascent
DESCRIPTION:The Ascent is a group that meets twice a month with a time of fellowship\, amazing worship\, a fun activity\, and a message geared toward adults with special needs. \nVOLUNTEERS NEEDED\nYou can serve by helping provide the meal\, or coming to spend time getting to know the friends! \n\n\n\n\nParticipants and volunteers\, sign up here.\n\n\n  \nMark your calendars for the remaining Ascent events for this school year:\nJanuary 8\, 2023\nJanuary 22\, 2023\nFebruary 12\, 2023\nFebruary 26\, 2023\nMarch 12\, 2023\nMarch 26\, 2023\nApril 23\, 2023\nMay 7\, 2023
URL:https://christpres.org/ohb/event/the-ascent-6/
LOCATION:Christ Presbyterian Church – Old Hickory Blvd\, 2323 Old Hickory Boulevard\, Nashville\, TN\, 37215\, United States
ATTACH;FMTTYPE=image/jpeg:https://christpres.org/wp-content/uploads/2022/06/TheAscent_FB.jpeg
END:VEVENT
BEGIN:VEVENT
DTSTART;TZID=America/Chicago:20221211T180000
DTEND;TZID=America/Chicago:20221214T210000
DTSTAMP:20260420T001225
CREATED:20221120T210250Z
LAST-MODIFIED:20221120T210250Z
UID:10000328-1670781600-1671051600@christpres.org
SUMMARY:Women's Parish Wrap Parties
DESCRIPTION:Bring your Christmas gifts\, some gift-wrapping supplies\, and a gift to share with one of our City Groups for a night of fellowship and gift-wrapping with other women in your parish! \nEast Parish (East Nash\, Donelson\, The Gulch) – Wednesday\, December 14\, from 7-9 p.m.\nSouth & University Parishes (12 South\, Crieve Hall\, Green Hills\, Woodbine) – Monday\, December 12 at 7:30 p.m.\nWest Parish (Germantown\, Sylvan Park\, The Nations) – Sunday\, December 11\, from 6-8 p.m. \nPlease RSVP here for the address and more details. Questions? Please contact Erin McCabe.
URL:https://christpres.org/musicrow/event/womens-parish-wrap-parties/
LOCATION:TN
ATTACH;FMTTYPE=image/png:https://christpres.org/wp-content/uploads/2022/11/PARISH-WRAP-PARTIES-WEBSITE.png
END:VEVENT
BEGIN:VEVENT
DTSTART;TZID=America/Chicago:20221213T063000
DTEND;TZID=America/Chicago:20221213T073000
DTSTAMP:20260420T001225
CREATED:20220831T202447Z
LAST-MODIFIED:20220901T232520Z
UID:10000304-1670913000-1670916600@christpres.org
SUMMARY:Men's Biscuits and Bibles
DESCRIPTION:Men from Cool Springs gather every Tuesday morning at 6:30 a.m. to study Scripture together. This study meets every week. All men are invited!
URL:https://christpres.org/coolsprings/event/mens-biscuits-and-bibles/2022-12-13/
LOCATION:Christ Presbyterian Church – Cool Springs\, 325 Seaboard Ln\, Suite 100\, Franklin\, TN\, 37067
ATTACH;FMTTYPE=image/png:https://christpres.org/wp-content/uploads/2022/08/Biscuits-Bibles.png
END:VEVENT
BEGIN:VEVENT
DTSTART;TZID=America/Chicago:20221214T180000
DTEND;TZID=America/Chicago:20221214T193000
DTSTAMP:20260420T001225
CREATED:20220901T231012Z
LAST-MODIFIED:20221005T151941Z
UID:10000190-1671040800-1671046200@christpres.org
SUMMARY:Student Hang at The Gilders’
DESCRIPTION:Students grades 6-12 are invited to come hang out every 2nd + 4th Wednesday at Joe & Pam Gilder’s house in Cottonwood. There will be pizza and games\, and a standing challenge for anyone to beat Joe in four-square. Email Joe Gilder for more information.
URL:https://christpres.org/coolsprings/event/student-hang-at-the-gilders/2022-12-14/
LOCATION:TN
ATTACH;FMTTYPE=image/jpeg:https://christpres.org/wp-content/uploads/2022/07/My-project-8-e1684935293945.jpg
END:VEVENT
BEGIN:VEVENT
DTSTART;TZID=America/Chicago:20221220T063000
DTEND;TZID=America/Chicago:20221220T073000
DTSTAMP:20260420T001225
CREATED:20220831T202447Z
LAST-MODIFIED:20220901T232520Z
UID:10000305-1671517800-1671521400@christpres.org
SUMMARY:Men's Biscuits and Bibles
DESCRIPTION:Men from Cool Springs gather every Tuesday morning at 6:30 a.m. to study Scripture together. This study meets every week. All men are invited!
URL:https://christpres.org/coolsprings/event/mens-biscuits-and-bibles/2022-12-20/
LOCATION:Christ Presbyterian Church – Cool Springs\, 325 Seaboard Ln\, Suite 100\, Franklin\, TN\, 37067
ATTACH;FMTTYPE=image/png:https://christpres.org/wp-content/uploads/2022/08/Biscuits-Bibles.png
END:VEVENT
BEGIN:VEVENT
DTSTART;TZID=America/Chicago:20221224T150000
DTEND;TZID=America/Chicago:20221224T150000
DTSTAMP:20260420T001225
CREATED:20221110T161056Z
LAST-MODIFIED:20221117T164835Z
UID:10000320-1671894000-1671894000@christpres.org
SUMMARY:Lessons and Carols
DESCRIPTION:Join us on Christmas Eve for a night of Lessons and Carols.  Services are at 3 and 5 p.m.  Nursery will be provided for ages 0-2 years. \nSign-up to serve here. \n 
URL:https://christpres.org/ohb/event/lessons-and-carols/2022-12-24/1/
LOCATION:Christ Presbyterian Church – Old Hickory Blvd\, 2323 Old Hickory Boulevard\, Nashville\, TN\, 37215\, United States
ATTACH;FMTTYPE=image/png:https://christpres.org/wp-content/uploads/2022/11/Lessons-and-Carols_Website.png
END:VEVENT
BEGIN:VEVENT
DTSTART;TZID=America/Chicago:20221224T170000
DTEND;TZID=America/Chicago:20221224T170000
DTSTAMP:20260420T001225
CREATED:20221110T161056Z
LAST-MODIFIED:20221117T164835Z
UID:10000321-1671901200-1671901200@christpres.org
SUMMARY:Lessons and Carols
DESCRIPTION:Join us on Christmas Eve for a night of Lessons and Carols.  Services are at 3 and 5 p.m.  Nursery will be provided for ages 0-2 years. \nSign-up to serve here. \n 
URL:https://christpres.org/ohb/event/lessons-and-carols/2022-12-24/2/
LOCATION:Christ Presbyterian Church – Old Hickory Blvd\, 2323 Old Hickory Boulevard\, Nashville\, TN\, 37215\, United States
ATTACH;FMTTYPE=image/png:https://christpres.org/wp-content/uploads/2022/11/Lessons-and-Carols_Website.png
END:VEVENT
BEGIN:VEVENT
DTSTART;TZID=America/Chicago:20221224T170000
DTEND;TZID=America/Chicago:20221224T223000
DTSTAMP:20260420T001225
CREATED:20221205T195258Z
LAST-MODIFIED:20221205T195350Z
UID:10000330-1671901200-1671921000@christpres.org
SUMMARY:Christmas Eve
DESCRIPTION:Join us on Christmas Eve for a night of Lessons and Carols in Wightman Chapel at Scarritt Bennett Center.  Services are at 5 and 10:30 p.m.
URL:https://christpres.org/musicrow/event/christmas-eve/
LOCATION:Scarritt Bennett Center\, 1110 19th Ave S\, Nashville\, TN\, 37209\, United States
ATTACH;FMTTYPE=image/png:https://christpres.org/wp-content/uploads/2022/12/christmas-eve.png
END:VEVENT
BEGIN:VEVENT
DTSTART;TZID=America/Chicago:20221225T100000
DTEND;TZID=America/Chicago:20221225T100000
DTSTAMP:20260420T001225
CREATED:20221115T195948Z
LAST-MODIFIED:20221115T195948Z
UID:10000326-1671962400-1671962400@christpres.org
SUMMARY:Christmas Day Family Service
DESCRIPTION:We hope you join us for our Christmas Day Service.  We will have an intimate service at 10 a.m. for your entire family.  There will be no additional programming.  The Window Room will be a Wiggles and Giggles area for those who would like to utilize it.
URL:https://christpres.org/ohb/event/christmas-day-family-service/
LOCATION:Christ Presbyterian Church – Old Hickory Blvd\, 2323 Old Hickory Boulevard\, Nashville\, TN\, 37215\, United States
ATTACH;FMTTYPE=image/png:https://christpres.org/wp-content/uploads/2022/11/Christmas-Day-NYD-11.png
END:VEVENT
BEGIN:VEVENT
DTSTART;TZID=America/Chicago:20221227T063000
DTEND;TZID=America/Chicago:20221227T073000
DTSTAMP:20260420T001225
CREATED:20220831T202447Z
LAST-MODIFIED:20220901T232520Z
UID:10000306-1672122600-1672126200@christpres.org
SUMMARY:Men's Biscuits and Bibles
DESCRIPTION:Men from Cool Springs gather every Tuesday morning at 6:30 a.m. to study Scripture together. This study meets every week. All men are invited!
URL:https://christpres.org/coolsprings/event/mens-biscuits-and-bibles/2022-12-27/
LOCATION:Christ Presbyterian Church – Cool Springs\, 325 Seaboard Ln\, Suite 100\, Franklin\, TN\, 37067
ATTACH;FMTTYPE=image/png:https://christpres.org/wp-content/uploads/2022/08/Biscuits-Bibles.png
END:VEVENT
BEGIN:VEVENT
DTSTART;TZID=America/Chicago:20221228T180000
DTEND;TZID=America/Chicago:20221228T193000
DTSTAMP:20260420T001225
CREATED:20220901T231012Z
LAST-MODIFIED:20221005T151941Z
UID:10000191-1672250400-1672255800@christpres.org
SUMMARY:Student Hang at The Gilders’
DESCRIPTION:Students grades 6-12 are invited to come hang out every 2nd + 4th Wednesday at Joe & Pam Gilder’s house in Cottonwood. There will be pizza and games\, and a standing challenge for anyone to beat Joe in four-square. Email Joe Gilder for more information.
URL:https://christpres.org/coolsprings/event/student-hang-at-the-gilders/2022-12-28/
LOCATION:TN
ATTACH;FMTTYPE=image/jpeg:https://christpres.org/wp-content/uploads/2022/07/My-project-8-e1684935293945.jpg
END:VEVENT
BEGIN:VEVENT
DTSTART;TZID=America/Chicago:20230101T100000
DTEND;TZID=America/Chicago:20230101T100000
DTSTAMP:20260420T001225
CREATED:20221115T200054Z
LAST-MODIFIED:20221115T200054Z
UID:10000327-1672567200-1672567200@christpres.org
SUMMARY:New Year's Day Service
DESCRIPTION:We hope you join us to ring in the New Year together in an intimate service at 10 AM for your entire family.  There will be no additional programming.  The Window Room will be a Wiggles and Giggles area for those who would like to utilize it.
URL:https://christpres.org/ohb/event/new-years-day-service/
LOCATION:Christ Presbyterian Church – Old Hickory Blvd\, 2323 Old Hickory Boulevard\, Nashville\, TN\, 37215\, United States
ATTACH;FMTTYPE=image/png:https://christpres.org/wp-content/uploads/2022/11/Christmas-Day-NYD-12.png
END:VEVENT
BEGIN:VEVENT
DTSTART;TZID=America/Chicago:20230108T173000
DTEND;TZID=America/Chicago:20230108T190000
DTSTAMP:20260420T001225
CREATED:20221203T160016Z
LAST-MODIFIED:20221214T192824Z
UID:10000233-1673199000-1673204400@christpres.org
SUMMARY:The Ascent
DESCRIPTION:The Ascent is a group that meets twice a month with a time of fellowship\, amazing worship\, a fun activity\, and a message geared toward adults with special needs. \nVOLUNTEERS NEEDED\nYou can serve by helping provide the meal\, or coming to spend time getting to know the friends! \n\n\n\n\nParticipants and volunteers\, sign up here.\n\n\n  \nMark your calendars for the remaining Ascent events for this school year:\nJanuary 22\, 2023\nFebruary 12\, 2023\nFebruary 26\, 2023\nMarch 12\, 2023\nMarch 26\, 2023\nApril 23\, 2023\nMay 7\, 2023
URL:https://christpres.org/ohb/event/the-ascent/
LOCATION:Christ Presbyterian Church – Old Hickory Blvd\, 2323 Old Hickory Boulevard\, Nashville\, TN\, 37215\, United States
ATTACH;FMTTYPE=image/jpeg:https://christpres.org/wp-content/uploads/2022/06/TheAscent_FB.jpeg
END:VEVENT
BEGIN:VEVENT
DTSTART;TZID=America/Chicago:20230114T090000
DTEND;TZID=America/Chicago:20230114T110000
DTSTAMP:20260420T001225
CREATED:20221214T160039Z
LAST-MODIFIED:20221214T192923Z
UID:10000232-1673686800-1673694000@christpres.org
SUMMARY:Special Saturday
DESCRIPTION:Kids & Adults with special needs and their siblings are invited to enjoy an uplifting time of Bible stories\, music and crafts.\nREGISTER PARTICIPANTS \n\n\n\n\nVOLUNTEERS NEEDED\nOne amazing way to love families with children and adults with special needs is by serving at a Special Saturday.\nSIGN UP \n\nMark your calendars for the remaining Special Saturday events for this school year:\nFebruary 11\, 2023\nMarch 4\, 2023\nApril 15\, 2023
URL:https://christpres.org/ohb/event/special-saturday-5/
LOCATION:Christ Presbyterian Church – Old Hickory Blvd\, 2323 Old Hickory Boulevard\, Nashville\, TN\, 37215\, United States
ATTACH;FMTTYPE=image/jpeg:https://christpres.org/wp-content/uploads/2022/07/My-project-12.jpg
END:VEVENT
BEGIN:VEVENT
DTSTART;TZID=America/Chicago:20230118T063000
DTEND;TZID=America/Chicago:20230118T063000
DTSTAMP:20260420T001225
CREATED:20230111T171936Z
LAST-MODIFIED:20230810T190644Z
UID:10000421-1674023400-1674023400@christpres.org
SUMMARY:Biscuits & Bibles
DESCRIPTION:Throughout the year\, the Men’s “Biscuits and Bibles” study meets weekly on Wednesdays at 6:30 a.m. in the OHB Choir Room. No registration is required – just drop in\, enjoy a sausage biscuit\, prepare for a time of prayer and Bible study\, and feel free to invite a friend along.
URL:https://christpres.org/ohb/event/biscuits-bibles-2/2023-01-18/
LOCATION:Christ Presbyterian Church – Old Hickory Blvd\, 2323 Old Hickory Boulevard\, Nashville\, TN\, 37215\, United States
ATTACH;FMTTYPE=image/png:https://christpres.org/wp-content/uploads/2022/08/Biscuits-Bibles.png
END:VEVENT
BEGIN:VEVENT
DTSTART;TZID=America/Chicago:20230121T090000
DTEND;TZID=America/Chicago:20230121T123000
DTSTAMP:20260420T001225
CREATED:20221205T231131Z
LAST-MODIFIED:20221205T231131Z
UID:10000331-1674291600-1674304200@christpres.org
SUMMARY:CPC101
DESCRIPTION:CPC101 is a class on our mission\, values\, and core beliefs. Our facilitators lead adults through lessons supported by a workbook\, videos\, and group discussion. Membership is not required once you complete CPC101\, but for those wishing to become members\, participation in CPC101 is a prerequisite. Information on our membership process and baptism can be found here. \nRegister here.
URL:https://christpres.org/ohb/event/cpc101/
LOCATION:Christ Presbyterian Church – Old Hickory Blvd\, 2323 Old Hickory Boulevard\, Nashville\, TN\, 37215\, United States
ATTACH;FMTTYPE=image/png:https://christpres.org/wp-content/uploads/2022/07/CPC101_Slide-1.png
END:VEVENT
BEGIN:VEVENT
DTSTART;TZID=America/Chicago:20230122T094500
DTEND;TZID=America/Chicago:20230122T094500
DTSTAMP:20260420T001225
CREATED:20230119T013422Z
LAST-MODIFIED:20230119T013422Z
UID:10000975-1674380700-1674380700@christpres.org
SUMMARY:55+ Sunday School Class
DESCRIPTION:Every Sunday at 9:45 a.m.\nEmail Melanie Rainer (mrainer@christpres.org) for more information.
URL:https://christpres.org/coolsprings/event/55-sunday-school-class/2023-01-22/
LOCATION:Christ Presbyterian Church – Cool Springs\, 325 Seaboard Ln\, Suite 100\, Franklin\, TN\, 37067
ATTACH;FMTTYPE=image/png:https://christpres.org/wp-content/uploads/2023/01/Website-Event_55-Sunday-School.png
END:VEVENT
BEGIN:VEVENT
DTSTART;TZID=America/Chicago:20230122T113000
DTEND;TZID=America/Chicago:20230122T123000
DTSTAMP:20260420T001225
CREATED:20230104T225334Z
LAST-MODIFIED:20230104T225440Z
UID:10000681-1674387000-1674390600@christpres.org
SUMMARY:Connect Group Sign-Ups
DESCRIPTION:Join us after the service to sign up for a Connect Group! Connect Groups are 8 to 16 people who gather regularly for fellowship\, prayer\, and discussion. Groups are organized by neighborhoods throughout Nashville and are a great way to meet people at our church!  If you have any questions about groups\, please contact Erin McCabe.
URL:https://christpres.org/musicrow/event/connect-group-sign-ups/
LOCATION:Scarritt Bennett Center\, 1110 19th Ave S\, Nashville\, TN\, 37209\, United States
ATTACH;FMTTYPE=image/png:https://christpres.org/wp-content/uploads/2023/01/Add-a-heading-3.png
END:VEVENT
BEGIN:VEVENT
DTSTART;TZID=America/Chicago:20230122T160000
DTEND;TZID=America/Chicago:20230122T160000
DTSTAMP:20260420T001225
CREATED:20221206T170352Z
LAST-MODIFIED:20230111T162508Z
UID:10000332-1674403200-1674403200@christpres.org
SUMMARY:Christian #deconstruction Forum
DESCRIPTION:Please Register Here \nAre you a parent concerned about your son or daughter wandering from the foundation of faith you’ve laid? Or perhaps you yourself are struggling with elements of Christianity that don’t seem to reflect a “love your neighbor” mentality? Whether you are a lifelong Christian\, or have taken on an “exvangelical” identity\, or are somewhere in between—register and join us for a discussion on Christian deconstruction—what it is and how you might thoughtfully engage with someone who is exploring or embracing it. \nFeaturing guests: \n\nKevin Twit\, Belmont RUF\nJennifer Christensen\, Christ Presbyterian Academy\nAndrew Osenga\, Recording Artist\n\nPlease Register Here \n\n 
URL:https://christpres.org/coolsprings/event/christian-deconstruction-forum/
LOCATION:Christ Presbyterian Church – Old Hickory Blvd\, 2323 Old Hickory Boulevard\, Nashville\, TN\, 37215\, United States
ATTACH;FMTTYPE=image/png:https://christpres.org/wp-content/uploads/2022/12/Deconstruction-Forum_Website.png
END:VEVENT
BEGIN:VEVENT
DTSTART;TZID=America/Chicago:20230122T173000
DTEND;TZID=America/Chicago:20230122T190000
DTSTAMP:20260420T001225
CREATED:20230111T160045Z
LAST-MODIFIED:20230111T185610Z
UID:10000231-1674408600-1674414000@christpres.org
SUMMARY:The Ascent
DESCRIPTION:The Ascent is a group that meets twice a month with a time of fellowship\, amazing worship\, a fun activity\, and a message geared toward adults with special needs. \nVOLUNTEERS NEEDED\nYou can serve by helping provide the meal\, or coming to spend time getting to know the friends! \n\n\n\n\nParticipants and volunteers\, sign up here.\n\n\n  \nMark your calendars for the remaining Ascent events for this school year:\nFebruary 12\, 2023\nFebruary 26\, 2023\nMarch 12\, 2023\nMarch 26\, 2023\nApril 23\, 2023\nMay 7\, 2023
URL:https://christpres.org/ohb/event/the-ascent/
LOCATION:Christ Presbyterian Church – Old Hickory Blvd\, 2323 Old Hickory Boulevard\, Nashville\, TN\, 37215\, United States
ATTACH;FMTTYPE=image/jpeg:https://christpres.org/wp-content/uploads/2022/06/TheAscent_FB.jpeg
END:VEVENT
BEGIN:VEVENT
DTSTART;TZID=America/Chicago:20230124T063000
DTEND;TZID=America/Chicago:20230124T063000
DTSTAMP:20260420T001225
CREATED:20230119T012414Z
LAST-MODIFIED:20230119T012414Z
UID:10000973-1674541800-1674541800@christpres.org
SUMMARY:Biscuits and Bibles
DESCRIPTION:All men are invited to join the weekly Tuesday morning Bible study at 6:30 a.m. in the sanctuary. This semester\, we will study the book of Ecclesiastes. Just bring your Bible!
URL:https://christpres.org/coolsprings/event/biscuits-and-bibles/
LOCATION:Christ Presbyterian Church – Cool Springs\, 325 Seaboard Ln\, Suite 100\, Franklin\, TN\, 37067
ATTACH;FMTTYPE=image/png:https://christpres.org/wp-content/uploads/2022/08/Biscuits-Bibles.png
END:VEVENT
BEGIN:VEVENT
DTSTART;TZID=America/Chicago:20230125T063000
DTEND;TZID=America/Chicago:20230125T063000
DTSTAMP:20260420T001225
CREATED:20230111T171936Z
LAST-MODIFIED:20230810T190644Z
UID:10000694-1674628200-1674628200@christpres.org
SUMMARY:Biscuits & Bibles
DESCRIPTION:Throughout the year\, the Men’s “Biscuits and Bibles” study meets weekly on Wednesdays at 6:30 a.m. in the OHB Choir Room. No registration is required – just drop in\, enjoy a sausage biscuit\, prepare for a time of prayer and Bible study\, and feel free to invite a friend along.
URL:https://christpres.org/ohb/event/biscuits-bibles-2/2023-01-25/
LOCATION:Christ Presbyterian Church – Old Hickory Blvd\, 2323 Old Hickory Boulevard\, Nashville\, TN\, 37215\, United States
ATTACH;FMTTYPE=image/png:https://christpres.org/wp-content/uploads/2022/08/Biscuits-Bibles.png
END:VEVENT
END:VCALENDAR