BEGIN:VCALENDAR
VERSION:2.0
PRODID:-//Christ Presbyterian Church - ECPv6.15.20//NONSGML v1.0//EN
CALSCALE:GREGORIAN
METHOD:PUBLISH
X-WR-CALNAME:Christ Presbyterian Church
X-ORIGINAL-URL:https://christpres.org
X-WR-CALDESC:Events for Christ Presbyterian Church
REFRESH-INTERVAL;VALUE=DURATION:PT1H
X-Robots-Tag:noindex
X-PUBLISHED-TTL:PT1H
BEGIN:VTIMEZONE
TZID:America/Chicago
BEGIN:DAYLIGHT
TZOFFSETFROM:-0600
TZOFFSETTO:-0500
TZNAME:CDT
DTSTART:20210314T080000
END:DAYLIGHT
BEGIN:STANDARD
TZOFFSETFROM:-0500
TZOFFSETTO:-0600
TZNAME:CST
DTSTART:20211107T070000
END:STANDARD
BEGIN:DAYLIGHT
TZOFFSETFROM:-0600
TZOFFSETTO:-0500
TZNAME:CDT
DTSTART:20220313T080000
END:DAYLIGHT
BEGIN:STANDARD
TZOFFSETFROM:-0500
TZOFFSETTO:-0600
TZNAME:CST
DTSTART:20221106T070000
END:STANDARD
BEGIN:DAYLIGHT
TZOFFSETFROM:-0600
TZOFFSETTO:-0500
TZNAME:CDT
DTSTART:20230312T080000
END:DAYLIGHT
BEGIN:STANDARD
TZOFFSETFROM:-0500
TZOFFSETTO:-0600
TZNAME:CST
DTSTART:20231105T070000
END:STANDARD
END:VTIMEZONE
BEGIN:VEVENT
DTSTART;TZID=America/Chicago:20221108T063000
DTEND;TZID=America/Chicago:20221108T073000
DTSTAMP:20260419T165130
CREATED:20220831T202447Z
LAST-MODIFIED:20220901T232520Z
UID:10000299-1667889000-1667892600@christpres.org
SUMMARY:Men's Biscuits and Bibles
DESCRIPTION:Men from Cool Springs gather every Tuesday morning at 6:30 a.m. to study Scripture together. This study meets every week. All men are invited!
URL:https://christpres.org/coolsprings/event/mens-biscuits-and-bibles/2022-11-08/
LOCATION:Christ Presbyterian Church – Cool Springs\, 325 Seaboard Ln\, Suite 100\, Franklin\, TN\, 37067
ATTACH;FMTTYPE=image/png:https://christpres.org/wp-content/uploads/2022/08/Biscuits-Bibles.png
END:VEVENT
BEGIN:VEVENT
DTSTART;TZID=America/Chicago:20221106T113000
DTEND;TZID=America/Chicago:20221106T123000
DTSTAMP:20260419T165130
CREATED:20221018T214136Z
LAST-MODIFIED:20221018T214146Z
UID:10000216-1667734200-1667737800@christpres.org
SUMMARY:Newcomer Brunch
DESCRIPTION:Please join us for brunch after the 10 a.m. worship service if you are new to our church! Meet Pastor Stacey Croft\, our staff\, and other newcomers while we tell you a little about our church and answer any questions you might have. We would love to meet you! \nPlease RSVP here.
URL:https://christpres.org/musicrow/event/newcomer-brunch/
LOCATION:Scarritt Bennett Center\, 1110 19th Ave S\, Nashville\, TN\, 37209\, United States
ATTACH;FMTTYPE=image/png:https://christpres.org/wp-content/uploads/2022/10/NEWCOMER-BRUNCH-WEBSITE.png
END:VEVENT
BEGIN:VEVENT
DTSTART;VALUE=DATE:20221104
DTEND;VALUE=DATE:20221106
DTSTAMP:20260419T165130
CREATED:20220901T230031Z
LAST-MODIFIED:20220901T230031Z
UID:10000184-1667520000-1667692799@christpres.org
SUMMARY:Mens Overnight Hike
DESCRIPTION:Cool Springs men\, do you like to backpack? Join us for our fourth annual men’s hike in the Savage Gulf Wilderness area. This 16-mile round trip trek is a moderate to strenuous hike along a ridgeline overlooking the Savage Gulf in the South Cumberland Wilderness of southern Tennessee. We’ll leave early Friday morning and be home by dinner on Saturday.
URL:https://christpres.org/coolsprings/event/mens-overnight-hike/
LOCATION:South Cumberland Wilderness Area
ATTACH;FMTTYPE=image/jpeg:https://christpres.org/wp-content/uploads/2022/08/My-project-1.jpg
END:VEVENT
BEGIN:VEVENT
DTSTART;TZID=America/Chicago:20221103T093000
DTEND;TZID=America/Chicago:20221103T093000
DTSTAMP:20260419T165130
CREATED:20220901T232631Z
LAST-MODIFIED:20220901T232631Z
UID:10000198-1667467800-1667467800@christpres.org
SUMMARY:Women's Bible Study
DESCRIPTION:This semester’s women’s Bible study begins on September 22 and lasts 8 weeks. We will be studying the Miracles of Jesus on Thursday mornings from 9:30 – 11:00 a.m. Sign up here.
URL:https://christpres.org/coolsprings/event/womens-bible-study/2022-11-03/
LOCATION:Christ Presbyterian Church – Cool Springs\, 325 Seaboard Ln\, Suite 100\, Franklin\, TN\, 37067
ATTACH;FMTTYPE=image/png:https://christpres.org/wp-content/uploads/2022/08/WomensBibleStudy.png
END:VEVENT
BEGIN:VEVENT
DTSTART;TZID=America/Chicago:20221102T190000
DTEND;TZID=America/Chicago:20221102T203000
DTSTAMP:20260419T165130
CREATED:20220817T160958Z
LAST-MODIFIED:20220817T161008Z
UID:10000280-1667415600-1667421000@christpres.org
SUMMARY:Young Professionals
DESCRIPTION:Nashville is a transitory city for many young professionals. We desire Christ Presbyterian Church at Music Row to be a home and landing spot for you to worship\, connect\, and serve. \n\n\n\n\n\nYoung Professionals is a three-month program\, beginning September 7\,  designed to help you integrate into the church and launch you into the city as a follower of Christ. \n\nClick here for more details and to register.
URL:https://christpres.org/musicrow/event/young-professionals-8/
LOCATION:TN
ATTACH;FMTTYPE=image/png:https://christpres.org/wp-content/uploads/2022/08/Nashville-Skyline.png
END:VEVENT
BEGIN:VEVENT
DTSTART;TZID=America/Chicago:20221102T080000
DTEND;TZID=America/Chicago:20221102T170000
DTSTAMP:20260419T165130
CREATED:20220928T182044Z
LAST-MODIFIED:20230911T210303Z
UID:10003387-1667376000-1667408400@christpres.org
SUMMARY:Missional Spotlight
DESCRIPTION:Our Missional Partners are getting a spotlight! Beginning on October 12th at 6:30pm in the Gathering Room (OHB)\, we will highlight Missional Living at Christ Presbyterian Church. \n\nOctober 12: “What Is Missional Living?” Dr. Elijah Layfield\, Director of Evangelism & Mission\nOctober 19: “Why Africa?” Emily Blackledge\, President of  African Leadership\nNovember 2: “Why Japan?” Debbie Pixley\,  Mission to the World missionary to Japan\nNovember 9: “Why London?” PM and NM\,  Serge missionaries to England\n\nCome and meet our gospel partners! For more information and to reserve your spot\, contact Elijah at elayfield@christpres.org.
URL:https://christpres.org/coolsprings/event/missional-spotlight/2022-11-02/
LOCATION:Christ Presbyterian Church – Old Hickory Blvd\, 2323 Old Hickory Boulevard\, Nashville\, TN\, 37215\, United States
ATTACH;FMTTYPE=image/png:https://christpres.org/wp-content/uploads/2022/09/Missional-Spotlight.png
END:VEVENT
BEGIN:VEVENT
DTSTART;TZID=America/Chicago:20221102T063000
DTEND;TZID=America/Chicago:20221102T074500
DTSTAMP:20260419T165130
CREATED:20220817T212421Z
LAST-MODIFIED:20220818T183402Z
UID:10000174-1667370600-1667375100@christpres.org
SUMMARY:Men's Bible Study
DESCRIPTION:Beginning on Wednesday\, August 24th\, we are starting our CPC Music Row Men’s Bible study. We will meet from 6:30-7:45 am at the office of Barry Simmons in Marathon Village (1200 Clinton Street #233 Nashville\, TN 37203). Matt Walker and I will be co-leading through the Gospel of Mark this fall. We will meet weekly\, and our fall study will run from August 24th to October 5th and then from October 19th through November.
URL:https://christpres.org/musicrow/event/mens-bible-study/2022-11-02/
LOCATION:TN
ATTACH;FMTTYPE=image/png:https://christpres.org/wp-content/uploads/2022/08/Add-a-heading.png
END:VEVENT
BEGIN:VEVENT
DTSTART;TZID=America/Chicago:20221101T063000
DTEND;TZID=America/Chicago:20221101T073000
DTSTAMP:20260419T165130
CREATED:20220831T202447Z
LAST-MODIFIED:20220901T232520Z
UID:10000298-1667284200-1667287800@christpres.org
SUMMARY:Men's Biscuits and Bibles
DESCRIPTION:Men from Cool Springs gather every Tuesday morning at 6:30 a.m. to study Scripture together. This study meets every week. All men are invited!
URL:https://christpres.org/coolsprings/event/mens-biscuits-and-bibles/2022-11-01/
LOCATION:Christ Presbyterian Church – Cool Springs\, 325 Seaboard Ln\, Suite 100\, Franklin\, TN\, 37067
ATTACH;FMTTYPE=image/png:https://christpres.org/wp-content/uploads/2022/08/Biscuits-Bibles.png
END:VEVENT
BEGIN:VEVENT
DTSTART;TZID=America/Chicago:20221030T173000
DTEND;TZID=America/Chicago:20221030T200000
DTSTAMP:20260419T165130
CREATED:20220929T200341Z
LAST-MODIFIED:20221011T185620Z
UID:10000211-1667151000-1667160000@christpres.org
SUMMARY:Student Movie Night
DESCRIPTION:All students (fifth through twelfth grade)\, parents\, volunteers\, and friends are invited to come hang out\, watch a movie\, and enjoy some snacks and beverages! You can fill out the form HERE for the address.
URL:https://christpres.org/musicrow/event/student-movie-night/
LOCATION:TN
ATTACH;FMTTYPE=image/jpeg:https://christpres.org/wp-content/uploads/2022/09/christian-wiediger-AEeoY_aqvNk-unsplash-1-scaled.jpg
END:VEVENT
BEGIN:VEVENT
DTSTART;TZID=America/Chicago:20221030T113000
DTEND;TZID=America/Chicago:20221030T133000
DTSTAMP:20260419T165130
CREATED:20221006T195527Z
LAST-MODIFIED:20221006T205456Z
UID:10000212-1667129400-1667136600@christpres.org
SUMMARY:Women's Brunch & Brushes
DESCRIPTION:Join us in Fondren Hall (where the kids meet) on Sunday\, October 30\, from 11:30 a.m. – 1 p.m. for brunch and a painting class with an art teacher and member of our church community\, Sydney Ellison. \nThe cost for the event is $10\, which covers all supplies needed. Brunch will be provided at no additional cost. We want everyone to be able to join us\, so please let Erin McCabe know if you need financial assistance. \nYou can RSVP and pay for Brunch & Brushes here.  \nPlease email Erin McCabe with any questions. We hope to see you on October 30!!
URL:https://christpres.org/musicrow/event/womens-brunch-brushes/
LOCATION:TN
ATTACH;FMTTYPE=image/png:https://christpres.org/wp-content/uploads/2022/10/BRUNCH-BRUSHES-WEBSITE.png
END:VEVENT
BEGIN:VEVENT
DTSTART;TZID=America/Chicago:20221027T120000
DTEND;TZID=America/Chicago:20221027T180000
DTSTAMP:20260419T165130
CREATED:20221011T162448Z
LAST-MODIFIED:20221011T162557Z
UID:10000214-1666872000-1666893600@christpres.org
SUMMARY:American Red Cross Blood Drive
DESCRIPTION:Please help give the gift of life by signing up to donate blood today. \nTo schedule an appointment\, click here.
URL:https://christpres.org/coolsprings/event/american-red-cross-blood-drive/
LOCATION:Christ Presbyterian Church – Old Hickory Blvd\, 2323 Old Hickory Boulevard\, Nashville\, TN\, 37215\, United States
ATTACH;FMTTYPE=image/png:https://christpres.org/wp-content/uploads/2022/10/blood-drive.png
END:VEVENT
BEGIN:VEVENT
DTSTART;TZID=America/Chicago:20221027T093000
DTEND;TZID=America/Chicago:20221027T093000
DTSTAMP:20260419T165130
CREATED:20220901T232631Z
LAST-MODIFIED:20220901T232631Z
UID:10000197-1666863000-1666863000@christpres.org
SUMMARY:Women's Bible Study
DESCRIPTION:This semester’s women’s Bible study begins on September 22 and lasts 8 weeks. We will be studying the Miracles of Jesus on Thursday mornings from 9:30 – 11:00 a.m. Sign up here.
URL:https://christpres.org/coolsprings/event/womens-bible-study/2022-10-27/
LOCATION:Christ Presbyterian Church – Cool Springs\, 325 Seaboard Ln\, Suite 100\, Franklin\, TN\, 37067
ATTACH;FMTTYPE=image/png:https://christpres.org/wp-content/uploads/2022/08/WomensBibleStudy.png
END:VEVENT
BEGIN:VEVENT
DTSTART;TZID=America/Chicago:20221026T190000
DTEND;TZID=America/Chicago:20221026T203000
DTSTAMP:20260419T165130
CREATED:20220817T160853Z
LAST-MODIFIED:20220817T160906Z
UID:10000279-1666810800-1666816200@christpres.org
SUMMARY:Young Professionals
DESCRIPTION:Nashville is a transitory city for many young professionals. We desire Christ Presbyterian Church at Music Row to be a home and landing spot for you to worship\, connect\, and serve. \n\n\n\n\n\nYoung Professionals is a three-month program\, beginning September 7\,  designed to help you integrate into the church and launch you into the city as a follower of Christ. \n\nClick here for more details and to register.
URL:https://christpres.org/musicrow/event/young-professionals-7/
LOCATION:TN
ATTACH;FMTTYPE=image/png:https://christpres.org/wp-content/uploads/2022/08/Nashville-Skyline.png
END:VEVENT
BEGIN:VEVENT
DTSTART;TZID=America/Chicago:20221026T180000
DTEND;TZID=America/Chicago:20221026T193000
DTSTAMP:20260419T165130
CREATED:20220901T231012Z
LAST-MODIFIED:20221005T151941Z
UID:10000188-1666807200-1666812600@christpres.org
SUMMARY:Student Hang at The Gilders’
DESCRIPTION:Students grades 6-12 are invited to come hang out every 2nd + 4th Wednesday at Joe & Pam Gilder’s house in Cottonwood. There will be pizza and games\, and a standing challenge for anyone to beat Joe in four-square. Email Joe Gilder for more information.
URL:https://christpres.org/coolsprings/event/student-hang-at-the-gilders/2022-10-26/
LOCATION:TN
ATTACH;FMTTYPE=image/jpeg:https://christpres.org/wp-content/uploads/2022/07/My-project-8-e1684935293945.jpg
END:VEVENT
BEGIN:VEVENT
DTSTART;TZID=America/Chicago:20221026T063000
DTEND;TZID=America/Chicago:20221026T074500
DTSTAMP:20260419T165130
CREATED:20220817T212421Z
LAST-MODIFIED:20220818T183402Z
UID:10000173-1666765800-1666770300@christpres.org
SUMMARY:Men's Bible Study
DESCRIPTION:Beginning on Wednesday\, August 24th\, we are starting our CPC Music Row Men’s Bible study. We will meet from 6:30-7:45 am at the office of Barry Simmons in Marathon Village (1200 Clinton Street #233 Nashville\, TN 37203). Matt Walker and I will be co-leading through the Gospel of Mark this fall. We will meet weekly\, and our fall study will run from August 24th to October 5th and then from October 19th through November.
URL:https://christpres.org/musicrow/event/mens-bible-study/2022-10-26/
LOCATION:TN
ATTACH;FMTTYPE=image/png:https://christpres.org/wp-content/uploads/2022/08/Add-a-heading.png
END:VEVENT
BEGIN:VEVENT
DTSTART;TZID=America/Chicago:20221025T063000
DTEND;TZID=America/Chicago:20221025T073000
DTSTAMP:20260419T165130
CREATED:20220831T202447Z
LAST-MODIFIED:20220901T232520Z
UID:10000297-1666679400-1666683000@christpres.org
SUMMARY:Men's Biscuits and Bibles
DESCRIPTION:Men from Cool Springs gather every Tuesday morning at 6:30 a.m. to study Scripture together. This study meets every week. All men are invited!
URL:https://christpres.org/coolsprings/event/mens-biscuits-and-bibles/2022-10-25/
LOCATION:Christ Presbyterian Church – Cool Springs\, 325 Seaboard Ln\, Suite 100\, Franklin\, TN\, 37067
ATTACH;FMTTYPE=image/png:https://christpres.org/wp-content/uploads/2022/08/Biscuits-Bibles.png
END:VEVENT
BEGIN:VEVENT
DTSTART;TZID=America/Chicago:20221023T173000
DTEND;TZID=America/Chicago:20221023T190000
DTSTAMP:20260419T165130
CREATED:20220831T150003Z
LAST-MODIFIED:20221011T161651Z
UID:10000285-1666546200-1666551600@christpres.org
SUMMARY:The Ascent
DESCRIPTION:The Ascent is a group that meets twice a month with a time of fellowship\, amazing worship\, a fun activity\, and a message geared toward adults with special needs. \nVOLUNTEERS NEEDED\nYou can serve by helping provide the meal\, or coming to spend time getting to know the friends! \n\n\n\n\nParticipants and volunteers\, sign up here.\n\n\n  \nMark your calendars for the remaining Ascent events for this school year:\nNovember 13\nDecember 11\nJanuary 8\, 2023\nJanuary 22\, 2023\nFebruary 12\, 2023\nFebruary 26\, 2023\nMarch 12\, 2023\nMarch 26\, 2023\nApril 23\, 2023\nMay 7\, 2023
URL:https://christpres.org/ohb/event/the-ascent/
LOCATION:Christ Presbyterian Church – Old Hickory Blvd\, 2323 Old Hickory Boulevard\, Nashville\, TN\, 37215\, United States
ATTACH;FMTTYPE=image/jpeg:https://christpres.org/wp-content/uploads/2022/06/TheAscent_FB.jpeg
END:VEVENT
BEGIN:VEVENT
DTSTART;TZID=America/Chicago:20221023T100000
DTEND;TZID=America/Chicago:20221023T105000
DTSTAMP:20260419T165130
CREATED:20220906T192108Z
LAST-MODIFIED:20220906T192309Z
UID:10000311-1666519200-1666522200@christpres.org
SUMMARY:Pre-K Milestone: Intro to NCC
DESCRIPTION:Milestones are designed to provide a way to meet and build community with other families in your child’s grade while hearing an age appropriate teaching that also helps equip you in raising your children. So each year\, we will celebrate a special spiritual lesson at each Milestone. We hope these speak to both parents and children and provide an opportunity for families to talk about their faith.
URL:https://christpres.org/ohb/event/pre-k-milestone-intro-to-ncc/2022-10-23/
LOCATION:Soli Deo Center – Christ Presbyterian Academy\, 2323 Old Hickory Blvd\, Nashville\, TN\, 37215
ATTACH;FMTTYPE=image/jpeg:https://christpres.org/wp-content/uploads/2022/09/Milestones-scaled.jpg
END:VEVENT
BEGIN:VEVENT
DTSTART;TZID=America/Chicago:20221023T100000
DTEND;TZID=America/Chicago:20221023T100000
DTSTAMP:20260419T165130
CREATED:20220914T185201Z
LAST-MODIFIED:20220914T185201Z
UID:10000313-1666519200-1666519200@christpres.org
SUMMARY:Outdoor Service
DESCRIPTION:Bring your lawn chairs and picnic blankets.\nFood Trucks following service.
URL:https://christpres.org/ohb/event/outdoor-service/
LOCATION:Christ Presbyterian Church – Old Hickory Blvd\, 2323 Old Hickory Boulevard\, Nashville\, TN\, 37215\, United States
ATTACH;FMTTYPE=image/png:https://christpres.org/wp-content/uploads/2022/09/Outdoor-Service-02.png
END:VEVENT
BEGIN:VEVENT
DTSTART;TZID=America/Chicago:20221023T083000
DTEND;TZID=America/Chicago:20221023T103000
DTSTAMP:20260419T165130
CREATED:20220721T182224Z
LAST-MODIFIED:20221019T151802Z
UID:10000249-1666513800-1666521000@christpres.org
SUMMARY:Two Services Launch
DESCRIPTION:Beginning October 23\, we will offer two Sunday worship services at 8:30 a.m. and 10:30 a.m. Please be in prayer for this transition for our staff and congregation\, and for the new people we hope to welcome this fall!
URL:https://christpres.org/coolsprings/event/coolsprings-2-service-launch/
LOCATION:Christ Presbyterian Church – Cool Springs\, 325 Seaboard Ln\, Suite 100\, Franklin\, TN\, 37067
ATTACH;FMTTYPE=image/jpeg:https://christpres.org/wp-content/uploads/2022/04/Christ_Presbyterian_Church_Franklin_TN-1.jpg
END:VEVENT
BEGIN:VEVENT
DTSTART;TZID=America/Chicago:20221022T070000
DTEND;TZID=America/Chicago:20221022T090000
DTSTAMP:20260419T165130
CREATED:20221006T201231Z
LAST-MODIFIED:20221006T201436Z
UID:10000213-1666422000-1666429200@christpres.org
SUMMARY:Men's Hike
DESCRIPTION:Join other men from CPC Music Row for an early morning hike on Saturday\, October 22\, at Percy Warner. Please email Matt Walker with any questions about the hike. We hope to see you there!
URL:https://christpres.org/musicrow/event/mens-hike/
LOCATION:Percy Warner Park
ATTACH;FMTTYPE=image/png:https://christpres.org/wp-content/uploads/2022/10/mens-hike.png
END:VEVENT
BEGIN:VEVENT
DTSTART;TZID=America/Chicago:20221020T093000
DTEND;TZID=America/Chicago:20221020T110000
DTSTAMP:20260419T165130
CREATED:20220915T200608Z
LAST-MODIFIED:20220915T200626Z
UID:10000315-1666258200-1666263600@christpres.org
SUMMARY:Moms Bible Study
DESCRIPTION:Join other moms from Christ Presbyterian Music Row for a once-a-month Bible Study. Please email Jenny Camp for the address and to RSVP for the study and childcare.
URL:https://christpres.org/musicrow/event/moms-bible-study/
LOCATION:TN
ATTACH;FMTTYPE=image/png:https://christpres.org/wp-content/uploads/2022/09/moms-bible-study.png
END:VEVENT
BEGIN:VEVENT
DTSTART;TZID=America/Chicago:20221020T093000
DTEND;TZID=America/Chicago:20221020T093000
DTSTAMP:20260419T165130
CREATED:20220901T232631Z
LAST-MODIFIED:20220901T232631Z
UID:10000196-1666258200-1666258200@christpres.org
SUMMARY:Women's Bible Study
DESCRIPTION:This semester’s women’s Bible study begins on September 22 and lasts 8 weeks. We will be studying the Miracles of Jesus on Thursday mornings from 9:30 – 11:00 a.m. Sign up here.
URL:https://christpres.org/coolsprings/event/womens-bible-study/2022-10-20/
LOCATION:Christ Presbyterian Church – Cool Springs\, 325 Seaboard Ln\, Suite 100\, Franklin\, TN\, 37067
ATTACH;FMTTYPE=image/png:https://christpres.org/wp-content/uploads/2022/08/WomensBibleStudy.png
END:VEVENT
BEGIN:VEVENT
DTSTART;TZID=America/Chicago:20221019T190000
DTEND;TZID=America/Chicago:20221019T203000
DTSTAMP:20260419T165130
CREATED:20220817T160740Z
LAST-MODIFIED:20220817T160748Z
UID:10000278-1666206000-1666211400@christpres.org
SUMMARY:Young Professionals
DESCRIPTION:Nashville is a transitory city for many young professionals. We desire Christ Presbyterian Church at Music Row to be a home and landing spot for you to worship\, connect\, and serve. \n\n\n\n\n\nYoung Professionals is a three-month program\, beginning September 7\,  designed to help you integrate into the church and launch you into the city as a follower of Christ. \n\nClick here for more details and to register.
URL:https://christpres.org/musicrow/event/young-professionals-6/
LOCATION:TN
ATTACH;FMTTYPE=image/png:https://christpres.org/wp-content/uploads/2022/08/Nashville-Skyline.png
END:VEVENT
BEGIN:VEVENT
DTSTART;TZID=America/Chicago:20221019T080000
DTEND;TZID=America/Chicago:20221019T170000
DTSTAMP:20260419T165130
CREATED:20220928T182044Z
LAST-MODIFIED:20230911T210303Z
UID:10003386-1666166400-1666198800@christpres.org
SUMMARY:Missional Spotlight
DESCRIPTION:Our Missional Partners are getting a spotlight! Beginning on October 12th at 6:30pm in the Gathering Room (OHB)\, we will highlight Missional Living at Christ Presbyterian Church. \n\nOctober 12: “What Is Missional Living?” Dr. Elijah Layfield\, Director of Evangelism & Mission\nOctober 19: “Why Africa?” Emily Blackledge\, President of  African Leadership\nNovember 2: “Why Japan?” Debbie Pixley\,  Mission to the World missionary to Japan\nNovember 9: “Why London?” PM and NM\,  Serge missionaries to England\n\nCome and meet our gospel partners! For more information and to reserve your spot\, contact Elijah at elayfield@christpres.org.
URL:https://christpres.org/coolsprings/event/missional-spotlight/2022-10-19/
LOCATION:Christ Presbyterian Church – Old Hickory Blvd\, 2323 Old Hickory Boulevard\, Nashville\, TN\, 37215\, United States
ATTACH;FMTTYPE=image/png:https://christpres.org/wp-content/uploads/2022/09/Missional-Spotlight.png
END:VEVENT
BEGIN:VEVENT
DTSTART;TZID=America/Chicago:20221019T063000
DTEND;TZID=America/Chicago:20221019T074500
DTSTAMP:20260419T165130
CREATED:20220817T212421Z
LAST-MODIFIED:20220818T183402Z
UID:10000172-1666161000-1666165500@christpres.org
SUMMARY:Men's Bible Study
DESCRIPTION:Beginning on Wednesday\, August 24th\, we are starting our CPC Music Row Men’s Bible study. We will meet from 6:30-7:45 am at the office of Barry Simmons in Marathon Village (1200 Clinton Street #233 Nashville\, TN 37203). Matt Walker and I will be co-leading through the Gospel of Mark this fall. We will meet weekly\, and our fall study will run from August 24th to October 5th and then from October 19th through November.
URL:https://christpres.org/musicrow/event/mens-bible-study/2022-10-19/
LOCATION:TN
ATTACH;FMTTYPE=image/png:https://christpres.org/wp-content/uploads/2022/08/Add-a-heading.png
END:VEVENT
BEGIN:VEVENT
DTSTART;TZID=America/Chicago:20221018T063000
DTEND;TZID=America/Chicago:20221018T073000
DTSTAMP:20260419T165130
CREATED:20220831T202447Z
LAST-MODIFIED:20220901T232520Z
UID:10000296-1666074600-1666078200@christpres.org
SUMMARY:Men's Biscuits and Bibles
DESCRIPTION:Men from Cool Springs gather every Tuesday morning at 6:30 a.m. to study Scripture together. This study meets every week. All men are invited!
URL:https://christpres.org/coolsprings/event/mens-biscuits-and-bibles/2022-10-18/
LOCATION:Christ Presbyterian Church – Cool Springs\, 325 Seaboard Ln\, Suite 100\, Franklin\, TN\, 37067
ATTACH;FMTTYPE=image/png:https://christpres.org/wp-content/uploads/2022/08/Biscuits-Bibles.png
END:VEVENT
BEGIN:VEVENT
DTSTART;TZID=America/Chicago:20221016T084500
DTEND;TZID=America/Chicago:20221016T084500
DTSTAMP:20260419T165130
CREATED:20220901T232715Z
LAST-MODIFIED:20220901T232715Z
UID:10000204-1665909900-1665909900@christpres.org
SUMMARY:Student Bible Study
DESCRIPTION:Students in grades 6–12 will begin their new fall study on Sunday September 18 at 8:45 a.m.. Join us for our study on the Miracles of Jesus. We will meet in Room 108. Sign up for the study here.
URL:https://christpres.org/coolsprings/event/student-bible-study/2022-10-16/
LOCATION:TN
ATTACH;FMTTYPE=image/png:https://christpres.org/wp-content/uploads/2022/08/StudentsBibleStudy.png
END:VEVENT
BEGIN:VEVENT
DTSTART;TZID=America/Chicago:20221013T093000
DTEND;TZID=America/Chicago:20221013T093000
DTSTAMP:20260419T165130
CREATED:20220901T232631Z
LAST-MODIFIED:20220901T232631Z
UID:10000195-1665653400-1665653400@christpres.org
SUMMARY:Women's Bible Study
DESCRIPTION:This semester’s women’s Bible study begins on September 22 and lasts 8 weeks. We will be studying the Miracles of Jesus on Thursday mornings from 9:30 – 11:00 a.m. Sign up here.
URL:https://christpres.org/coolsprings/event/womens-bible-study/2022-10-13/
LOCATION:Christ Presbyterian Church – Cool Springs\, 325 Seaboard Ln\, Suite 100\, Franklin\, TN\, 37067
ATTACH;FMTTYPE=image/png:https://christpres.org/wp-content/uploads/2022/08/WomensBibleStudy.png
END:VEVENT
BEGIN:VEVENT
DTSTART;TZID=America/Chicago:20221012T183000
DTEND;TZID=America/Chicago:20221012T183000
DTSTAMP:20260419T165130
CREATED:20220928T182044Z
LAST-MODIFIED:20230911T210303Z
UID:10000255-1665599400-1665599400@christpres.org
SUMMARY:Missional Spotlight
DESCRIPTION:Our Missional Partners are getting a spotlight! Beginning on October 12th at 6:30pm in the Gathering Room (OHB)\, we will highlight Missional Living at Christ Presbyterian Church. \n\nOctober 12: “What Is Missional Living?” Dr. Elijah Layfield\, Director of Evangelism & Mission\nOctober 19: “Why Africa?” Emily Blackledge\, President of  African Leadership\nNovember 2: “Why Japan?” Debbie Pixley\,  Mission to the World missionary to Japan\nNovember 9: “Why London?” PM and NM\,  Serge missionaries to England\n\nCome and meet our gospel partners! For more information and to reserve your spot\, contact Elijah at elayfield@christpres.org.
URL:https://christpres.org/coolsprings/event/missional-spotlight/2022-10-12/2/
LOCATION:Christ Presbyterian Church – Old Hickory Blvd\, 2323 Old Hickory Boulevard\, Nashville\, TN\, 37215\, United States
ATTACH;FMTTYPE=image/png:https://christpres.org/wp-content/uploads/2022/09/Missional-Spotlight.png
END:VEVENT
END:VCALENDAR