BEGIN:VCALENDAR
VERSION:2.0
PRODID:-//Christ Presbyterian Church - ECPv6.15.20//NONSGML v1.0//EN
CALSCALE:GREGORIAN
METHOD:PUBLISH
X-WR-CALNAME:Christ Presbyterian Church
X-ORIGINAL-URL:https://christpres.org
X-WR-CALDESC:Events for Christ Presbyterian Church
REFRESH-INTERVAL;VALUE=DURATION:PT1H
X-Robots-Tag:noindex
X-PUBLISHED-TTL:PT1H
BEGIN:VTIMEZONE
TZID:America/Chicago
BEGIN:DAYLIGHT
TZOFFSETFROM:-0600
TZOFFSETTO:-0500
TZNAME:CDT
DTSTART:20210314T080000
END:DAYLIGHT
BEGIN:STANDARD
TZOFFSETFROM:-0500
TZOFFSETTO:-0600
TZNAME:CST
DTSTART:20211107T070000
END:STANDARD
BEGIN:DAYLIGHT
TZOFFSETFROM:-0600
TZOFFSETTO:-0500
TZNAME:CDT
DTSTART:20220313T080000
END:DAYLIGHT
BEGIN:STANDARD
TZOFFSETFROM:-0500
TZOFFSETTO:-0600
TZNAME:CST
DTSTART:20221106T070000
END:STANDARD
BEGIN:DAYLIGHT
TZOFFSETFROM:-0600
TZOFFSETTO:-0500
TZNAME:CDT
DTSTART:20230312T080000
END:DAYLIGHT
BEGIN:STANDARD
TZOFFSETFROM:-0500
TZOFFSETTO:-0600
TZNAME:CST
DTSTART:20231105T070000
END:STANDARD
END:VTIMEZONE
BEGIN:VTIMEZONE
TZID:America/New_York
BEGIN:DAYLIGHT
TZOFFSETFROM:-0500
TZOFFSETTO:-0400
TZNAME:EDT
DTSTART:20210314T070000
END:DAYLIGHT
BEGIN:STANDARD
TZOFFSETFROM:-0400
TZOFFSETTO:-0500
TZNAME:EST
DTSTART:20211107T060000
END:STANDARD
BEGIN:DAYLIGHT
TZOFFSETFROM:-0500
TZOFFSETTO:-0400
TZNAME:EDT
DTSTART:20220313T070000
END:DAYLIGHT
BEGIN:STANDARD
TZOFFSETFROM:-0400
TZOFFSETTO:-0500
TZNAME:EST
DTSTART:20221106T060000
END:STANDARD
BEGIN:DAYLIGHT
TZOFFSETFROM:-0500
TZOFFSETTO:-0400
TZNAME:EDT
DTSTART:20230312T070000
END:DAYLIGHT
BEGIN:STANDARD
TZOFFSETFROM:-0400
TZOFFSETTO:-0500
TZNAME:EST
DTSTART:20231105T060000
END:STANDARD
END:VTIMEZONE
BEGIN:VEVENT
DTSTART;VALUE=DATE:20220814
DTEND;VALUE=DATE:20220912
DTSTAMP:20260420T010720
CREATED:20220809T153354Z
LAST-MODIFIED:20220809T192456Z
UID:10000270-1660435200-1662940799@christpres.org
SUMMARY:Connect Group Signup
DESCRIPTION:You can participate in a Fall Connect Group through either gender-specific groups or coed groups. You might even want to do both! Connect groups are generally composed of 6 to 12 people who agree to meet for 8 weeks at various times and places to connect\, encourage\, and pray for one another as they study a passage of scripture together. \nRegister for a Women’s group\nRegister for a Men’s group\nRegister for a Coed group
URL:https://christpres.org/ohb/event/connect-group-signup/
LOCATION:TN
ATTACH;FMTTYPE=image/png:https://christpres.org/wp-content/uploads/2022/08/Fall-Connect-Groups-01.png
END:VEVENT
BEGIN:VEVENT
DTSTART;VALUE=DATE:20220822
DTEND;VALUE=DATE:20220902
DTSTAMP:20260420T010720
CREATED:20220803T152854Z
LAST-MODIFIED:20220803T152854Z
UID:10000259-1661126400-1662076799@christpres.org
SUMMARY:A Taste of Community
DESCRIPTION:Aug. 22 – 25 & Aug. 29 – Sept. 1\nTimes and Locations Vary \nHave you ever walked through CPC’s lobby on a Sunday morning and thought\, who are all these women? And how can I get to know some of them? If so\, you’re not the only one! \nThis August\, Women’s Ministry has planned 8 days of small group gatherings (8 to 10 women) hosted by CPC members in their homes. Our hope is to provide a chance for women of all ages and stages to casually gather over a pastry or dessert and get to know one another – who we are and the many ways we worship\, connect and serve at CPC. \nTo join one of our groups\, simply click on the registration links below and register for the location and date that best fits your schedule. Your hostess will contact you with details about a week before the event. Each one will be different! \nSign Up Here
URL:https://christpres.org/ohb/event/a-taste-of-community/
LOCATION:TN
ATTACH;FMTTYPE=image/png:https://christpres.org/wp-content/uploads/2022/08/Taste-of-Community2_Slide-copy.png
END:VEVENT
BEGIN:VEVENT
DTSTART;TZID=America/Chicago:20220906T063000
DTEND;TZID=America/Chicago:20220906T073000
DTSTAMP:20260420T010720
CREATED:20220831T202447Z
LAST-MODIFIED:20220901T232520Z
UID:10000290-1662445800-1662449400@christpres.org
SUMMARY:Men's Biscuits and Bibles
DESCRIPTION:Men from Cool Springs gather every Tuesday morning at 6:30 a.m. to study Scripture together. This study meets every week. All men are invited!
URL:https://christpres.org/coolsprings/event/mens-biscuits-and-bibles/2022-09-06/
LOCATION:Christ Presbyterian Church – Cool Springs\, 325 Seaboard Ln\, Suite 100\, Franklin\, TN\, 37067
ATTACH;FMTTYPE=image/png:https://christpres.org/wp-content/uploads/2022/08/Biscuits-Bibles.png
END:VEVENT
BEGIN:VEVENT
DTSTART;TZID=America/Chicago:20220907T063000
DTEND;TZID=America/Chicago:20220907T074500
DTSTAMP:20260420T010720
CREATED:20220817T212421Z
LAST-MODIFIED:20220818T183402Z
UID:10000166-1662532200-1662536700@christpres.org
SUMMARY:Men's Bible Study
DESCRIPTION:Beginning on Wednesday\, August 24th\, we are starting our CPC Music Row Men’s Bible study. We will meet from 6:30-7:45 am at the office of Barry Simmons in Marathon Village (1200 Clinton Street #233 Nashville\, TN 37203). Matt Walker and I will be co-leading through the Gospel of Mark this fall. We will meet weekly\, and our fall study will run from August 24th to October 5th and then from October 19th through November.
URL:https://christpres.org/musicrow/event/mens-bible-study/2022-09-07/
LOCATION:TN
ATTACH;FMTTYPE=image/png:https://christpres.org/wp-content/uploads/2022/08/Add-a-heading.png
END:VEVENT
BEGIN:VEVENT
DTSTART;TZID=America/Chicago:20220907T190000
DTEND;TZID=America/Chicago:20220907T203000
DTSTAMP:20260420T010720
CREATED:20220810T201442Z
LAST-MODIFIED:20220810T215126Z
UID:10000272-1662577200-1662582600@christpres.org
SUMMARY:Young Professionals
DESCRIPTION:Nashville is a transitory city for many young professionals. We desire Christ Presbyterian Church at Music Row to be a home and landing spot for you to worship\, connect\, and serve. \n\n\n\n\n\nYoung Professionals is a three-month program\, beginning September 7\,  designed to help you integrate into the church and launch you into the city as a follower of Christ. \n\nClick here for more details and to register.
URL:https://christpres.org/musicrow/event/young-professionals/
LOCATION:Martin’s BBQ\, 2400 ELLISTON PL\, NASHVILLE\, TN\, 37203
ATTACH;FMTTYPE=image/png:https://christpres.org/wp-content/uploads/2022/08/Nashville-Skyline.png
END:VEVENT
BEGIN:VEVENT
DTSTART;TZID=America/New_York:20220910T090000
DTEND;TZID=America/New_York:20220910T113000
DTSTAMP:20260420T010720
CREATED:20220829T150056Z
LAST-MODIFIED:20220811T163028Z
UID:10000183-1662800400-1662809400@christpres.org
SUMMARY:Special Saturday
DESCRIPTION:Kids & Adults with special needs and their siblings are invited to enjoy an uplifting time of Bible stories\, music and crafts.\nREGISTER PARTICIPANTS \n\n\n\n\nVOLUNTEERS NEEDED\nOne amazing way to love families with children and adults with special needs is by serving at a Special Saturday.\nSIGN UP \n\nMark your calendars for the remaining Special Saturday events for this school year:\nOctober 1\, 2022\nNovember 12\, 2022\nDecember 10\, 2022\nJanuary 14\, 2023\nFebruary 11\, 2023\nMarch 4\, 2023\nApril 15\, 2023
URL:https://christpres.org/ohb/event/special-saturday/
LOCATION:Christ Presbyterian Church – Old Hickory Blvd\, 2323 Old Hickory Boulevard\, Nashville\, TN\, 37215\, United States
ATTACH;FMTTYPE=image/jpeg:https://christpres.org/wp-content/uploads/2022/06/SpecialSaturdays_FB.jpeg
END:VEVENT
BEGIN:VEVENT
DTSTART;TZID=America/Chicago:20220911T113000
DTEND;TZID=America/Chicago:20220911T113000
DTSTAMP:20260420T010720
CREATED:20220901T230754Z
LAST-MODIFIED:20220901T230754Z
UID:10000185-1662895800-1662895800@christpres.org
SUMMARY:Fall Kickoff: Worship\, Connect\, Serve Sunday
DESCRIPTION:This week we’ll have a special service focused on ways you can worship\, connect\, and serve at CPC Cool Springs this fall. Join us to hear more about our discipleship pathway at Christ Presbyterian and ways the whole family can grow together in Christ and in community this fall. We’ll have sign ups for fall Bible studies\, serving opportunities\, and more!
URL:https://christpres.org/coolsprings/event/fall-kickoff-worship-connect-serve-sunday/
LOCATION:Christ Presbyterian Church – Cool Springs\, 325 Seaboard Ln\, Suite 100\, Franklin\, TN\, 37067
ATTACH;FMTTYPE=image/png:https://christpres.org/wp-content/uploads/2022/09/Fall-Kickoff.png
END:VEVENT
BEGIN:VEVENT
DTSTART;TZID=America/Chicago:20220911T113000
DTEND;TZID=America/Chicago:20220911T130000
DTSTAMP:20260420T010720
CREATED:20220817T162507Z
LAST-MODIFIED:20220906T150455Z
UID:10000162-1662895800-1662901200@christpres.org
SUMMARY:Fall Kickoff & Formation Hour
DESCRIPTION:There are two opportunities to connect and kick off the fall at Music Row! Connect Group Leaders will be available after the service to tell you more about their groups\, and you can sign up for a CG in your neighborhood. Formation Hour is an hour of additional teaching and connection for adults and kids after the service. You won’t want to miss this special Sunday!
URL:https://christpres.org/musicrow/event/fall-kickoff-formation-hour/
LOCATION:Scarritt Bennett Center\, 1110 19th Ave S\, Nashville\, TN\, 37209\, United States
ATTACH;FMTTYPE=image/png:https://christpres.org/wp-content/uploads/2022/09/Add-a-heading-1.png
END:VEVENT
BEGIN:VEVENT
DTSTART;TZID=America/Chicago:20220911T173000
DTEND;TZID=America/Chicago:20220911T190000
DTSTAMP:20260420T010720
CREATED:20220831T060041Z
LAST-MODIFIED:20220907T182615Z
UID:10000283-1662917400-1662922800@christpres.org
SUMMARY:The Ascent
DESCRIPTION:The Ascent is a group that meets twice a month with a time of fellowship\, amazing worship\, a fun activity\, and a message geared toward adults with special needs. \nVOLUNTEERS NEEDED\nYou can serve by helping provide the meal\, or coming to spend time getting to know the friends! \n\n\n\n\nParticipants and volunteers\, sign up here.\n\n\n  \nMark your calendars for the remaining Ascent events for this school year:\nSeptember 25\nOctober 9\nOctober 23\nNovember 13\nDecember 11\nJanuary 8\, 2023\nJanuary 22\, 2023\nFebruary 12\, 2023\nFebruary 26\, 2023\nMarch 12\, 2023\nMarch 26\, 2023\nApril 23\, 2023\nMay 7\, 2023
URL:https://christpres.org/ohb/event/the-ascent-5/
LOCATION:Christ Presbyterian Church – Old Hickory Blvd\, 2323 Old Hickory Boulevard\, Nashville\, TN\, 37215\, United States
ATTACH;FMTTYPE=image/jpeg:https://christpres.org/wp-content/uploads/2022/06/TheAscent_FB.jpeg
END:VEVENT
BEGIN:VEVENT
DTSTART;TZID=America/Chicago:20220913T063000
DTEND;TZID=America/Chicago:20220913T073000
DTSTAMP:20260420T010720
CREATED:20220831T202447Z
LAST-MODIFIED:20220901T232520Z
UID:10000291-1663050600-1663054200@christpres.org
SUMMARY:Men's Biscuits and Bibles
DESCRIPTION:Men from Cool Springs gather every Tuesday morning at 6:30 a.m. to study Scripture together. This study meets every week. All men are invited!
URL:https://christpres.org/coolsprings/event/mens-biscuits-and-bibles/2022-09-13/
LOCATION:Christ Presbyterian Church – Cool Springs\, 325 Seaboard Ln\, Suite 100\, Franklin\, TN\, 37067
ATTACH;FMTTYPE=image/png:https://christpres.org/wp-content/uploads/2022/08/Biscuits-Bibles.png
END:VEVENT
BEGIN:VEVENT
DTSTART;TZID=America/Chicago:20220913T180000
DTEND;TZID=America/Chicago:20220913T180000
DTSTAMP:20260420T010720
CREATED:20220830T155139Z
LAST-MODIFIED:20220831T141318Z
UID:10000282-1663092000-1663092000@christpres.org
SUMMARY:Thistle Farms Informational Meeting
DESCRIPTION:The Leadership Team for the Thistle Farms City Group would like to invite you to learn more about our mission and the women whom we serve. We will meet in the Gathering Room for a light dinner and view the Thistle Farms documentary which follows several women we know at Thistle Farms as they share their stories of healing. Tara Hamilton\, Director of Development and Community Relations for Thistle Farms will be present to answer questions about this amazing ministry\, and our team will share how our City Group loves them well. This is a great opportunity for those looking for a place to volunteer. We would love to have you join us! \nEmail Mary Lisa Gingras to make your reservation.
URL:https://christpres.org/coolsprings/event/thistle-farms-documentary-viewing/
LOCATION:Christ Presbyterian Church – Old Hickory Blvd\, 2323 Old Hickory Boulevard\, Nashville\, TN\, 37215\, United States
ATTACH;FMTTYPE=image/webp:https://christpres.org/wp-content/uploads/2022/08/thistle-doc.webp
END:VEVENT
BEGIN:VEVENT
DTSTART;TZID=America/Chicago:20220914T063000
DTEND;TZID=America/Chicago:20220914T074500
DTSTAMP:20260420T010720
CREATED:20220817T212421Z
LAST-MODIFIED:20220818T183402Z
UID:10000167-1663137000-1663141500@christpres.org
SUMMARY:Men's Bible Study
DESCRIPTION:Beginning on Wednesday\, August 24th\, we are starting our CPC Music Row Men’s Bible study. We will meet from 6:30-7:45 am at the office of Barry Simmons in Marathon Village (1200 Clinton Street #233 Nashville\, TN 37203). Matt Walker and I will be co-leading through the Gospel of Mark this fall. We will meet weekly\, and our fall study will run from August 24th to October 5th and then from October 19th through November.
URL:https://christpres.org/musicrow/event/mens-bible-study/2022-09-14/
LOCATION:TN
ATTACH;FMTTYPE=image/png:https://christpres.org/wp-content/uploads/2022/08/Add-a-heading.png
END:VEVENT
BEGIN:VEVENT
DTSTART;TZID=America/Chicago:20220914T180000
DTEND;TZID=America/Chicago:20220914T193000
DTSTAMP:20260420T010720
CREATED:20220901T231012Z
LAST-MODIFIED:20221005T151941Z
UID:10000186-1663178400-1663183800@christpres.org
SUMMARY:Student Hang at The Gilders’
DESCRIPTION:Students grades 6-12 are invited to come hang out every 2nd + 4th Wednesday at Joe & Pam Gilder’s house in Cottonwood. There will be pizza and games\, and a standing challenge for anyone to beat Joe in four-square. Email Joe Gilder for more information.
URL:https://christpres.org/coolsprings/event/student-hang-at-the-gilders/2022-09-14/
LOCATION:TN
ATTACH;FMTTYPE=image/jpeg:https://christpres.org/wp-content/uploads/2022/07/My-project-8-e1684935293945.jpg
END:VEVENT
BEGIN:VEVENT
DTSTART;TZID=America/Chicago:20220914T190000
DTEND;TZID=America/Chicago:20220914T203000
DTSTAMP:20260420T010720
CREATED:20220817T160248Z
LAST-MODIFIED:20220817T160315Z
UID:10000274-1663182000-1663187400@christpres.org
SUMMARY:Young Professionals
DESCRIPTION:Nashville is a transitory city for many young professionals. We desire Christ Presbyterian Church at Music Row to be a home and landing spot for you to worship\, connect\, and serve. \n\n\n\n\n\nYoung Professionals is a three-month program\, beginning September 7\,  designed to help you integrate into the church and launch you into the city as a follower of Christ. \n\nClick here for more details and to register.
URL:https://christpres.org/musicrow/event/young-professionals-2/
LOCATION:TN
ATTACH;FMTTYPE=image/png:https://christpres.org/wp-content/uploads/2022/08/Nashville-Skyline.png
END:VEVENT
BEGIN:VEVENT
DTSTART;TZID=America/Chicago:20220917T190000
DTEND;TZID=America/Chicago:20220917T210000
DTSTAMP:20260420T010720
CREATED:20220901T234002Z
LAST-MODIFIED:20220901T234002Z
UID:10000205-1663441200-1663448400@christpres.org
SUMMARY:Women's Wine + Cheese Night
DESCRIPTION:All women from Cool Springs are invited to an evening of wine\, cheese\, and fellowship at the home of Maggie Payne. Bring your favorite bottle or snack to share! Please register here to receive address and additional details.
URL:https://christpres.org/coolsprings/event/womens-wine-cheese-night/
LOCATION:TN
ATTACH;FMTTYPE=image/png:https://christpres.org/wp-content/uploads/2022/09/Wine-Cheese.png
END:VEVENT
BEGIN:VEVENT
DTSTART;TZID=America/Chicago:20220918T084500
DTEND;TZID=America/Chicago:20220918T084500
DTSTAMP:20260420T010720
CREATED:20220901T232715Z
LAST-MODIFIED:20220901T232715Z
UID:10000200-1663490700-1663490700@christpres.org
SUMMARY:Student Bible Study
DESCRIPTION:Students in grades 6–12 will begin their new fall study on Sunday September 18 at 8:45 a.m.. Join us for our study on the Miracles of Jesus. We will meet in Room 108. Sign up for the study here.
URL:https://christpres.org/coolsprings/event/student-bible-study/2022-09-18/
LOCATION:TN
ATTACH;FMTTYPE=image/png:https://christpres.org/wp-content/uploads/2022/08/StudentsBibleStudy.png
END:VEVENT
BEGIN:VEVENT
DTSTART;TZID=America/Chicago:20220918T100000
DTEND;TZID=America/Chicago:20220918T105000
DTSTAMP:20260420T010720
CREATED:20220802T162531Z
LAST-MODIFIED:20220829T162346Z
UID:10000260-1663495200-1663498200@christpres.org
SUMMARY:Kids Ministry Parent Meeting
DESCRIPTION:
URL:https://christpres.org/ohb/event/kids-ministry-parent-meeting/
LOCATION:Soli Deo Center – Christ Presbyterian Academy\, 2323 Old Hickory Blvd\, Nashville\, TN\, 37215
ATTACH;FMTTYPE=image/png:https://christpres.org/wp-content/uploads/2022/08/Parent-Meeting-01.png
END:VEVENT
BEGIN:VEVENT
DTSTART;TZID=America/Chicago:20220918T160000
DTEND;TZID=America/Chicago:20220918T170000
DTSTAMP:20260420T010720
CREATED:20220722T193617Z
LAST-MODIFIED:20220902T145128Z
UID:10000248-1663516800-1663520400@christpres.org
SUMMARY:Congregational Meeting
DESCRIPTION:Join us for our annual church-wide\, all-campus congregational meeting\, during which we will vote on new elders\, deacons\, deaconesses and on releasing Mika Edmondson from his call as associate pastor of CPC so that the Koinonia congregation may pursue particularization. Food trucks will be available after the meeting. Sign up for childcare here. \nTo see a full list of all the nominations for deacon\, deaconess\, and elder\, you can find their pictures and bios here. If you have any questions about any individual candidate\, please reach out to the “Elder Overseeing Candidacy” as listed in their bio.
URL:https://christpres.org/coolsprings/event/congregational-meeting/
LOCATION:Christ Presbyterian Church – Old Hickory Blvd\, 2323 Old Hickory Boulevard\, Nashville\, TN\, 37215\, United States
ATTACH;FMTTYPE=image/png:https://christpres.org/wp-content/uploads/2022/08/Congregational-Meeting_Website.png
END:VEVENT
BEGIN:VEVENT
DTSTART;TZID=America/Chicago:20220920T063000
DTEND;TZID=America/Chicago:20220920T073000
DTSTAMP:20260420T010720
CREATED:20220831T202447Z
LAST-MODIFIED:20220901T232520Z
UID:10000292-1663655400-1663659000@christpres.org
SUMMARY:Men's Biscuits and Bibles
DESCRIPTION:Men from Cool Springs gather every Tuesday morning at 6:30 a.m. to study Scripture together. This study meets every week. All men are invited!
URL:https://christpres.org/coolsprings/event/mens-biscuits-and-bibles/2022-09-20/
LOCATION:Christ Presbyterian Church – Cool Springs\, 325 Seaboard Ln\, Suite 100\, Franklin\, TN\, 37067
ATTACH;FMTTYPE=image/png:https://christpres.org/wp-content/uploads/2022/08/Biscuits-Bibles.png
END:VEVENT
BEGIN:VEVENT
DTSTART;TZID=America/Chicago:20220921T063000
DTEND;TZID=America/Chicago:20220921T074500
DTSTAMP:20260420T010720
CREATED:20220817T212421Z
LAST-MODIFIED:20220818T183402Z
UID:10000168-1663741800-1663746300@christpres.org
SUMMARY:Men's Bible Study
DESCRIPTION:Beginning on Wednesday\, August 24th\, we are starting our CPC Music Row Men’s Bible study. We will meet from 6:30-7:45 am at the office of Barry Simmons in Marathon Village (1200 Clinton Street #233 Nashville\, TN 37203). Matt Walker and I will be co-leading through the Gospel of Mark this fall. We will meet weekly\, and our fall study will run from August 24th to October 5th and then from October 19th through November.
URL:https://christpres.org/musicrow/event/mens-bible-study/2022-09-21/
LOCATION:TN
ATTACH;FMTTYPE=image/png:https://christpres.org/wp-content/uploads/2022/08/Add-a-heading.png
END:VEVENT
BEGIN:VEVENT
DTSTART;TZID=America/Chicago:20220921T190000
DTEND;TZID=America/Chicago:20220921T203000
DTSTAMP:20260420T010720
CREATED:20220817T160404Z
LAST-MODIFIED:20220817T160428Z
UID:10000275-1663786800-1663792200@christpres.org
SUMMARY:Young Professionals
DESCRIPTION:Nashville is a transitory city for many young professionals. We desire Christ Presbyterian Church at Music Row to be a home and landing spot for you to worship\, connect\, and serve. \n\n\n\n\n\nYoung Professionals is a three-month program\, beginning September 7\,  designed to help you integrate into the church and launch you into the city as a follower of Christ. \n\nClick here for more details and to register.
URL:https://christpres.org/musicrow/event/young-professionals-3/
LOCATION:TN
ATTACH;FMTTYPE=image/png:https://christpres.org/wp-content/uploads/2022/08/Nashville-Skyline.png
END:VEVENT
BEGIN:VEVENT
DTSTART;TZID=America/Chicago:20220922T093000
DTEND;TZID=America/Chicago:20220922T093000
DTSTAMP:20260420T010720
CREATED:20220901T232631Z
LAST-MODIFIED:20220901T232631Z
UID:10000192-1663839000-1663839000@christpres.org
SUMMARY:Women's Bible Study
DESCRIPTION:This semester’s women’s Bible study begins on September 22 and lasts 8 weeks. We will be studying the Miracles of Jesus on Thursday mornings from 9:30 – 11:00 a.m. Sign up here.
URL:https://christpres.org/coolsprings/event/womens-bible-study/2022-09-22/
LOCATION:Christ Presbyterian Church – Cool Springs\, 325 Seaboard Ln\, Suite 100\, Franklin\, TN\, 37067
ATTACH;FMTTYPE=image/png:https://christpres.org/wp-content/uploads/2022/08/WomensBibleStudy.png
END:VEVENT
BEGIN:VEVENT
DTSTART;TZID=America/Chicago:20220925T084500
DTEND;TZID=America/Chicago:20220925T084500
DTSTAMP:20260420T010720
CREATED:20220901T232715Z
LAST-MODIFIED:20220901T232715Z
UID:10000201-1664095500-1664095500@christpres.org
SUMMARY:Student Bible Study
DESCRIPTION:Students in grades 6–12 will begin their new fall study on Sunday September 18 at 8:45 a.m.. Join us for our study on the Miracles of Jesus. We will meet in Room 108. Sign up for the study here.
URL:https://christpres.org/coolsprings/event/student-bible-study/2022-09-25/
LOCATION:TN
ATTACH;FMTTYPE=image/png:https://christpres.org/wp-content/uploads/2022/08/StudentsBibleStudy.png
END:VEVENT
BEGIN:VEVENT
DTSTART;TZID=America/Chicago:20220925T100000
DTEND;TZID=America/Chicago:20220925T100000
DTSTAMP:20260420T010720
CREATED:20220901T225846Z
LAST-MODIFIED:20220901T230845Z
UID:10000307-1664100000-1664100000@christpres.org
SUMMARY:Baptism + Joining Sundays
DESCRIPTION:We will have baptisms during the worship service. If you are a member of Christ Presbyterian Church and are interested in having your child baptized on this day\, please reach out to Cool Springs Administrative Assistant Elizabeth McCrina.
URL:https://christpres.org/coolsprings/event/baptism-joining-sundays/2022-09-25/
LOCATION:Christ Presbyterian Church – Cool Springs\, 325 Seaboard Ln\, Suite 100\, Franklin\, TN\, 37067
ATTACH;FMTTYPE=image/png:https://christpres.org/wp-content/uploads/2022/09/Baptism.png
END:VEVENT
BEGIN:VEVENT
DTSTART;TZID=America/Chicago:20220925T100000
DTEND;TZID=America/Chicago:20220925T105000
DTSTAMP:20260420T010720
CREATED:20220906T184652Z
LAST-MODIFIED:20220906T185748Z
UID:10000207-1664100000-1664103000@christpres.org
SUMMARY:First Grade Milestone: What’s So Special About the Bible
DESCRIPTION:Milestones are designed to provide a way to meet and build community with other families in your child’s grade while hearing an age appropriate teaching that also helps equip you in raising your children. So each year\, we will celebrate a special spiritual lesson at each Milestone. We hope these speak to both parents and children and provide an opportunity for families to talk about their faith.
URL:https://christpres.org/ohb/event/first-grade-milestone/
LOCATION:Soli Deo Center – Christ Presbyterian Academy\, 2323 Old Hickory Blvd\, Nashville\, TN\, 37215
ATTACH;FMTTYPE=image/jpeg:https://christpres.org/wp-content/uploads/2022/07/Milestones_First-Grade-scaled.jpg
END:VEVENT
BEGIN:VEVENT
DTSTART;TZID=America/Chicago:20220925T113000
DTEND;TZID=America/Chicago:20220925T133000
DTSTAMP:20260420T010720
CREATED:20220818T171054Z
LAST-MODIFIED:20220822T181424Z
UID:10000179-1664105400-1664112600@christpres.org
SUMMARY:CPC101
DESCRIPTION:Are you interested in learning more about Christ Presbyterian Church and what it means to be a member? CPC101 is a class on our mission\, values\, and core beliefs. Membership is not required once you complete CPC101\, but for those wishing to become members\, participation in CPC101 is a prerequisite. We’ll be hosting CPC101 after the 10 a.m. worship service on Sunday\, September 25. The class lasts two hours\, and lunch and childcare are provided. \n  \nPlease register for CPC101 here. If you have any questions\, please reach out to Erin McCabe. \n  \n 
URL:https://christpres.org/musicrow/event/cpc101/
LOCATION:Scarritt Bennett Center\, 1110 19th Ave S\, Nashville\, TN\, 37209\, United States
ATTACH;FMTTYPE=image/png:https://christpres.org/wp-content/uploads/2022/07/CPC101_Slide-1.png
END:VEVENT
BEGIN:VEVENT
DTSTART;TZID=America/Chicago:20220925T123000
DTEND;TZID=America/Chicago:20220925T140000
DTSTAMP:20260420T010720
CREATED:20220727T171423Z
LAST-MODIFIED:20220920T164248Z
UID:10000246-1664109000-1664114400@christpres.org
SUMMARY:Special Needs Caregiver Picnic
DESCRIPTION:The Special Needs Caregiver Support Group is a group of Christ Presbyterian moms\, dads\, grandparents\, caregivers who share in the joys and challenges of serving our children and adults with learning differences and special needs. \nRegister here.
URL:https://christpres.org/ohb/event/extreme-moms-support-group-picnic/
LOCATION:Christ Presbyterian Church – Old Hickory Blvd\, 2323 Old Hickory Boulevard\, Nashville\, TN\, 37215\, United States
ATTACH;FMTTYPE=image/jpeg:https://christpres.org/wp-content/uploads/2022/09/caregiver-picnic-e1663692133956.jpeg
END:VEVENT
BEGIN:VEVENT
DTSTART;TZID=America/New_York:20220925T173000
DTEND;TZID=America/New_York:20220925T190000
DTSTAMP:20260420T010720
CREATED:20220831T150014Z
LAST-MODIFIED:20220901T133011Z
UID:10000286-1664127000-1664132400@christpres.org
SUMMARY:The Ascent
DESCRIPTION:The Ascent is a group that meets twice a month with a time of fellowship\, amazing worship\, a fun activity\, and a message geared toward adults with special needs. \nVOLUNTEERS NEEDED\nYou can serve by helping provide the meal\, or coming to spend time getting to know the friends! \n\n\n\n\nParticipants and volunteers\, sign up here.\n\n\n  \nMark your calendars for the remaining Ascent events for this school year:\nOctober 9\nOctober 23\nNovember 13\nDecember 11\nJanuary 8\, 2023\nJanuary 22\, 2023\nFebruary 12\, 2023\nFebruary 26\, 2023\nMarch 12\, 2023\nMarch 26\, 2023\nApril 23\, 2023\nMay 7\, 2023
URL:https://christpres.org/ohb/event/the-ascent-2/
LOCATION:Christ Presbyterian Church – Old Hickory Blvd\, 2323 Old Hickory Boulevard\, Nashville\, TN\, 37215\, United States
ATTACH;FMTTYPE=image/jpeg:https://christpres.org/wp-content/uploads/2022/06/TheAscent_FB.jpeg
END:VEVENT
BEGIN:VEVENT
DTSTART;TZID=America/Chicago:20220927T063000
DTEND;TZID=America/Chicago:20220927T073000
DTSTAMP:20260420T010720
CREATED:20220831T202447Z
LAST-MODIFIED:20220901T232520Z
UID:10000293-1664260200-1664263800@christpres.org
SUMMARY:Men's Biscuits and Bibles
DESCRIPTION:Men from Cool Springs gather every Tuesday morning at 6:30 a.m. to study Scripture together. This study meets every week. All men are invited!
URL:https://christpres.org/coolsprings/event/mens-biscuits-and-bibles/2022-09-27/
LOCATION:Christ Presbyterian Church – Cool Springs\, 325 Seaboard Ln\, Suite 100\, Franklin\, TN\, 37067
ATTACH;FMTTYPE=image/png:https://christpres.org/wp-content/uploads/2022/08/Biscuits-Bibles.png
END:VEVENT
BEGIN:VEVENT
DTSTART;TZID=America/Chicago:20220928T063000
DTEND;TZID=America/Chicago:20220928T074500
DTSTAMP:20260420T010720
CREATED:20220817T212421Z
LAST-MODIFIED:20220818T183402Z
UID:10000169-1664346600-1664351100@christpres.org
SUMMARY:Men's Bible Study
DESCRIPTION:Beginning on Wednesday\, August 24th\, we are starting our CPC Music Row Men’s Bible study. We will meet from 6:30-7:45 am at the office of Barry Simmons in Marathon Village (1200 Clinton Street #233 Nashville\, TN 37203). Matt Walker and I will be co-leading through the Gospel of Mark this fall. We will meet weekly\, and our fall study will run from August 24th to October 5th and then from October 19th through November.
URL:https://christpres.org/musicrow/event/mens-bible-study/2022-09-28/
LOCATION:TN
ATTACH;FMTTYPE=image/png:https://christpres.org/wp-content/uploads/2022/08/Add-a-heading.png
END:VEVENT
END:VCALENDAR