BEGIN:VCALENDAR
VERSION:2.0
PRODID:-//Christ Presbyterian Church - ECPv6.15.20//NONSGML v1.0//EN
CALSCALE:GREGORIAN
METHOD:PUBLISH
X-ORIGINAL-URL:https://christpres.org
X-WR-CALDESC:Events for Christ Presbyterian Church
REFRESH-INTERVAL;VALUE=DURATION:PT1H
X-Robots-Tag:noindex
X-PUBLISHED-TTL:PT1H
BEGIN:VTIMEZONE
TZID:America/Chicago
BEGIN:DAYLIGHT
TZOFFSETFROM:-0600
TZOFFSETTO:-0500
TZNAME:CDT
DTSTART:20240310T080000
END:DAYLIGHT
BEGIN:STANDARD
TZOFFSETFROM:-0500
TZOFFSETTO:-0600
TZNAME:CST
DTSTART:20241103T070000
END:STANDARD
BEGIN:DAYLIGHT
TZOFFSETFROM:-0600
TZOFFSETTO:-0500
TZNAME:CDT
DTSTART:20250309T080000
END:DAYLIGHT
BEGIN:STANDARD
TZOFFSETFROM:-0500
TZOFFSETTO:-0600
TZNAME:CST
DTSTART:20251102T070000
END:STANDARD
BEGIN:DAYLIGHT
TZOFFSETFROM:-0600
TZOFFSETTO:-0500
TZNAME:CDT
DTSTART:20260308T080000
END:DAYLIGHT
BEGIN:STANDARD
TZOFFSETFROM:-0500
TZOFFSETTO:-0600
TZNAME:CST
DTSTART:20261101T070000
END:STANDARD
END:VTIMEZONE
BEGIN:VEVENT
DTSTART;TZID=America/Chicago:20250118T080000
DTEND;TZID=America/Chicago:20250118T100000
DTSTAMP:20260420T041424
CREATED:20241218T050354Z
LAST-MODIFIED:20241218T050636Z
UID:10004997-1737187200-1737194400@christpres.org
SUMMARY:Christ Pres Leadership Development Training
DESCRIPTION:Christ Pres’ Leadership Development Training begins mid-January. This training is required for all elder\, deacon\, and deaconess nominees\, although all adults are welcome to attend! This training cycle will be different from years past in that it will largely be self-guided with video supplements; however\, there will be monthly Saturday morning gathering/lectures (breakfast provided) that the participants will be required to attend. The first gathering will be on January 18 at 8:00 a.m. at the Old Hickory Blvd campus. The Saturday sessions are scheduled as follows\, all at 8:00 a.m.: \n\nJanuary 18\nFebruary 15\nMarch 22\nApril 26\nMay 17\n\nThe required reading will mostly center around The Truths We Confess\, by R.C. Sproul\, and the Presbyterian Church in America’s Book of Church Order. You may want to obtain these materials and get a head start on the reading. \nIf you would like to attend the training\, please sign up here no later than January 10\, 2025.
URL:https://christpres.org/event/leadershipdevelopmenttraining2025/
LOCATION:Christ Presbyterian Church – Old Hickory Blvd\, 2323 Old Hickory Boulevard\, Nashville\, TN\, 37215\, United States
ATTACH;FMTTYPE=image/jpeg:https://christpres.org/wp-content/uploads/2024/12/231203_CPC_OHB_0400-X3.jpg
ORGANIZER;CN="Lee Eric Fesko":MAILTO:lfesko@christpres.org
END:VEVENT
BEGIN:VEVENT
DTSTART;TZID=America/Chicago:20250119T120000
DTEND;TZID=America/Chicago:20250119T133000
DTSTAMP:20260420T041424
CREATED:20250103T193805Z
LAST-MODIFIED:20250109T182548Z
UID:10005004-1737288000-1737293400@christpres.org
SUMMARY:4th-7th Grade Girls Bible Study (Launch)
DESCRIPTION:4th-7th grade girls will meet for Bible study every other Sunday beginning on January 19th. We will meet at the Camp’s Home or the Patton’s Home after the 10:30 service. \nRSVP here for more information. 
URL:https://christpres.org/musicrow/event/4th-7th-grade-girls-bible-study-launch/
LOCATION:TN
ATTACH;FMTTYPE=image/jpeg:https://christpres.org/wp-content/uploads/2025/01/MR-Girls-Bible-Study_Website-scaled.jpg
ORGANIZER;CN="Catherine Richardson":MAILTO:crichardson@christpres.org
END:VEVENT
BEGIN:VEVENT
DTSTART;TZID=America/Chicago:20250126T100000
DTEND;TZID=America/Chicago:20250126T103000
DTSTAMP:20260420T041424
CREATED:20250109T202059Z
LAST-MODIFIED:20250109T202059Z
UID:10005005-1737885600-1737887400@christpres.org
SUMMARY:Kids Ministry Serving Partner Training (Music Row)
DESCRIPTION:We will be holding a training for all our Kids Ministry Serving Partners in-between services on January 26! Individuals and families are invited to serve. \n RSVP here.
URL:https://christpres.org/musicrow/event/kids-ministry-serving-partner-training-music-row/
LOCATION:Scarritt Bennett Center\, 1110 19th Ave S\, Nashville\, TN\, 37209\, United States
ATTACH;FMTTYPE=image/jpeg:https://christpres.org/wp-content/uploads/2025/01/MR-Serving-Partner_Website-scaled.jpg
ORGANIZER;CN="Catherine Richardson":MAILTO:crichardson@christpres.org
END:VEVENT
BEGIN:VEVENT
DTSTART;TZID=America/Chicago:20250127T190000
DTEND;TZID=America/Chicago:20250127T203000
DTSTAMP:20260420T041424
CREATED:20250115T005056Z
LAST-MODIFIED:20250423T202200Z
UID:10005007-1738004400-1738009800@christpres.org
SUMMARY:Women's Bible Study (Music Row)
DESCRIPTION:This semester\, the women of Music Row will be studying the Psalms! We’ll be going through the book “Psalms: At His Feet” by Hope Blanton and Christine Gordon. Meetings will be every other Monday beginning January 27th. \nRSVP\, purchase your book\, and receive the address below! \nRSVP here. 
URL:https://christpres.org/musicrow/event/womens-bible-study-music-row/2025-01-27/
LOCATION:TN
ATTACH;FMTTYPE=image/jpeg:https://christpres.org/wp-content/uploads/2025/02/unnamed-2-scaled.jpg
ORGANIZER;CN="Emily McCraw":MAILTO:emccraw@christpres.org
END:VEVENT
BEGIN:VEVENT
DTSTART;TZID=America/Chicago:20250131T130000
DTEND;TZID=America/Chicago:20250131T160000
DTSTAMP:20260420T041424
CREATED:20250127T200647Z
LAST-MODIFIED:20250129T175537Z
UID:10005016-1738328400-1738339200@christpres.org
SUMMARY:Memorial Service & Visitation for Dr. W. Wilson Benton
DESCRIPTION:It is with both sorrow and hope in the Lord that we share the passing of our beloved former interim senior pastor\, Dr. W. Wilson Benton Jr. (1941–2025)\, who entered the presence of his Savior on the morning of January 26 at the age of 83. \nA visitation and service will be held here at Christ Presbyterian Church\, Old Hickory Blvd.\, on Friday afternoon. \n\nService: 1:00-2:00 p.m. – View Service Livestream\nVisitation: 2:00-4:00 p.m.\n\nDr. Benton faithfully served as our interim senior pastor for five consecutive years\, leaving a lasting legacy of wisdom\, compassion\, and Christ-centered leadership in our church community. His decades-long ministry extended beyond Christ Presbyterian Church\, with pastoral service at Covenant Presbyterian Church in Cleveland\, MS\, and Kirk of the Hills Presbyterian Church in St. Louis\, MO. An ordained minister since 1966 and a recipient of a doctorate from the University of Edinburgh\, Wilson’s life reflected a deep commitment to the gospel and a genuine love for God’s people. \nWe extend the sympathy of our congregation to his loving wife\, Pam Benton\, his children Louis Benton\, Paige Brown\, and Laura Pearson\, and his treasured grandchildren. We are comforted by the assurance that Wilson woke to the face of our Lord\, but we lift his family and friends in prayer for peace and guidance during this season of both grief and hope. \nPlease join us as we celebrate Wilson’s life and honor his faithful service to the Lord and His church. To share this event with friends\, please direct them to christpres.org/benton \nVIEW OBITUARY
URL:https://christpres.org/event/memorial-service-visitation-for-dr-w-wilson-benton/
LOCATION:Christ Presbyterian Church – Old Hickory Blvd\, 2323 Old Hickory Boulevard\, Nashville\, TN\, 37215\, United States
ATTACH;FMTTYPE=image/jpeg:https://christpres.org/wp-content/uploads/2025/01/Benton-Funeral-Slide_web.jpg
ORGANIZER;CN="Cheryl Roach":MAILTO:croach@christpres.org
END:VEVENT
END:VCALENDAR