BEGIN:VCALENDAR
VERSION:2.0
PRODID:-//Christ Presbyterian Church - ECPv6.15.20//NONSGML v1.0//EN
CALSCALE:GREGORIAN
METHOD:PUBLISH
X-WR-CALNAME:Christ Presbyterian Church
X-ORIGINAL-URL:https://christpres.org
X-WR-CALDESC:Events for Christ Presbyterian Church
REFRESH-INTERVAL;VALUE=DURATION:PT1H
X-Robots-Tag:noindex
X-PUBLISHED-TTL:PT1H
BEGIN:VTIMEZONE
TZID:America/Chicago
BEGIN:DAYLIGHT
TZOFFSETFROM:-0600
TZOFFSETTO:-0500
TZNAME:CDT
DTSTART:20240310T080000
END:DAYLIGHT
BEGIN:STANDARD
TZOFFSETFROM:-0500
TZOFFSETTO:-0600
TZNAME:CST
DTSTART:20241103T070000
END:STANDARD
BEGIN:DAYLIGHT
TZOFFSETFROM:-0600
TZOFFSETTO:-0500
TZNAME:CDT
DTSTART:20250309T080000
END:DAYLIGHT
BEGIN:STANDARD
TZOFFSETFROM:-0500
TZOFFSETTO:-0600
TZNAME:CST
DTSTART:20251102T070000
END:STANDARD
BEGIN:DAYLIGHT
TZOFFSETFROM:-0600
TZOFFSETTO:-0500
TZNAME:CDT
DTSTART:20260308T080000
END:DAYLIGHT
BEGIN:STANDARD
TZOFFSETFROM:-0500
TZOFFSETTO:-0600
TZNAME:CST
DTSTART:20261101T070000
END:STANDARD
END:VTIMEZONE
BEGIN:VEVENT
DTSTART;TZID=America/Chicago:20250206T183000
DTEND;TZID=America/Chicago:20250206T200000
DTSTAMP:20260419T130218
CREATED:20250114T230551Z
LAST-MODIFIED:20250114T230551Z
UID:10005006-1738866600-1738872000@christpres.org
SUMMARY:Smart Giving Workshop – Presented by the PCA Foundation
DESCRIPTION:We are excited to host a Smart Giving Workshop\, provided by the PCA Foundation. At this workshop\, held in the Window Room at our Old Hickory Blvd campus\, an experienced gift strategist (Sheldon Norhues) will provide an introduction to estate planning concepts and tools\, and show participants how to maximize how much they can give for Kingdom impact by employing tax efficient giving strategies.
URL:https://christpres.org/event/smart-giving-workshop-presented-by-the-pca-foundation/
LOCATION:Christ Presbyterian Church – Old Hickory Blvd\, 2323 Old Hickory Boulevard\, Nashville\, TN\, 37215\, United States
ATTACH;FMTTYPE=image/png:https://christpres.org/wp-content/uploads/2025/01/Screenshot-2025-01-14-at-4.58.44 PM.png
ORGANIZER;CN="Kevin Russell":MAILTO:krussell@christpres.org
END:VEVENT
BEGIN:VEVENT
DTSTART;TZID=America/Chicago:20250207T170000
DTEND;TZID=America/Chicago:20250207T190000
DTSTAMP:20260419T130218
CREATED:20250102T181953Z
LAST-MODIFIED:20250122T221217Z
UID:10005002-1738947600-1738954800@christpres.org
SUMMARY:Churchwide Bowling Night (Music Row)
DESCRIPTION:All Music Row members and guests are invited to join us for an evening of bowling! We’ll meet at Tusculum Strike and Spare for plenty of fun and games. Lanes will be reserved\, but families will be responsible for shoe rentals. \nSign up here. 
URL:https://christpres.org/musicrow/event/family-bowling-night-music-row/
LOCATION:Tusculum Strike and Spare\, 5315 Nolensville Rd\, Nashville\, 37211\, United States
ATTACH;FMTTYPE=image/jpeg:https://christpres.org/wp-content/uploads/2025/01/MR-Bowling-Night_Website-copy-scaled.jpg
ORGANIZER;CN="Catherine Richardson":MAILTO:crichardson@christpres.org
END:VEVENT
BEGIN:VEVENT
DTSTART;TZID=America/Chicago:20250209T170000
DTEND;TZID=America/Chicago:20250209T220000
DTSTAMP:20260419T130218
CREATED:20250115T005707Z
LAST-MODIFIED:20250115T005707Z
UID:10005014-1739120400-1739138400@christpres.org
SUMMARY:Young Adults Football Watch Party (Music Row)
DESCRIPTION:All Young Professionals are invited to watch the big football game at Jayme and Barry Simmons’s house on February 9 at 5 p.m. The main dish and drinks will be provided. Please bring your favorite side dish or dessert to share! \nPlease complete this RSVP form\, and we’ll follow up with Jayme and Barry’s address in East Nashville.
URL:https://christpres.org/musicrow/event/young-adults-football-watch-party-music-row/
LOCATION:TN
ATTACH;FMTTYPE=image/jpeg:https://christpres.org/wp-content/uploads/2025/01/Young-Adults-Football-Watch-Party_Slide-scaled.jpg
ORGANIZER;CN="Emily McCraw":MAILTO:emccraw@christpres.org
END:VEVENT
BEGIN:VEVENT
DTSTART;TZID=America/Chicago:20250210T190000
DTEND;TZID=America/Chicago:20250210T203000
DTSTAMP:20260419T130218
CREATED:20250115T005056Z
LAST-MODIFIED:20250423T202200Z
UID:10005008-1739214000-1739219400@christpres.org
SUMMARY:Women's Bible Study (Music Row)
DESCRIPTION:This semester\, the women of Music Row will be studying the Psalms! We’ll be going through the book “Psalms: At His Feet” by Hope Blanton and Christine Gordon. Meetings will be every other Monday beginning January 27th. \nRSVP\, purchase your book\, and receive the address below! \nRSVP here. 
URL:https://christpres.org/musicrow/event/womens-bible-study-music-row/2025-02-10/
LOCATION:TN
ATTACH;FMTTYPE=image/jpeg:https://christpres.org/wp-content/uploads/2025/02/unnamed-2-scaled.jpg
ORGANIZER;CN="Emily McCraw":MAILTO:emccraw@christpres.org
END:VEVENT
BEGIN:VEVENT
DTSTART;TZID=America/Chicago:20250224T190000
DTEND;TZID=America/Chicago:20250224T203000
DTSTAMP:20260419T130218
CREATED:20250115T005056Z
LAST-MODIFIED:20250423T202200Z
UID:10005009-1740423600-1740429000@christpres.org
SUMMARY:Women's Bible Study (Music Row)
DESCRIPTION:This semester\, the women of Music Row will be studying the Psalms! We’ll be going through the book “Psalms: At His Feet” by Hope Blanton and Christine Gordon. Meetings will be every other Monday beginning January 27th. \nRSVP\, purchase your book\, and receive the address below! \nRSVP here. 
URL:https://christpres.org/musicrow/event/womens-bible-study-music-row/2025-02-24/
LOCATION:TN
ATTACH;FMTTYPE=image/jpeg:https://christpres.org/wp-content/uploads/2025/02/unnamed-2-scaled.jpg
ORGANIZER;CN="Emily McCraw":MAILTO:emccraw@christpres.org
END:VEVENT
BEGIN:VEVENT
DTSTART;TZID=America/Chicago:20250225T190000
DTEND;TZID=America/Chicago:20250225T203000
DTSTAMP:20260419T130218
CREATED:20241212T155048Z
LAST-MODIFIED:20250218T145401Z
UID:10004848-1740510000-1740515400@christpres.org
SUMMARY:Mom's Dinner (Music Row)
DESCRIPTION:Moms of Music Row – join us for a dinner and a night of encouragement at the home of Jenny Cleckner! Please RSVP and receive the address below. \nWe will meet four times over the course of the year on Monday nights: October 7\, November 11\, February 25\, and April 29 at 7 p.m. \nRSVP here. 
URL:https://christpres.org/musicrow/event/moms-dinner-music-row-2-25/
LOCATION:TN
ATTACH;FMTTYPE=image/jpeg:https://christpres.org/wp-content/uploads/2025/02/MR-Moms-Bible-Study-2024_Slide-06-2.jpg
ORGANIZER;CN="Catherine Richardson":MAILTO:crichardson@christpres.org
END:VEVENT
END:VCALENDAR